{"text_format":"1","workbook":"xlsx","n_sheets":3,"sheets":["code2","入力","集計"],"not_rendered":{"charts":0,"images":2,"macros":1,"external_links":0,"defined_names":8,"comments":0,"pivot_tables":0},"unopened":[],"bounds":{"document_bytes":16777216,"sheet_cells":100000,"rows_first":2000,"rows_last":500,"rows_between":2000,"halvings":0,"cell_chars":16384,"cell_head_chars":4096},"cells_cut":0,"cells_raw":0,"read":"whole","date_system":"1900"}

{"sheet":"code2","index":0,"n_rows":36,"n_cols":7,"rows_kept":36,"cut":false,"hidden":false,"merged":[]}
[]
[]
["code","科目","細目"]
[100,"寄付金"]
[110,"助成金"]
[120,"受取利息"]
[130,"雑収入"]
[200,"事務費","文具代"]
[210,"地代・家賃","家賃","駐車場代"]
[220,"車両費","ガソリン代","保険","車検費用","修理費","駐車場代"]
[230,"人件費"]
[240,"法定福利費"]
[250,"水道光熱費"]
[260,"通信費"]
[270,"器具備品費"]
[280,"消耗品費"]
[290,"印刷費"]
[300,"会議費"]
[310,"修繕費"]
[320,"旅費交通費"]
[330,"支援費","支援用物資購入","支援費支給","食糧費"]
[340,"雑費"]
[400,"銀行入金"]
[410,"銀行払戻"]
[500,"立替金"]
[510,"立替金返金"]
[600,"本会計より振込口座へ"]
[610,"振込口座より本会計へ"]
[]
[]
[]
[]
[]
[]
[]
[null,null,null,null," "]

{"sheet":"入力","index":1,"n_rows":1660,"n_cols":24,"rows_kept":1660,"cut":false,"hidden":false,"merged":[[0,19,3,25]]}
[null,null,null," ",null,null,null,null,null,"現金",null,null,"通帳1",null,null,"郵便振替",null,null,null,"ここから下は、一切触らないでください！"]
[]
[null,null,null,"被災地障害者センターくまもと会計",null,null,null,null,null,null,null,{"$f":"L1347","v":0},null,"現在高",{"$f":"O1347","v":0},null,"現在高",{"$f":"R1347","v":0},{"$f":"S1347","v":0}]
["日付","曜日","cod","　科　目","細目","適用","入金額","出金額","種別",null,null,null,"入金","出金","残高","入金","出金","残高","現金＋預金"]
[null,null,null,{"$f":"IF(C5=\"\",\"\",(VLOOKUP(C5,code2!$A$4:$B$30,2)))","v":""},null,null,null,null,null,{"$f":"IF(I5=\"現金\",G5,\"\")","v":""},{"$f":"IF(I5=\"現金\",H5,\"\")","v":""},0,{"$f":"IF(I5=\"通帳\",G5,\"\")","v":""},{"$f":"IF(I5=\"通帳\",H5,\"\")","v":""},0,{"$f":"IF(I5=\"郵便振替\",G5,\"\")","v":""},{"$f":"IF(I5=\"郵便振替\",H5,\"\")","v":""},0,{"$f":"L5+O5+R5","v":0},null,null,null,{"$f":"MONTH(A5)&\"-\"&D5&E5","v":"1-"}]
[null,null,null,null,null,null,null,null,null,{"$f":"IF(I6=\"現金\",G6,\"\")","v":""},{"$f":"IF(I6=\"現金\",H6,\"\")","v":""},{"$f":"IF(J6&K6=\"\",L5,L5+J6-K6)","v":0},{"$f":"IF(I6=\"通帳\",G6,\"\")","v":""},{"$f":"IF(I6=\"通帳\",H6,\"\")","v":""},{"$f":"IF(M6&N6=\"\",O5,O5+M6-N6)","v":0},{"$f":"IF(I6=\"郵便振替\",G6,\"\")","v":""},{"$f":"IF(I6=\"郵便振替\",H6,\"\")","v":""},{"$f":"IF(P6&Q6=\"\",R5,R5+P6-Q6)","v":0},{"$f":"L6+O6+R6","v":0},null,null,null,{"$f":"MONTH(A6)&\"-\"&D6&E6","v":"1-"}]
[null,{"$f":"IF(A7=\"\",\"\",A7)","v":""},null,{"$f":"IF(C7=\"\",\"\",(VLOOKUP(C7,code2!$A$4:$B$30,2)))","v":""},null,null,null,null,null,"","",0,"","",0,"","",{"$f":"IF(P7&Q7=\"\",R6,R6+P7-Q7)","v":0},0,null,null,null,"1-"]
[null,null,null,{"$f":"IF(C8=\"\",\"\",(VLOOKUP(C8,code2!$A$4:$B$30,2)))","v":""},null,null,null,null,null,{"$f":"IF(I8=\"現金\",G8,\"\")","v":""},{"$f":"IF(I8=\"現金\",H8,\"\")","v":""},0,"","",0,"","",{"$f":"IF(P8&Q8=\"\",R7,R7+P8-Q8)","v":0},{"$f":"L8+O8+R8","v":0},null,null,null,{"$f":"MONTH(A8)&\"-\"&D8","v":"1-"},{"$f":"MONTH(A8)&\"-\"&D8&E8","v":"1-"}]
[null,"",null,{"$f":"IF(C9=\"\",\"\",(VLOOKUP(C9,code2!$A$4:$B$30,2)))","v":""},null,null,null,null,null,"","",0,"","",0,"","",0,0,null,null,null,"1-","1-"]
[null,"",null,{"$f":"IF(C10=\"\",\"\",(VLOOKUP(C10,code2!$A$4:$B$30,2)))","v":""},null,null,null,null,null,"","",0,"","",0,"","",{"$f":"IF(P10&Q10=\"\",R9,R9+P10-Q10)","v":0},{"$f":"L10+O10+R10","v":0},null,null,null,{"$f":"MONTH(A10)&\"-\"&D10","v":"1-"},{"$f":"MONTH(A10)&\"-\"&D10&E10","v":"1-"}]
[null,"",null,{"$f":"IF(C11=\"\",\"\",(VLOOKUP(C11,code2!$A$4:$B$30,2)))","v":""},null,null,null,null,null,"","",0,"","",0,"","",0,0,null,null,null,{"$f":"MONTH(A11)&\"-\"&D11","v":"1-"},{"$f":"MONTH(A11)&\"-\"&D11&E11","v":"1-"}]
[null,"",null,{"$f":"IF(C12=\"\",\"\",(VLOOKUP(C12,code2!$A$4:$B$30,2)))","v":""},null,null,null,null,null,"","",0,{"$f":"IF(I12=\"通帳\",G12,\"\")","v":""},{"$f":"IF(I12=\"通帳\",H12,\"\")","v":""},0,"","",0,0,null,null,null,"1-","1-"]
[null,"",null,{"$f":"IF(C13=\"\",\"\",(VLOOKUP(C13,code2!$A$4:$B$30,2)))","v":""},null,null,null,null,null,"","",0,"","",0,"","",0,0,null,null,null,"1-","1-"]
[null,"",null,{"$f":"IF(C14=\"\",\"\",(VLOOKUP(C14,code2!$A$4:$B$30,2)))","v":""},null,null,null,null,null,"","",0,"","",0,"","",0,0,null,null,null,"1-","1-"]
[null,"",null,{"$f":"IF(C15=\"\",\"\",(VLOOKUP(C15,code2!$A$4:$B$30,2)))","v":""},null,null,null,null,null,"","",0,"","",0,"","",0,0,null,null,null,"1-","1-"]
[null,"",null,{"$f":"IF(C16=\"\",\"\",(VLOOKUP(C16,code2!$A$4:$B$30,2)))","v":""},null,null,null,null,null,"","",0,"","",0,"","",0,0,null,null,null,"1-","1-"]
[null,"",null,{"$f":"IF(C17=\"\",\"\",(VLOOKUP(C17,code2!$A$4:$B$30,2)))","v":""},null,null,null,null,null,"","",0,"","",0,"","",0,0,null,null,null,"1-","1-"]
[null,"",null,{"$f":"IF(C18=\"\",\"\",(VLOOKUP(C18,code2!$A$4:$B$30,2)))","v":""},null,null,null,null,null,"","",0,"","",0,{"$f":"IF(I18=\"郵便振替\",G18,\"\")","v":""},{"$f":"IF(I18=\"郵便振替\",H18,\"\")","v":""},0,0,null,null,null,"1-","1-"]
[null,"",null,{"$f":"IF(C19=\"\",\"\",(VLOOKUP(C19,code2!$A$4:$B$30,2)))","v":""},null,null,null,null,null,"","",0,"","",0,"","",0,0,null,null,null,"1-","1-"]
[null,"",null,{"$f":"IF(C20=\"\",\"\",(VLOOKUP(C20,code2!$A$4:$B$30,2)))","v":""},null,null,null,null,null,"","",0,"","",0,"","",0,0,null,null,null,"1-","1-"]
[null,"",null,{"$f":"IF(C21=\"\",\"\",(VLOOKUP(C21,code2!$A$4:$B$30,2)))","v":""},null,null,null,null,null,"","",0,"","",0,"","",0,0,null,null,null,"1-","1-"]
[null,"",null,{"$f":"IF(C22=\"\",\"\",(VLOOKUP(C22,code2!$A$4:$B$30,2)))","v":""},null,null,null,null,null,"","",0,"","",0,"","",0,0,null,null,null,"1-","1-"]
[null,"",null,{"$f":"IF(C23=\"\",\"\",(VLOOKUP(C23,code2!$A$4:$B$30,2)))","v":""},null,null,null,null,null,"","",0,"","",0,"","",0,0,null,null,null,"1-","1-"]
[null,"",null,{"$f":"IF(C24=\"\",\"\",(VLOOKUP(C24,code2!$A$4:$B$30,2)))","v":""},null,null,null,null,null,"","",0,"","",0,"","",0,0,null,null,null,"1-","1-"]
[null,"",null,{"$f":"IF(C25=\"\",\"\",(VLOOKUP(C25,code2!$A$4:$B$30,2)))","v":""},null,null,null,null,null,"","",0,"","",0,"","",0,0,null,null,null,"1-","1-"]
[null,"",null,{"$f":"IF(C26=\"\",\"\",(VLOOKUP(C26,code2!$A$4:$B$30,2)))","v":""},null,null,null,null,null,"","",0,"","",0,"","",0,0,null,null,null,"1-","1-"]
[null,"",null,{"$f":"IF(C27=\"\",\"\",(VLOOKUP(C27,code2!$A$4:$B$30,2)))","v":""},null,null,null,null,null,"","",0,"","",0,"","",0,0,null,null,null,{"$f":"MONTH(A27)&\"-\"&D27","v":"1-"},{"$f":"MONTH(A27)&\"-\"&D27&E27","v":"1-"}]
[null,"",null,{"$f":"IF(C28=\"\",\"\",(VLOOKUP(C28,code2!$A$4:$B$30,2)))","v":""},null,null,null,null,null,"","",0,"","",0,"","",0,0,null,null,null,"1-","1-"]
[null,"",null,{"$f":"IF(C29=\"\",\"\",(VLOOKUP(C29,code2!$A$4:$B$30,2)))","v":""},null,null,null,null,null,"","",0,"","",0,"","",0,0,null,null,null,"1-","1-"]
[null,"",null,{"$f":"IF(C30=\"\",\"\",(VLOOKUP(C30,code2!$A$4:$B$30,2)))","v":""},null,null,null,null,null,"","",0,"","",0,"","",0,0,null,null,null,"1-","1-"]
[null,"",null,{"$f":"IF(C31=\"\",\"\",(VLOOKUP(C31,code2!$A$4:$B$30,2)))","v":""},null,null,null,null,null,"","",0,"","",0,"","",0,0,null,null,null,"1-","1-"]
[null,"",null,{"$f":"IF(C32=\"\",\"\",(VLOOKUP(C32,code2!$A$4:$B$30,2)))","v":""},null,null,null,null,null,"","",0,"","",0,"","",0,0,null,null,null,"1-","1-"]
[null,"",null,{"$f":"IF(C33=\"\",\"\",(VLOOKUP(C33,code2!$A$4:$B$30,2)))","v":""},null,null,null,null,null,"","",0,"","",0,"","",0,0,null,null,null,"1-","1-"]
[null,"",null,{"$f":"IF(C34=\"\",\"\",(VLOOKUP(C34,code2!$A$4:$B$30,2)))","v":""},null,null,null,null,null,"","",0,"","",0,"","",0,0,null,null,null,"1-","1-"]
[null,"",null,{"$f":"IF(C35=\"\",\"\",(VLOOKUP(C35,code2!$A$4:$B$30,2)))","v":""},null,null,null,null,null,"","",0,"","",0,"","",0,0,null,null,null,{"$f":"MONTH(A35)&\"-\"&D35","v":"1-"},{"$f":"MONTH(A35)&\"-\"&D35&E35","v":"1-"}]
[null,"",null,{"$f":"IF(C36=\"\",\"\",(VLOOKUP(C36,code2!$A$4:$B$30,2)))","v":""},null,null,null,null,null,"","",0,"","",0,"","",0,0,null,null,null,"1-","1-"]
[null,"",null,{"$f":"IF(C37=\"\",\"\",(VLOOKUP(C37,code2!$A$4:$B$30,2)))","v":""},null,null,null,null,null,"","",0,"","",0,"","",0,0,null,null,null,{"$f":"MONTH(A37)&\"-\"&D37","v":"1-"},{"$f":"MONTH(A37)&\"-\"&D37&E37","v":"1-"}]
[null,"",null,{"$f":"IF(C38=\"\",\"\",(VLOOKUP(C38,code2!$A$4:$B$30,2)))","v":""},null,null,null,null,null,"","",0,"","",0,"","",0,0,null,null,null,"1-","1-"]
[null,"",null,{"$f":"IF(C39=\"\",\"\",(VLOOKUP(C39,code2!$A$4:$B$30,2)))","v":""},null,null,null,null,null,"","",0,"","",0,"","",0,0,null,null,null,"1-","1-"]
[null,"",null,{"$f":"IF(C40=\"\",\"\",(VLOOKUP(C40,code2!$A$4:$B$30,2)))","v":""},null,null,null,null,null,"","",0,"","",0,"","",0,0,null,null,null,"1-","1-"]
[null,"",null,{"$f":"IF(C41=\"\",\"\",(VLOOKUP(C41,code2!$A$4:$B$30,2)))","v":""},null,null,null,null,null,"","",0,"","",0,"","",0,0,null,null,null,"1-","1-"]
[null,"",null,{"$f":"IF(C42=\"\",\"\",(VLOOKUP(C42,code2!$A$4:$B$30,2)))","v":""},null,null,null,null,null,"","",0,"","",0,"","",0,0,null,null,null,"1-","1-"]
[null,"",null,{"$f":"IF(C43=\"\",\"\",(VLOOKUP(C43,code2!$A$4:$B$30,2)))","v":""},null,null,null,null,null,"","",0,"","",0,"","",0,0,null,null,null,"1-","1-"]
[null,"",null,{"$f":"IF(C44=\"\",\"\",(VLOOKUP(C44,code2!$A$4:$B$30,2)))","v":""},null,null,null,null,null,"","",0,"","",0,"","",0,0,null,null,null,"1-","1-"]
[null,"",null,{"$f":"IF(C45=\"\",\"\",(VLOOKUP(C45,code2!$A$4:$B$30,2)))","v":""},null,null,null,null,null,"","",0,"","",0,"","",0,0,null,null,null,"1-","1-"]
[null,"",null,{"$f":"IF(C46=\"\",\"\",(VLOOKUP(C46,code2!$A$4:$B$30,2)))","v":""},null,null,null,null,null,"","",0,"","",0,"","",0,0,null,null,null,"1-","1-"]
[null,"",null,{"$f":"IF(C47=\"\",\"\",(VLOOKUP(C47,code2!$A$4:$B$30,2)))","v":""},null,null,null,null,null,"","",0,"","",0,"","",0,0,null,null,null,{"$f":"MONTH(A47)&\"-\"&D47","v":"1-"},{"$f":"MONTH(A47)&\"-\"&D47&E47","v":"1-"}]
[null,"",null,{"$f":"IF(C48=\"\",\"\",(VLOOKUP(C48,code2!$A$4:$B$30,2)))","v":""},null,null,null,null,null,"","",0,"","",0,"","",0,0,null,null,null,"1-","1-"]
[null,"",null,{"$f":"IF(C49=\"\",\"\",(VLOOKUP(C49,code2!$A$4:$B$30,2)))","v":""},null,null,null,null,null,"","",0,"","",0,"","",0,0,null,null,null,{"$f":"MONTH(A49)&\"-\"&D49","v":"1-"},{"$f":"MONTH(A49)&\"-\"&D49&E49","v":"1-"}]
[null,"",null,{"$f":"IF(C50=\"\",\"\",(VLOOKUP(C50,code2!$A$4:$B$30,2)))","v":""},null,null,null,null,null,"","",0,"","",0,"","",0,0,null,null,null,"1-","1-"]
[null,"",null,{"$f":"IF(C51=\"\",\"\",(VLOOKUP(C51,code2!$A$4:$B$30,2)))","v":""},null,null,null,null,null,"","",0,"","",0,"","",0,0,null,null,null,"1-","1-"]
[null,"",null,{"$f":"IF(C52=\"\",\"\",(VLOOKUP(C52,code2!$A$4:$B$30,2)))","v":""},null,null,null,null,null,"","",0,"","",0,"","",0,0,null,null,null,"1-","1-"]
[null,"",null,{"$f":"IF(C53=\"\",\"\",(VLOOKUP(C53,code2!$A$4:$B$30,2)))","v":""},null,null,null,null,null,"","",0,"","",0,"","",0,0,null,null,null,"1-","1-"]
[null,"",null,{"$f":"IF(C54=\"\",\"\",(VLOOKUP(C54,code2!$A$4:$B$30,2)))","v":""},null,null,null,null,null,"","",0,"","",0,"","",0,0,null,null,null,"1-","1-"]
[null,"",null,{"$f":"IF(C55=\"\",\"\",(VLOOKUP(C55,code2!$A$4:$B$30,2)))","v":""},null,null,null,null,null,"","",0,"","",0,"","",0,0,null,null,null,"1-","1-"]
[null,"",null,{"$f":"IF(C56=\"\",\"\",(VLOOKUP(C56,code2!$A$4:$B$30,2)))","v":""},null,null,null,null,null,"","",0,"","",0,"","",0,0,null,null,null,"1-","1-"]
[null,"",null,{"$f":"IF(C57=\"\",\"\",(VLOOKUP(C57,code2!$A$4:$B$30,2)))","v":""},null,null,null,null,null,"","",0,"","",0,"","",0,0,null,null,null,"1-","1-"]
[null,"",null,{"$f":"IF(C58=\"\",\"\",(VLOOKUP(C58,code2!$A$4:$B$30,2)))","v":""},null,null,null,null,null,"","",0,"","",0,"","",0,0,null,null,null,"1-","1-"]
[null,"",null,{"$f":"IF(C59=\"\",\"\",(VLOOKUP(C59,code2!$A$4:$B$30,2)))","v":""},null,null,null,null,null,"","",0,"","",0,"","",0,0,null,null,null,"1-","1-"]
[null,"",null,{"$f":"IF(C60=\"\",\"\",(VLOOKUP(C60,code2!$A$4:$B$30,2)))","v":""},null,null,null,null,null,"","",0,"","",0,"","",0,0,null,null,null,"1-","1-"]
[null,"",null,{"$f":"IF(C61=\"\",\"\",(VLOOKUP(C61,code2!$A$4:$B$30,2)))","v":""},null,null,null,null,null,"","",0,"","",0,"","",0,0,null,null,null,"1-","1-"]
[null,"",null,{"$f":"IF(C62=\"\",\"\",(VLOOKUP(C62,code2!$A$4:$B$30,2)))","v":""},null,null,null,null,null,"","",0,"","",0,"","",0,0,null,null,null,"1-","1-"]
[null,"",null,{"$f":"IF(C63=\"\",\"\",(VLOOKUP(C63,code2!$A$4:$B$30,2)))","v":""},null,null,null,null,null,"","",0,"","",0,"","",0,0,null,null,null,"1-","1-"]
[null,"",null,{"$f":"IF(C64=\"\",\"\",(VLOOKUP(C64,code2!$A$4:$B$30,2)))","v":""},null,null,null,null,null,"","",0,"","",0,"","",0,0,null,null,null,"1-","1-"]
[null,"",null,{"$f":"IF(C65=\"\",\"\",(VLOOKUP(C65,code2!$A$4:$B$30,2)))","v":""},null,null,null,null,null,"","",0,"","",0,"","",0,0,null,null,null,{"$f":"MONTH(A65)&\"-\"&D65","v":"1-"},{"$f":"MONTH(A65)&\"-\"&D65&E65","v":"1-"}]
[null,"",null,{"$f":"IF(C66=\"\",\"\",(VLOOKUP(C66,code2!$A$4:$B$30,2)))","v":""},null,null,null,null,null,"","",0,"","",0,"","",0,0,null,null,null,"1-","1-"]
[null,"",null,{"$f":"IF(C67=\"\",\"\",(VLOOKUP(C67,code2!$A$4:$B$30,2)))","v":""},null,null,null,null,null,"","",0,"","",0,"","",0,0,null,null,null,"1-","1-"]
[null,"",null,{"$f":"IF(C68=\"\",\"\",(VLOOKUP(C68,code2!$A$4:$B$30,2)))","v":""},null,null,null,null,null,"","",0,"","",0,"","",0,0,null,null,null,"1-","1-"]
[null,{"$f":"IF(A69=\"\",\"\",A69)","v":""},null,{"$f":"IF(C69=\"\",\"\",(VLOOKUP(C69,code2!$A$4:$B$30,2)))","v":""},null,null,null,null,null,"","",0,"","",0,"","",0,0,null,null,null,"1-","1-"]
[null,"",null,{"$f":"IF(C70=\"\",\"\",(VLOOKUP(C70,code2!$A$4:$B$30,2)))","v":""},null,null,null,null,null,"","",0,"","",0,"","",{"$f":"IF(P70&Q70=\"\",R69,R69+P70-Q70)","v":0},0,null,null,null,"1-","1-"]
[null,"",null,{"$f":"IF(C71=\"\",\"\",(VLOOKUP(C71,code2!$A$4:$B$30,2)))","v":""},null,null,null,null,null,{"$f":"IF(I71=\"現金\",G71,\"\")","v":""},{"$f":"IF(I71=\"現金\",H71,\"\")","v":""},{"$f":"IF(J71&K71=\"\",L70,L70+J71-K71)","v":0},{"$f":"IF(I71=\"通帳\",G71,\"\")","v":""},{"$f":"IF(I71=\"通帳\",H71,\"\")","v":""},{"$f":"IF(M71&N71=\"\",O70,O70+M71-N71)","v":0},{"$f":"IF(I71=\"郵便振替\",G71,\"\")","v":""},{"$f":"IF(I71=\"郵便振替\",H71,\"\")","v":""},0,0,null,null,null,"1-","1-"]
[null,"",null,{"$f":"IF(C72=\"\",\"\",(VLOOKUP(C72,code2!$A$4:$B$30,2)))","v":""},null,null,null,null,null,"","",0,"","",0,"","",0,{"$f":"L72+O72+R72","v":0},null,null,null,"1-","1-"]
[null,"",null,{"$f":"IF(C73=\"\",\"\",(VLOOKUP(C73,code2!$A$4:$B$30,2)))","v":""},null,null,null,null,null,"","",0,"","",0,"","",0,0,null,null,null,"1-","1-"]
[null,"",null,{"$f":"IF(C74=\"\",\"\",(VLOOKUP(C74,code2!$A$4:$B$30,2)))","v":""},null,null,null,null,null,"","",0,"","",0,"","",0,0,null,null,null,{"$f":"MONTH(A74)&\"-\"&D74","v":"1-"},{"$f":"MONTH(A74)&\"-\"&D74&E74","v":"1-"}]
[null,"",null,{"$f":"IF(C75=\"\",\"\",(VLOOKUP(C75,code2!$A$4:$B$30,2)))","v":""},null,null,null,null,null,"","",0,"","",0,"","",0,0,null,null,null,"1-","1-"]
[null,"",null,{"$f":"IF(C76=\"\",\"\",(VLOOKUP(C76,code2!$A$4:$B$30,2)))","v":""},null,null,null,null,null,"","",0,"","",0,"","",0,0,null,null,null,"1-","1-"]
[null,"",null,{"$f":"IF(C77=\"\",\"\",(VLOOKUP(C77,code2!$A$4:$B$30,2)))","v":""},null,null,null,null,null,"","",0,"","",0,"","",0,0,null,null,null,"1-","1-"]
[null,"",null,{"$f":"IF(C78=\"\",\"\",(VLOOKUP(C78,code2!$A$4:$B$30,2)))","v":""},null,null,null,null,null,"","",0,"","",0,"","",0,0,null,null,null,"1-","1-"]
[null,"",null,{"$f":"IF(C79=\"\",\"\",(VLOOKUP(C79,code2!$A$4:$B$30,2)))","v":""},null,null,null,null,null,"","",0,"","",0,"","",0,0,null,null,null,"1-","1-"]
[null,"",null,{"$f":"IF(C80=\"\",\"\",(VLOOKUP(C80,code2!$A$4:$B$30,2)))","v":""},null,null,null,null,null,"","",0,"","",0,"","",0,0,null,null,null,"1-","1-"]
[null,"",null,{"$f":"IF(C81=\"\",\"\",(VLOOKUP(C81,code2!$A$4:$B$30,2)))","v":""},null,null,null,null,null,"","",0,"","",0,"","",0,0,null,null,null,"1-","1-"]
[null,"",null,{"$f":"IF(C82=\"\",\"\",(VLOOKUP(C82,code2!$A$4:$B$30,2)))","v":""},null,null,null,null,null,"","",0,"","",0,"","",0,0,null,null,null,"1-","1-"]
[null,"",null,{"$f":"IF(C83=\"\",\"\",(VLOOKUP(C83,code2!$A$4:$B$30,2)))","v":""},null,null,null,null,null,"","",0,"","",0,"","",0,0,null,null,null,"1-","1-"]
[null,"",null,{"$f":"IF(C84=\"\",\"\",(VLOOKUP(C84,code2!$A$4:$B$30,2)))","v":""},null,null,null,null,null,"","",0,"","",0,"","",0,0,null,null,null,"1-","1-"]
[null,"",null,{"$f":"IF(C85=\"\",\"\",(VLOOKUP(C85,code2!$A$4:$B$30,2)))","v":""},null,null,null,null,null,"","",0,"","",0,"","",0,0,null,null,null,"1-","1-"]
[null,"",null,{"$f":"IF(C86=\"\",\"\",(VLOOKUP(C86,code2!$A$4:$B$30,2)))","v":""},null,null,null,null,null,"","",0,"","",0,"","",0,0,null,null,null,"1-","1-"]
[null,"",null,{"$f":"IF(C87=\"\",\"\",(VLOOKUP(C87,code2!$A$4:$B$30,2)))","v":""},null,null,null,null,null,"","",0,"","",0,"","",0,0,null,null,null,"1-","1-"]
[null,"",null,{"$f":"IF(C88=\"\",\"\",(VLOOKUP(C88,code2!$A$4:$B$30,2)))","v":""},null,null,null,null,null,"","",0,"","",0,"","",0,0,null,null,null,"1-","1-"]
[null,"",null,{"$f":"IF(C89=\"\",\"\",(VLOOKUP(C89,code2!$A$4:$B$30,2)))","v":""},null,null,null,null,null,"","",0,"","",0,"","",0,0,null,null,null,"1-","1-"]
[null,"",null,{"$f":"IF(C90=\"\",\"\",(VLOOKUP(C90,code2!$A$4:$B$30,2)))","v":""},null,null,null,null,null,"","",0,"","",0,"","",0,0,null,null,null,"1-","1-"]
[null,"",null,{"$f":"IF(C91=\"\",\"\",(VLOOKUP(C91,code2!$A$4:$B$30,2)))","v":""},null,null,null,null,null,"","",0,"","",0,"","",0,0,null,null,null,"1-","1-"]
[null,"",null,{"$f":"IF(C92=\"\",\"\",(VLOOKUP(C92,code2!$A$4:$B$30,2)))","v":""},null,null,null,null,null,"","",0,"","",0,"","",0,0,null,null,null,"1-","1-"]
[null,"",null,{"$f":"IF(C93=\"\",\"\",(VLOOKUP(C93,code2!$A$4:$B$30,2)))","v":""},null,null,null,null,null,"","",0,"","",0,"","",0,0,null,null,null,"1-","1-"]
[null,"",null,{"$f":"IF(C94=\"\",\"\",(VLOOKUP(C94,code2!$A$4:$B$30,2)))","v":""},null,null,null,null,null,"","",0,"","",0,"","",0,0,null,null,null,"1-","1-"]
[null,"",null,{"$f":"IF(C95=\"\",\"\",(VLOOKUP(C95,code2!$A$4:$B$30,2)))","v":""},null,null,null,null,null,"","",0,"","",0,"","",0,0,null,null,null,"1-","1-"]
[null,"",null,{"$f":"IF(C96=\"\",\"\",(VLOOKUP(C96,code2!$A$4:$B$30,2)))","v":""},null,null,null,null,null,"","",0,"","",0,"","",0,0,null,null,null,"1-","1-"]
[null,"",null,{"$f":"IF(C97=\"\",\"\",(VLOOKUP(C97,code2!$A$4:$B$30,2)))","v":""},null,null,null,null,null,"","",0,"","",0,"","",0,0,null,null,null,"1-","1-"]
[null,"",null,{"$f":"IF(C98=\"\",\"\",(VLOOKUP(C98,code2!$A$4:$B$30,2)))","v":""},null,null,null,null,null,"","",0,"","",0,"","",0,0,null,null,null,"1-","1-"]
[null,"",null,{"$f":"IF(C99=\"\",\"\",(VLOOKUP(C99,code2!$A$4:$B$30,2)))","v":""},null,null,null,null,null,"","",0,"","",0,"","",0,0,null,null,null,"1-","1-"]
[null,"",null,{"$f":"IF(C100=\"\",\"\",(VLOOKUP(C100,code2!$A$4:$B$30,2)))","v":""},null,null,null,null,null,"","",0,"","",0,"","",0,0,null,null,null,"1-","1-"]
[null,"",null,{"$f":"IF(C101=\"\",\"\",(VLOOKUP(C101,code2!$A$4:$B$30,2)))","v":""},null,null,null,null,null,"","",0,"","",0,"","",0,0,null,null,null,"1-","1-"]
[null,"",null,{"$f":"IF(C102=\"\",\"\",(VLOOKUP(C102,code2!$A$4:$B$30,2)))","v":""},null,null,null,null,null,"","",0,"","",0,"","",0,0,null,null,null,"1-","1-"]
[null,"",null,{"$f":"IF(C103=\"\",\"\",(VLOOKUP(C103,code2!$A$4:$B$30,2)))","v":""},null,null,null,null,null,"","",0,"","",0,"","",0,0,null,null,null,"1-","1-"]
[null,"",null,{"$f":"IF(C104=\"\",\"\",(VLOOKUP(C104,code2!$A$4:$B$30,2)))","v":""},null,null,null,null,null,"","",0,"","",0,"","",0,0,null,null,null,"1-","1-"]
[null,"",null,{"$f":"IF(C105=\"\",\"\",(VLOOKUP(C105,code2!$A$4:$B$30,2)))","v":""},null,null,null,null,null,"","",0,"","",0,"","",0,0,null,null,null,{"$f":"MONTH(A105)&\"-\"&D105","v":"1-"},{"$f":"MONTH(A105)&\"-\"&D105&E105","v":"1-"}]
[null,"",null,{"$f":"IF(C106=\"\",\"\",(VLOOKUP(C106,code2!$A$4:$B$30,2)))","v":""},null,null,null,null,null,"","",0,"","",0,"","",0,0,null,null,null,"1-","1-"]
[null,"",null,{"$f":"IF(C107=\"\",\"\",(VLOOKUP(C107,code2!$A$4:$B$30,2)))","v":""},null,null,null,null,null,"","",0,"","",0,"","",0,0,null,null,null,"1-","1-"]
[null,"",null,{"$f":"IF(C108=\"\",\"\",(VLOOKUP(C108,code2!$A$4:$B$30,2)))","v":""},null,null,null,null,null,"","",0,"","",0,"","",0,0,null,null,null,"1-","1-"]
[null,"",null,{"$f":"IF(C109=\"\",\"\",(VLOOKUP(C109,code2!$A$4:$B$30,2)))","v":""},null,null,null,null,null,"","",0,"","",0,"","",0,0,null,null,null,"1-","1-"]
[null,"",null,{"$f":"IF(C110=\"\",\"\",(VLOOKUP(C110,code2!$A$4:$B$30,2)))","v":""},null,null,null,null,null,"","",0,"","",0,"","",0,0,null,null,null,"1-","1-"]
[null,"",null,{"$f":"IF(C111=\"\",\"\",(VLOOKUP(C111,code2!$A$4:$B$30,2)))","v":""},null,null,null,null,null,"","",0,"","",0,"","",0,0,null,null,null,"1-","1-"]
[null,"",null,{"$f":"IF(C112=\"\",\"\",(VLOOKUP(C112,code2!$A$4:$B$30,2)))","v":""},null,null,null,null,null,"","",0,"","",0,"","",0,0,null,null,null,"1-","1-"]
[null,"",null,{"$f":"IF(C113=\"\",\"\",(VLOOKUP(C113,code2!$A$4:$B$30,2)))","v":""},null,null,null,null,null,"","",0,"","",0,"","",0,0,null,null,null,"1-","1-"]
[null,"",null,{"$f":"IF(C114=\"\",\"\",(VLOOKUP(C114,code2!$A$4:$B$30,2)))","v":""},null,null,null,null,null,"","",0,"","",0,"","",0,0,null,null,null,"1-","1-"]
[null,"",null,{"$f":"IF(C115=\"\",\"\",(VLOOKUP(C115,code2!$A$4:$B$30,2)))","v":""},null,null,null,null,null,"","",0,"","",0,"","",0,0,null,null,null,"1-","1-"]
[null,"",null,{"$f":"IF(C116=\"\",\"\",(VLOOKUP(C116,code2!$A$4:$B$30,2)))","v":""},null,null,null,null,null,"","",0,"","",0,"","",0,0,null,null,null,"1-","1-"]
[null,"",null,{"$f":"IF(C117=\"\",\"\",(VLOOKUP(C117,code2!$A$4:$B$30,2)))","v":""},null,null,null,null,null,"","",0,"","",0,"","",0,0,null,null,null,"1-","1-"]
[null,"",null,{"$f":"IF(C118=\"\",\"\",(VLOOKUP(C118,code2!$A$4:$B$30,2)))","v":""},null,null,null,null,null,"","",0,"","",0,"","",0,0,null,null,null,"1-","1-"]
[null,"",null,{"$f":"IF(C119=\"\",\"\",(VLOOKUP(C119,code2!$A$4:$B$30,2)))","v":""},null,null,null,null,null,"","",0,"","",0,"","",0,0,null,null,null,"1-","1-"]
[null,"",null,{"$f":"IF(C120=\"\",\"\",(VLOOKUP(C120,code2!$A$4:$B$30,2)))","v":""},null,null,null,null,null,"","",0,"","",0,"","",0,0,null,null,null,"1-","1-"]
[null,"",null,{"$f":"IF(C121=\"\",\"\",(VLOOKUP(C121,code2!$A$4:$B$30,2)))","v":""},null,null,null,null,null,"","",0,"","",0,"","",0,0,null,null,null,"1-","1-"]
[null,"",null,{"$f":"IF(C122=\"\",\"\",(VLOOKUP(C122,code2!$A$4:$B$30,2)))","v":""},null,null,null,null,null,"","",0,"","",0,"","",0,0,null,null,null,"1-","1-"]
[null,"",null,{"$f":"IF(C123=\"\",\"\",(VLOOKUP(C123,code2!$A$4:$B$30,2)))","v":""},null,null,null,null,null,"","",0,"","",0,"","",0,0,null,null,null,"1-","1-"]
[null,"",null,{"$f":"IF(C124=\"\",\"\",(VLOOKUP(C124,code2!$A$4:$B$30,2)))","v":""},null,null,null,null,null,"","",0,"","",0,"","",0,0,null,null,null,"1-","1-"]
[null,"",null,{"$f":"IF(C125=\"\",\"\",(VLOOKUP(C125,code2!$A$4:$B$30,2)))","v":""},null,null,null,null,null,"","",0,"","",0,"","",0,0,null,null,null,"1-","1-"]
[null,"",null,{"$f":"IF(C126=\"\",\"\",(VLOOKUP(C126,code2!$A$4:$B$30,2)))","v":""},null,null,null,null,null,"","",0,"","",0,"","",0,0,null,null,null,"1-","1-"]
[null,"",null,{"$f":"IF(C127=\"\",\"\",(VLOOKUP(C127,code2!$A$4:$B$30,2)))","v":""},null,null,null,null,null,"","",0,"","",0,"","",0,0,null,null,null,{"$f":"MONTH(A127)&\"-\"&D127","v":"1-"},{"$f":"MONTH(A127)&\"-\"&D127&E127","v":"1-"}]
[null,"",null,{"$f":"IF(C128=\"\",\"\",(VLOOKUP(C128,code2!$A$4:$B$30,2)))","v":""},null,null,null,null,null,"","",0,"","",0,"","",0,0,null,null,null,"1-","1-"]
[null,"",null,{"$f":"IF(C129=\"\",\"\",(VLOOKUP(C129,code2!$A$4:$B$30,2)))","v":""},null,null,null,null,null,"","",0,"","",0,"","",0,0,null,null,null,"1-","1-"]
[null,"",null,{"$f":"IF(C130=\"\",\"\",(VLOOKUP(C130,code2!$A$4:$B$30,2)))","v":""},null,null,null,null,null,"","",0,"","",0,"","",0,0,null,null,null,"1-","1-"]
[null,"",null,{"$f":"IF(C131=\"\",\"\",(VLOOKUP(C131,code2!$A$4:$B$30,2)))","v":""},null,null,null,null,null,"","",0,"","",0,"","",0,0,null,null,null,"1-","1-"]
[null,"",null,{"$f":"IF(C132=\"\",\"\",(VLOOKUP(C132,code2!$A$4:$B$30,2)))","v":""},null,null,null,null,null,"","",0,"","",0,"","",0,0,null,null,null,"1-","1-"]
[null,{"$f":"IF(A133=\"\",\"\",A133)","v":""},null,{"$f":"IF(C133=\"\",\"\",(VLOOKUP(C133,code2!$A$4:$B$30,2)))","v":""},null,null,null,null,null,"","",0,"","",0,"","",0,0,null,null,null,"1-","1-"]
[null,"",null,{"$f":"IF(C134=\"\",\"\",(VLOOKUP(C134,code2!$A$4:$B$30,2)))","v":""},null,null,null,null,null,"","",0,"","",0,"","",{"$f":"IF(P134&Q134=\"\",R133,R133+P134-Q134)","v":0},0,null,null,null,"1-","1-"]
[null,"",null,{"$f":"IF(C135=\"\",\"\",(VLOOKUP(C135,code2!$A$4:$B$30,2)))","v":""},null,null,null,null,null,{"$f":"IF(I135=\"現金\",G135,\"\")","v":""},{"$f":"IF(I135=\"現金\",H135,\"\")","v":""},{"$f":"IF(J135&K135=\"\",L134,L134+J135-K135)","v":0},{"$f":"IF(I135=\"通帳\",G135,\"\")","v":""},{"$f":"IF(I135=\"通帳\",H135,\"\")","v":""},{"$f":"IF(M135&N135=\"\",O134,O134+M135-N135)","v":0},{"$f":"IF(I135=\"郵便振替\",G135,\"\")","v":""},{"$f":"IF(I135=\"郵便振替\",H135,\"\")","v":""},0,0,null,null,null,"1-","1-"]
[null,"",null,{"$f":"IF(C136=\"\",\"\",(VLOOKUP(C136,code2!$A$4:$B$30,2)))","v":""},null,null,null,null,null,"","",0,"","",0,"","",0,{"$f":"L136+O136+R136","v":0},null,null,null,"1-","1-"]
[null,"",null,{"$f":"IF(C137=\"\",\"\",(VLOOKUP(C137,code2!$A$4:$B$30,2)))","v":""},null,null,null,null,null,"","",0,"","",0,"","",0,0,null,null,null,"1-","1-"]
[null,"",null,{"$f":"IF(C138=\"\",\"\",(VLOOKUP(C138,code2!$A$4:$B$30,2)))","v":""},null,null,null,null,null,"","",0,"","",0,"","",0,0,null,null,null,"1-","1-"]
[null,"",null,{"$f":"IF(C139=\"\",\"\",(VLOOKUP(C139,code2!$A$4:$B$30,2)))","v":""},null,null,null,null,null,"","",0,"","",0,"","",0,0,null,null,null,"1-","1-"]
[null,"",null,{"$f":"IF(C140=\"\",\"\",(VLOOKUP(C140,code2!$A$4:$B$30,2)))","v":""},null,null,null,null,null,"","",0,"","",0,"","",0,0,null,null,null,"1-","1-"]
[null,"",null,{"$f":"IF(C141=\"\",\"\",(VLOOKUP(C141,code2!$A$4:$B$30,2)))","v":""},null,null,null,null,null,"","",0,"","",0,"","",0,0,null,null,null,"1-","1-"]
[null,"",null,{"$f":"IF(C142=\"\",\"\",(VLOOKUP(C142,code2!$A$4:$B$30,2)))","v":""},null,null,null,null,null,"","",0,"","",0,"","",0,0,null,null,null,"1-","1-"]
[null,"",null,{"$f":"IF(C143=\"\",\"\",(VLOOKUP(C143,code2!$A$4:$B$30,2)))","v":""},null,null,null,null,null,"","",0,"","",0,"","",0,0,null,null,null,"1-","1-"]
[null,"",null,{"$f":"IF(C144=\"\",\"\",(VLOOKUP(C144,code2!$A$4:$B$30,2)))","v":""},null,null,null,null,null,"","",0,"","",0,"","",0,0,null,null,null,"1-","1-"]
[null,"",null,{"$f":"IF(C145=\"\",\"\",(VLOOKUP(C145,code2!$A$4:$B$30,2)))","v":""},null,null,null,null,null,"","",0,"","",0,"","",0,0,null,null,null,"1-","1-"]
[null,"",null,{"$f":"IF(C146=\"\",\"\",(VLOOKUP(C146,code2!$A$4:$B$30,2)))","v":""},null,null,null,null,null,"","",0,"","",0,"","",0,0,null,null,null,"1-","1-"]
[null,"",null,{"$f":"IF(C147=\"\",\"\",(VLOOKUP(C147,code2!$A$4:$B$30,2)))","v":""},null,null,null,null,null,"","",0,"","",0,"","",0,0,null,null,null,"1-","1-"]
[null,"",null,{"$f":"IF(C148=\"\",\"\",(VLOOKUP(C148,code2!$A$4:$B$30,2)))","v":""},null,null,null,null,null,"","",0,"","",0,"","",0,0,null,null,null,"1-","1-"]
[null,"",null,{"$f":"IF(C149=\"\",\"\",(VLOOKUP(C149,code2!$A$4:$B$30,2)))","v":""},null,null,null,null,null,"","",0,"","",0,"","",0,0,null,null,null,"1-","1-"]
[null,"",null,{"$f":"IF(C150=\"\",\"\",(VLOOKUP(C150,code2!$A$4:$B$30,2)))","v":""},null,null,null,null,null,"","",0,"","",0,"","",0,0,null,null,null,"1-","1-"]
[null,"",null,{"$f":"IF(C151=\"\",\"\",(VLOOKUP(C151,code2!$A$4:$B$30,2)))","v":""},null,null,null,null,null,"","",0,"","",0,"","",0,0,null,null,null,"1-","1-"]
[null,"",null,{"$f":"IF(C152=\"\",\"\",(VLOOKUP(C152,code2!$A$4:$B$30,2)))","v":""},null,null,null,null,null,"","",0,"","",0,"","",0,0,null,null,null,"1-","1-"]
[null,"",null,{"$f":"IF(C153=\"\",\"\",(VLOOKUP(C153,code2!$A$4:$B$30,2)))","v":""},null,null,null,null,null,"","",0,"","",0,"","",0,0,null,null,null,"1-","1-"]
[null,"",null,{"$f":"IF(C154=\"\",\"\",(VLOOKUP(C154,code2!$A$4:$B$30,2)))","v":""},null,null,null,null,null,"","",0,"","",0,"","",0,0,null,null,null,"1-","1-"]
[null,"",null,{"$f":"IF(C155=\"\",\"\",(VLOOKUP(C155,code2!$A$4:$B$30,2)))","v":""},null,null,null,null,null,"","",0,"","",0,"","",0,0,null,null,null,"1-","1-"]
[null,"",null,{"$f":"IF(C156=\"\",\"\",(VLOOKUP(C156,code2!$A$4:$B$30,2)))","v":""},null,null,null,null,null,"","",0,"","",0,"","",0,0,null,null,null,"1-","1-"]
[null,"",null,{"$f":"IF(C157=\"\",\"\",(VLOOKUP(C157,code2!$A$4:$B$30,2)))","v":""},null,null,null,null,null,"","",0,"","",0,"","",0,0,null,null,null,"1-","1-"]
[null,"",null,{"$f":"IF(C158=\"\",\"\",(VLOOKUP(C158,code2!$A$4:$B$30,2)))","v":""},null,null,null,null,null,"","",0,"","",0,"","",0,0,null,null,null,"1-","1-"]
[null,"",null,{"$f":"IF(C159=\"\",\"\",(VLOOKUP(C159,code2!$A$4:$B$30,2)))","v":""},null,null,null,null,null,"","",0,"","",0,"","",0,0,null,null,null,"1-","1-"]
[null,"",null,{"$f":"IF(C160=\"\",\"\",(VLOOKUP(C160,code2!$A$4:$B$30,2)))","v":""},null,null,null,null,null,"","",0,"","",0,"","",0,0,null,null,null,"1-","1-"]
[null,"",null,{"$f":"IF(C161=\"\",\"\",(VLOOKUP(C161,code2!$A$4:$B$30,2)))","v":""},null,null,null,null,null,"","",0,"","",0,"","",0,0,null,null,null,"1-","1-"]
[null,"",null,{"$f":"IF(C162=\"\",\"\",(VLOOKUP(C162,code2!$A$4:$B$30,2)))","v":""},null,null,null,null,null,"","",0,"","",0,"","",0,0,null,null,null,"1-","1-"]
[null,"",null,{"$f":"IF(C163=\"\",\"\",(VLOOKUP(C163,code2!$A$4:$B$30,2)))","v":""},null,null,null,null,null,"","",0,"","",0,"","",0,0,null,null,null,"1-","1-"]
[null,"",null,{"$f":"IF(C164=\"\",\"\",(VLOOKUP(C164,code2!$A$4:$B$30,2)))","v":""},null,null,null,null,null,"","",0,"","",0,"","",0,0,null,null,null,"1-","1-"]
[null,"",null,{"$f":"IF(C165=\"\",\"\",(VLOOKUP(C165,code2!$A$4:$B$30,2)))","v":""},null,null,null,null,null,"","",0,"","",0,"","",0,0,null,null,null,"1-","1-"]
[null,"",null,{"$f":"IF(C166=\"\",\"\",(VLOOKUP(C166,code2!$A$4:$B$30,2)))","v":""},null,null,null,null,null,"","",0,"","",0,"","",0,0,null,null,null,"1-","1-"]
[null,"",null,{"$f":"IF(C167=\"\",\"\",(VLOOKUP(C167,code2!$A$4:$B$30,2)))","v":""},null,null,null,null,null,"","",0,"","",0,"","",0,0,null,null,null,"1-","1-"]
[null,"",null,{"$f":"IF(C168=\"\",\"\",(VLOOKUP(C168,code2!$A$4:$B$30,2)))","v":""},null,null,null,null,null,"","",0,"","",0,"","",0,0,null,null,null,"1-","1-"]
[null,"",null,{"$f":"IF(C169=\"\",\"\",(VLOOKUP(C169,code2!$A$4:$B$30,2)))","v":""},null,null,null,null,null,"","",0,"","",0,"","",0,0,null,null,null,"1-","1-"]
[null,"",null,{"$f":"IF(C170=\"\",\"\",(VLOOKUP(C170,code2!$A$4:$B$30,2)))","v":""},null,null,null,null,null,"","",0,"","",0,"","",0,0,null,null,null,"1-","1-"]
[null,"",null,{"$f":"IF(C171=\"\",\"\",(VLOOKUP(C171,code2!$A$4:$B$30,2)))","v":""},null,null,null,null,null,"","",0,"","",0,"","",0,0,null,null,null,"1-","1-"]
[null,"",null,{"$f":"IF(C172=\"\",\"\",(VLOOKUP(C172,code2!$A$4:$B$30,2)))","v":""},null,null,null,null,null,"","",0,"","",0,"","",0,0,null,null,null,"1-","1-"]
[null,"",null,{"$f":"IF(C173=\"\",\"\",(VLOOKUP(C173,code2!$A$4:$B$30,2)))","v":""},null,null,null,null,null,"","",0,"","",0,"","",0,0,null,null,null,"1-","1-"]
[null,"",null,{"$f":"IF(C174=\"\",\"\",(VLOOKUP(C174,code2!$A$4:$B$30,2)))","v":""},null,null,null,null,null,"","",0,"","",0,"","",0,0,null,null,null,"1-","1-"]
[null,"",null,{"$f":"IF(C175=\"\",\"\",(VLOOKUP(C175,code2!$A$4:$B$30,2)))","v":""},null,null,null,null,null,"","",0,"","",0,"","",0,0,null,null,null,"1-","1-"]
[null,"",null,{"$f":"IF(C176=\"\",\"\",(VLOOKUP(C176,code2!$A$4:$B$30,2)))","v":""},null,null,null,null,null,"","",0,"","",0,"","",0,0,null,null,null,"1-","1-"]
[null,"",null,{"$f":"IF(C177=\"\",\"\",(VLOOKUP(C177,code2!$A$4:$B$30,2)))","v":""},null,null,null,null,null,"","",0,"","",0,"","",0,0,null,null,null,"1-","1-"]
[null,"",null,{"$f":"IF(C178=\"\",\"\",(VLOOKUP(C178,code2!$A$4:$B$30,2)))","v":""},null,null,null,null,null,"","",0,"","",0,"","",0,0,null,null,null,"1-","1-"]
[null,"",null,{"$f":"IF(C179=\"\",\"\",(VLOOKUP(C179,code2!$A$4:$B$30,2)))","v":""},null,null,null,null,null,"","",0,"","",0,"","",0,0,null,null,null,"1-","1-"]
[null,"",null,{"$f":"IF(C180=\"\",\"\",(VLOOKUP(C180,code2!$A$4:$B$30,2)))","v":""},null,null,null,null,null,"","",0,"","",0,"","",0,0,null,null,null,"1-","1-"]
[null,"",null,{"$f":"IF(C181=\"\",\"\",(VLOOKUP(C181,code2!$A$4:$B$30,2)))","v":""},null,null,null,null,null,"","",0,"","",0,"","",0,0,null,null,null,"1-","1-"]
[null,"",null,{"$f":"IF(C182=\"\",\"\",(VLOOKUP(C182,code2!$A$4:$B$30,2)))","v":""},null,null,null,null,null,"","",0,"","",0,"","",0,0,null,null,null,"1-","1-"]
[null,"",null,{"$f":"IF(C183=\"\",\"\",(VLOOKUP(C183,code2!$A$4:$B$30,2)))","v":""},null,null,null,null,null,"","",0,"","",0,"","",0,0,null,null,null,"1-","1-"]
[null,"",null,{"$f":"IF(C184=\"\",\"\",(VLOOKUP(C184,code2!$A$4:$B$30,2)))","v":""},null,null,null,null,null,"","",0,"","",0,"","",0,0,null,null,null,"1-","1-"]
[null,"",null,{"$f":"IF(C185=\"\",\"\",(VLOOKUP(C185,code2!$A$4:$B$30,2)))","v":""},null,null,null,null,null,"","",0,"","",0,"","",0,0,null,null,null,"1-","1-"]
[null,"",null,{"$f":"IF(C186=\"\",\"\",(VLOOKUP(C186,code2!$A$4:$B$30,2)))","v":""},null,null,null,null,null,"","",0,"","",0,"","",0,0,null,null,null,"1-","1-"]
[null,"",null,{"$f":"IF(C187=\"\",\"\",(VLOOKUP(C187,code2!$A$4:$B$30,2)))","v":""},null,null,null,null,null,"","",0,"","",0,"","",0,0,null,null,null,"1-","1-"]
[null,"",null,{"$f":"IF(C188=\"\",\"\",(VLOOKUP(C188,code2!$A$4:$B$30,2)))","v":""},null,null,null,null,null,"","",0,"","",0,"","",0,0,null,null,null,"1-","1-"]
[null,"",null,{"$f":"IF(C189=\"\",\"\",(VLOOKUP(C189,code2!$A$4:$B$30,2)))","v":""},null,null,null,null,null,"","",0,"","",0,"","",0,0,null,null,null,"1-","1-"]
[null,"",null,{"$f":"IF(C190=\"\",\"\",(VLOOKUP(C190,code2!$A$4:$B$30,2)))","v":""},null,null,null,null,null,"","",0,"","",0,"","",0,0,null,null,null,"1-","1-"]
[null,"",null,{"$f":"IF(C191=\"\",\"\",(VLOOKUP(C191,code2!$A$4:$B$30,2)))","v":""},null,null,null,null,null,"","",0,"","",0,"","",0,0,null,null,null,{"$f":"MONTH(A191)&\"-\"&D191","v":"1-"},{"$f":"MONTH(A191)&\"-\"&D191&E191","v":"1-"}]
[null,"",null,{"$f":"IF(C192=\"\",\"\",(VLOOKUP(C192,code2!$A$4:$B$30,2)))","v":""},null,null,null,null,null,"","",0,"","",0,"","",0,0,null,null,null,"1-","1-"]
[null,"",null,{"$f":"IF(C193=\"\",\"\",(VLOOKUP(C193,code2!$A$4:$B$30,2)))","v":""},null,null,null,null,null,"","",0,"","",0,"","",0,0,null,null,null,"1-","1-"]
[null,"",null,{"$f":"IF(C194=\"\",\"\",(VLOOKUP(C194,code2!$A$4:$B$30,2)))","v":""},null,null,null,null,null,"","",0,"","",0,"","",0,0,null,null,null,"1-","1-"]
[null,"",null,{"$f":"IF(C195=\"\",\"\",(VLOOKUP(C195,code2!$A$4:$B$30,2)))","v":""},null,null,null,null,null,"","",0,"","",0,"","",0,0,null,null,null,"1-","1-"]
[null,"",null,{"$f":"IF(C196=\"\",\"\",(VLOOKUP(C196,code2!$A$4:$B$30,2)))","v":""},null,null,null,null,null,"","",0,"","",0,"","",0,0,null,null,null,"1-","1-"]
[null,{"$f":"IF(A197=\"\",\"\",A197)","v":""},null,{"$f":"IF(C197=\"\",\"\",(VLOOKUP(C197,code2!$A$4:$B$30,2)))","v":""},null,null,null,null,null,"","",0,"","",0,"","",0,0,null,null,null,"1-","1-"]
[null,"",null,{"$f":"IF(C198=\"\",\"\",(VLOOKUP(C198,code2!$A$4:$B$30,2)))","v":""},null,null,null,null,null,"","",0,"","",0,"","",{"$f":"IF(P198&Q198=\"\",R197,R197+P198-Q198)","v":0},0,null,null,null,"1-","1-"]
[null,"",null,{"$f":"IF(C199=\"\",\"\",(VLOOKUP(C199,code2!$A$4:$B$30,2)))","v":""},null,null,null,null,null,{"$f":"IF(I199=\"現金\",G199,\"\")","v":""},{"$f":"IF(I199=\"現金\",H199,\"\")","v":""},{"$f":"IF(J199&K199=\"\",L198,L198+J199-K199)","v":0},{"$f":"IF(I199=\"通帳\",G199,\"\")","v":""},{"$f":"IF(I199=\"通帳\",H199,\"\")","v":""},{"$f":"IF(M199&N199=\"\",O198,O198+M199-N199)","v":0},{"$f":"IF(I199=\"郵便振替\",G199,\"\")","v":""},{"$f":"IF(I199=\"郵便振替\",H199,\"\")","v":""},0,0,null,null,null,"1-","1-"]
[null,"",null,{"$f":"IF(C200=\"\",\"\",(VLOOKUP(C200,code2!$A$4:$B$30,2)))","v":""},null,null,null,null,null,"","",0,"","",0,"","",0,{"$f":"L200+O200+R200","v":0},null,null,null,"1-","1-"]
[null,"",null,{"$f":"IF(C201=\"\",\"\",(VLOOKUP(C201,code2!$A$4:$B$30,2)))","v":""},null,null,null,null,null,"","",0,"","",0,"","",0,0,null,null,null,"1-","1-"]
[null,"",null,{"$f":"IF(C202=\"\",\"\",(VLOOKUP(C202,code2!$A$4:$B$30,2)))","v":""},null,null,null,null,null,"","",0,"","",0,"","",0,0,null,null,null,"1-","1-"]
[null,"",null,{"$f":"IF(C203=\"\",\"\",(VLOOKUP(C203,code2!$A$4:$B$30,2)))","v":""},null,null,null,null,null,"","",0,"","",0,"","",0,0,null,null,null,"1-","1-"]
[null,"",null,{"$f":"IF(C204=\"\",\"\",(VLOOKUP(C204,code2!$A$4:$B$30,2)))","v":""},null,null,null,null,null,"","",0,"","",0,"","",0,0,null,null,null,"1-","1-"]
[null,"",null,{"$f":"IF(C205=\"\",\"\",(VLOOKUP(C205,code2!$A$4:$B$30,2)))","v":""},null,null,null,null,null,"","",0,"","",0,"","",0,0,null,null,null,"1-","1-"]
[null,"",null,{"$f":"IF(C206=\"\",\"\",(VLOOKUP(C206,code2!$A$4:$B$30,2)))","v":""},null,null,null,null,null,"","",0,"","",0,"","",0,0,null,null,null,"1-","1-"]
[null,"",null,{"$f":"IF(C207=\"\",\"\",(VLOOKUP(C207,code2!$A$4:$B$30,2)))","v":""},null,null,null,null,null,"","",0,"","",0,"","",0,0,null,null,null,"1-","1-"]
[null,"",null,{"$f":"IF(C208=\"\",\"\",(VLOOKUP(C208,code2!$A$4:$B$30,2)))","v":""},null,null,null,null,null,"","",0,"","",0,"","",0,0,null,null,null,"1-","1-"]
[null,"",null,{"$f":"IF(C209=\"\",\"\",(VLOOKUP(C209,code2!$A$4:$B$30,2)))","v":""},null,null,null,null,null,"","",0,"","",0,"","",0,0,null,null,null,"1-","1-"]
[null,"",null,{"$f":"IF(C210=\"\",\"\",(VLOOKUP(C210,code2!$A$4:$B$30,2)))","v":""},null,null,null,null,null,"","",0,"","",0,"","",0,0,null,null,null,"1-","1-"]
[null,"",null,{"$f":"IF(C211=\"\",\"\",(VLOOKUP(C211,code2!$A$4:$B$30,2)))","v":""},null,null,null,null,null,"","",0,"","",0,"","",0,0,null,null,null,"1-","1-"]
[null,"",null,{"$f":"IF(C212=\"\",\"\",(VLOOKUP(C212,code2!$A$4:$B$30,2)))","v":""},null,null,null,null,null,"","",0,"","",0,"","",0,0,null,null,null,"1-","1-"]
[null,"",null,{"$f":"IF(C213=\"\",\"\",(VLOOKUP(C213,code2!$A$4:$B$30,2)))","v":""},null,null,null,null,null,"","",0,"","",0,"","",0,0,null,null,null,"1-","1-"]
[null,"",null,{"$f":"IF(C214=\"\",\"\",(VLOOKUP(C214,code2!$A$4:$B$30,2)))","v":""},null,null,null,null,null,"","",0,"","",0,"","",0,0,null,null,null,"1-","1-"]
[null,"",null,{"$f":"IF(C215=\"\",\"\",(VLOOKUP(C215,code2!$A$4:$B$30,2)))","v":""},null,null,null,null,null,"","",0,"","",0,"","",0,0,null,null,null,"1-","1-"]
[null,"",null,{"$f":"IF(C216=\"\",\"\",(VLOOKUP(C216,code2!$A$4:$B$30,2)))","v":""},null,null,null,null,null,"","",0,"","",0,"","",0,0,null,null,null,"1-","1-"]
[null,"",null,{"$f":"IF(C217=\"\",\"\",(VLOOKUP(C217,code2!$A$4:$B$30,2)))","v":""},null,null,null,null,null,"","",0,"","",0,"","",0,0,null,null,null,"1-","1-"]
[null,"",null,{"$f":"IF(C218=\"\",\"\",(VLOOKUP(C218,code2!$A$4:$B$30,2)))","v":""},null,null,null,null,null,"","",0,"","",0,"","",0,0,null,null,null,"1-","1-"]
[null,"",null,{"$f":"IF(C219=\"\",\"\",(VLOOKUP(C219,code2!$A$4:$B$30,2)))","v":""},null,null,null,null,null,"","",0,"","",0,"","",0,0,null,null,null,"1-","1-"]
[null,"",null,{"$f":"IF(C220=\"\",\"\",(VLOOKUP(C220,code2!$A$4:$B$30,2)))","v":""},null,null,null,null,null,"","",0,"","",0,"","",0,0,null,null,null,"1-","1-"]
[null,"",null,{"$f":"IF(C221=\"\",\"\",(VLOOKUP(C221,code2!$A$4:$B$30,2)))","v":""},null,null,null,null,null,"","",0,"","",0,"","",0,0,null,null,null,"1-","1-"]
[null,"",null,{"$f":"IF(C222=\"\",\"\",(VLOOKUP(C222,code2!$A$4:$B$30,2)))","v":""},null,null,null,null,null,"","",0,"","",0,"","",0,0,null,null,null,"1-","1-"]
[null,"",null,{"$f":"IF(C223=\"\",\"\",(VLOOKUP(C223,code2!$A$4:$B$30,2)))","v":""},null,null,null,null,null,"","",0,"","",0,"","",0,0,null,null,null,"1-","1-"]
[null,"",null,{"$f":"IF(C224=\"\",\"\",(VLOOKUP(C224,code2!$A$4:$B$30,2)))","v":""},null,null,null,null,null,"","",0,"","",0,"","",0,0,null,null,null,"1-","1-"]
[null,"",null,{"$f":"IF(C225=\"\",\"\",(VLOOKUP(C225,code2!$A$4:$B$30,2)))","v":""},null,null,null,null,null,"","",0,"","",0,"","",0,0,null,null,null,"1-","1-"]
[null,"",null,{"$f":"IF(C226=\"\",\"\",(VLOOKUP(C226,code2!$A$4:$B$30,2)))","v":""},null,null,null,null,null,"","",0,"","",0,"","",0,0,null,null,null,"1-","1-"]
[null,"",null,{"$f":"IF(C227=\"\",\"\",(VLOOKUP(C227,code2!$A$4:$B$30,2)))","v":""},null,null,null,null,null,"","",0,"","",0,"","",0,0,null,null,null,"1-","1-"]
[null,"",null,{"$f":"IF(C228=\"\",\"\",(VLOOKUP(C228,code2!$A$4:$B$30,2)))","v":""},null,null,null,null,null,"","",0,"","",0,"","",0,0,null,null,null,"1-","1-"]
[null,"",null,{"$f":"IF(C229=\"\",\"\",(VLOOKUP(C229,code2!$A$4:$B$30,2)))","v":""},null,null,null,null,null,"","",0,"","",0,"","",0,0,null,null,null,"1-","1-"]
[null,"",null,{"$f":"IF(C230=\"\",\"\",(VLOOKUP(C230,code2!$A$4:$B$30,2)))","v":""},null,null,null,null,null,"","",0,"","",0,"","",0,0,null,null,null,"1-","1-"]
[null,"",null,{"$f":"IF(C231=\"\",\"\",(VLOOKUP(C231,code2!$A$4:$B$30,2)))","v":""},null,null,null,null,null,"","",0,"","",0,"","",0,0,null,null,null,{"$f":"MONTH(A231)&\"-\"&D231","v":"1-"},{"$f":"MONTH(A231)&\"-\"&D231&E231","v":"1-"}]
[null,"",null,{"$f":"IF(C232=\"\",\"\",(VLOOKUP(C232,code2!$A$4:$B$30,2)))","v":""},null,null,null,null,null,"","",0,"","",0,"","",0,0,null,null,null,"1-","1-"]
[null,"",null,{"$f":"IF(C233=\"\",\"\",(VLOOKUP(C233,code2!$A$4:$B$30,2)))","v":""},null,null,null,null,null,"","",0,"","",0,"","",0,0,null,null,null,"1-","1-"]
[null,"",null,{"$f":"IF(C234=\"\",\"\",(VLOOKUP(C234,code2!$A$4:$B$30,2)))","v":""},null,null,null,null,null,"","",0,"","",0,"","",0,0,null,null,null,"1-","1-"]
[null,"",null,{"$f":"IF(C235=\"\",\"\",(VLOOKUP(C235,code2!$A$4:$B$30,2)))","v":""},null,null,null,null,null,"","",0,"","",0,"","",0,0,null,null,null,"1-","1-"]
[null,"",null,{"$f":"IF(C236=\"\",\"\",(VLOOKUP(C236,code2!$A$4:$B$30,2)))","v":""},null,null,null,null,null,"","",0,"","",0,"","",0,0,null,null,null,"1-","1-"]
[null,"",null,{"$f":"IF(C237=\"\",\"\",(VLOOKUP(C237,code2!$A$4:$B$30,2)))","v":""},null,null,null,null,null,"","",0,"","",0,"","",0,0,null,null,null,"1-","1-"]
[null,"",null,{"$f":"IF(C238=\"\",\"\",(VLOOKUP(C238,code2!$A$4:$B$30,2)))","v":""},null,null,null,null,null,"","",0,"","",0,"","",0,0,null,null,null,"1-","1-"]
[null,"",null,{"$f":"IF(C239=\"\",\"\",(VLOOKUP(C239,code2!$A$4:$B$30,2)))","v":""},null,null,null,null,null,"","",0,"","",0,"","",0,0,null,null,null,"1-","1-"]
[null,"",null,{"$f":"IF(C240=\"\",\"\",(VLOOKUP(C240,code2!$A$4:$B$30,2)))","v":""},null,null,null,null,null,"","",0,"","",0,"","",0,0,null,null,null,"1-","1-"]
[null,"",null,{"$f":"IF(C241=\"\",\"\",(VLOOKUP(C241,code2!$A$4:$B$30,2)))","v":""},null,null,null,null,null,"","",0,"","",0,"","",0,0,null,null,null,"1-","1-"]
[null,"",null,{"$f":"IF(C242=\"\",\"\",(VLOOKUP(C242,code2!$A$4:$B$30,2)))","v":""},null,null,null,null,null,"","",0,"","",0,"","",0,0,null,null,null,"1-","1-"]
[null,"",null,{"$f":"IF(C243=\"\",\"\",(VLOOKUP(C243,code2!$A$4:$B$30,2)))","v":""},null,null,null,null,null,"","",0,"","",0,"","",0,0,null,null,null,"1-","1-"]
[null,"",null,{"$f":"IF(C244=\"\",\"\",(VLOOKUP(C244,code2!$A$4:$B$30,2)))","v":""},null,null,null,null,null,"","",0,"","",0,"","",0,0,null,null,null,"1-","1-"]
[null,"",null,{"$f":"IF(C245=\"\",\"\",(VLOOKUP(C245,code2!$A$4:$B$30,2)))","v":""},null,null,null,null,null,"","",0,"","",0,"","",0,0,null,null,null,"1-","1-"]
[null,"",null,{"$f":"IF(C246=\"\",\"\",(VLOOKUP(C246,code2!$A$4:$B$30,2)))","v":""},null,null,null,null,null,"","",0,"","",0,"","",0,0,null,null,null,"1-","1-"]
[null,"",null,{"$f":"IF(C247=\"\",\"\",(VLOOKUP(C247,code2!$A$4:$B$30,2)))","v":""},null,null,null,null,null,"","",0,"","",0,"","",0,0,null,null,null,"1-","1-"]
[null,"",null,{"$f":"IF(C248=\"\",\"\",(VLOOKUP(C248,code2!$A$4:$B$30,2)))","v":""},null,null,null,null,null,"","",0,"","",0,"","",0,0,null,null,null,"1-","1-"]
[null,"",null,{"$f":"IF(C249=\"\",\"\",(VLOOKUP(C249,code2!$A$4:$B$30,2)))","v":""},null,null,null,null,null,"","",0,"","",0,"","",0,0,null,null,null,"1-","1-"]
[null,"",null,{"$f":"IF(C250=\"\",\"\",(VLOOKUP(C250,code2!$A$4:$B$30,2)))","v":""},null,null,null,null,null,"","",0,"","",0,"","",0,0,null,null,null,"1-","1-"]
[null,"",null,{"$f":"IF(C251=\"\",\"\",(VLOOKUP(C251,code2!$A$4:$B$30,2)))","v":""},null,null,null,null,null,"","",0,"","",0,"","",0,0,null,null,null,"1-","1-"]
[null,"",null,{"$f":"IF(C252=\"\",\"\",(VLOOKUP(C252,code2!$A$4:$B$30,2)))","v":""},null,null,null,null,null,"","",0,"","",0,"","",0,0,null,null,null,"1-","1-"]
[null,"",null,{"$f":"IF(C253=\"\",\"\",(VLOOKUP(C253,code2!$A$4:$B$30,2)))","v":""},null,null,null,null,null,"","",0,"","",0,"","",0,0,null,null,null,"1-","1-"]
[null,"",null,{"$f":"IF(C254=\"\",\"\",(VLOOKUP(C254,code2!$A$4:$B$30,2)))","v":""},null,null,null,null,null,"","",0,"","",0,"","",0,0,null,null,null,"1-","1-"]
[null,"",null,{"$f":"IF(C255=\"\",\"\",(VLOOKUP(C255,code2!$A$4:$B$30,2)))","v":""},null,null,null,null,null,"","",0,"","",0,"","",0,0,null,null,null,{"$f":"MONTH(A255)&\"-\"&D255","v":"1-"},{"$f":"MONTH(A255)&\"-\"&D255&E255","v":"1-"}]
[null,"",null,{"$f":"IF(C256=\"\",\"\",(VLOOKUP(C256,code2!$A$4:$B$30,2)))","v":""},null,null,null,null,null,"","",0,"","",0,"","",0,0,null,null,null,"1-","1-"]
[null,"",null,{"$f":"IF(C257=\"\",\"\",(VLOOKUP(C257,code2!$A$4:$B$30,2)))","v":""},null,null,null,null,null,"","",0,"","",0,"","",0,0,null,null,null,"1-","1-"]
[null,"",null,{"$f":"IF(C258=\"\",\"\",(VLOOKUP(C258,code2!$A$4:$B$30,2)))","v":""},null,null,null,null,null,"","",0,"","",0,"","",0,0,null,null,null,"1-","1-"]
[null,"",null,{"$f":"IF(C259=\"\",\"\",(VLOOKUP(C259,code2!$A$4:$B$30,2)))","v":""},null,null,null,null,null,"","",0,"","",0,"","",0,0,null,null,null,"1-","1-"]
[null,"",null,{"$f":"IF(C260=\"\",\"\",(VLOOKUP(C260,code2!$A$4:$B$30,2)))","v":""},null,null,null,null,null,"","",0,"","",0,"","",0,0,null,null,null,"1-","1-"]
[null,{"$f":"IF(A261=\"\",\"\",A261)","v":""},null,{"$f":"IF(C261=\"\",\"\",(VLOOKUP(C261,code2!$A$4:$B$30,2)))","v":""},null,null,null,null,null,"","",0,"","",0,"","",0,0,null,null,null,"1-","1-"]
[null,"",null,{"$f":"IF(C262=\"\",\"\",(VLOOKUP(C262,code2!$A$4:$B$30,2)))","v":""},null,null,null,null,null,"","",0,"","",0,"","",{"$f":"IF(P262&Q262=\"\",R261,R261+P262-Q262)","v":0},0,null,null,null,"1-","1-"]
[null,"",null,{"$f":"IF(C263=\"\",\"\",(VLOOKUP(C263,code2!$A$4:$B$30,2)))","v":""},null,null,null,null,null,{"$f":"IF(I263=\"現金\",G263,\"\")","v":""},{"$f":"IF(I263=\"現金\",H263,\"\")","v":""},{"$f":"IF(J263&K263=\"\",L262,L262+J263-K263)","v":0},{"$f":"IF(I263=\"通帳\",G263,\"\")","v":""},{"$f":"IF(I263=\"通帳\",H263,\"\")","v":""},{"$f":"IF(M263&N263=\"\",O262,O262+M263-N263)","v":0},{"$f":"IF(I263=\"郵便振替\",G263,\"\")","v":""},{"$f":"IF(I263=\"郵便振替\",H263,\"\")","v":""},0,0,null,null,null,"1-","1-"]
[null,"",null,{"$f":"IF(C264=\"\",\"\",(VLOOKUP(C264,code2!$A$4:$B$30,2)))","v":""},null,null,null,null,null,"","",0,"","",0,"","",0,{"$f":"L264+O264+R264","v":0},null,null,null,"1-","1-"]
[null,"",null,{"$f":"IF(C265=\"\",\"\",(VLOOKUP(C265,code2!$A$4:$B$30,2)))","v":""},null,null,null,null,null,"","",0,"","",0,"","",0,{"$f":"L265+O265+R265","v":0},null,null,null,{"$f":"MONTH(A265)&\"-\"&D265","v":"1-"},{"$f":"MONTH(A265)&\"-\"&D265&E265","v":"1-"}]
[null,"",null,{"$f":"IF(C266=\"\",\"\",(VLOOKUP(C266,code2!$A$4:$B$30,2)))","v":""},null,null,null,null,null,"","",0,"","",0,"","",0,0,null,null,null,"1-","1-"]
[null,"",null,{"$f":"IF(C267=\"\",\"\",(VLOOKUP(C267,code2!$A$4:$B$30,2)))","v":""},null,null,null,null,null,"","",0,"","",0,"","",0,0,null,null,null,"1-","1-"]
[null,"",null,{"$f":"IF(C268=\"\",\"\",(VLOOKUP(C268,code2!$A$4:$B$30,2)))","v":""},null,null,null,null,null,"","",0,"","",0,"","",0,0,null,null,null,"1-","1-"]
[null,"",null,{"$f":"IF(C269=\"\",\"\",(VLOOKUP(C269,code2!$A$4:$B$30,2)))","v":""},null,null,null,null,null,"","",0,"","",0,"","",0,0,null,null,null,"1-","1-"]
[null,"",null,{"$f":"IF(C270=\"\",\"\",(VLOOKUP(C270,code2!$A$4:$B$30,2)))","v":""},null,null,null,null,null,"","",0,"","",0,"","",0,0,null,null,null,"1-","1-"]
[null,"",null,{"$f":"IF(C271=\"\",\"\",(VLOOKUP(C271,code2!$A$4:$B$30,2)))","v":""},null,null,null,null,null,"","",0,"","",0,"","",0,0,null,null,null,"1-","1-"]
[null,"",null,{"$f":"IF(C272=\"\",\"\",(VLOOKUP(C272,code2!$A$4:$B$30,2)))","v":""},null,null,null,null,null,"","",0,"","",0,"","",0,0,null,null,null,"1-","1-"]
[null,"",null,{"$f":"IF(C273=\"\",\"\",(VLOOKUP(C273,code2!$A$4:$B$30,2)))","v":""},null,null,null,null,null,"","",0,"","",0,"","",0,0,null,null,null,"1-","1-"]
[null,"",null,{"$f":"IF(C274=\"\",\"\",(VLOOKUP(C274,code2!$A$4:$B$30,2)))","v":""},null,null,null,null,null,"","",0,"","",0,"","",0,0,null,null,null,"1-","1-"]
[null,"",null,{"$f":"IF(C275=\"\",\"\",(VLOOKUP(C275,code2!$A$4:$B$30,2)))","v":""},null,null,null,null,null,"","",0,"","",0,"","",0,0,null,null,null,"1-","1-"]
[null,"",null,{"$f":"IF(C276=\"\",\"\",(VLOOKUP(C276,code2!$A$4:$B$30,2)))","v":""},null,null,null,null,null,"","",0,"","",0,"","",0,0,null,null,null,"1-","1-"]
[null,"",null,{"$f":"IF(C277=\"\",\"\",(VLOOKUP(C277,code2!$A$4:$B$30,2)))","v":""},null,null,null,null,null,"","",0,"","",0,"","",0,0,null,null,null,"1-","1-"]
[null,"",null,{"$f":"IF(C278=\"\",\"\",(VLOOKUP(C278,code2!$A$4:$B$30,2)))","v":""},null,null,null,null,null,"","",0,"","",0,"","",0,0,null,null,null,"1-","1-"]
[null,"",null,{"$f":"IF(C279=\"\",\"\",(VLOOKUP(C279,code2!$A$4:$B$30,2)))","v":""},null,null,null,null,null,"","",0,"","",0,"","",0,0,null,null,null,"1-","1-"]
[null,"",null,{"$f":"IF(C280=\"\",\"\",(VLOOKUP(C280,code2!$A$4:$B$30,2)))","v":""},null,null,null,null,null,"","",0,"","",0,"","",0,0,null,null,null,"1-","1-"]
[null,"",null,{"$f":"IF(C281=\"\",\"\",(VLOOKUP(C281,code2!$A$4:$B$30,2)))","v":""},null,null,null,null,null,"","",0,"","",0,"","",0,0,null,null,null,"1-","1-"]
[null,"",null,{"$f":"IF(C282=\"\",\"\",(VLOOKUP(C282,code2!$A$4:$B$30,2)))","v":""},null,null,null,null,null,"","",0,"","",0,"","",0,0,null,null,null,"1-","1-"]
[null,"",null,{"$f":"IF(C283=\"\",\"\",(VLOOKUP(C283,code2!$A$4:$B$30,2)))","v":""},null,null,null,null,null,"","",0,"","",0,"","",0,0,null,null,null,"1-","1-"]
[null,"",null,{"$f":"IF(C284=\"\",\"\",(VLOOKUP(C284,code2!$A$4:$B$30,2)))","v":""},null,null,null,null,null,"","",0,"","",0,"","",0,0,null,null,null,"1-","1-"]
[null,"",null,{"$f":"IF(C285=\"\",\"\",(VLOOKUP(C285,code2!$A$4:$B$30,2)))","v":""},null,null,null,null,null,"","",0,"","",0,"","",0,0,null,null,null,"1-","1-"]
[null,"",null,{"$f":"IF(C286=\"\",\"\",(VLOOKUP(C286,code2!$A$4:$B$30,2)))","v":""},null,null,null,null,null,"","",0,"","",0,"","",0,0,null,null,null,"1-","1-"]
[null,"",null,{"$f":"IF(C287=\"\",\"\",(VLOOKUP(C287,code2!$A$4:$B$30,2)))","v":""},null,null,null,null,null,"","",0,"","",0,"","",0,0,null,null,null,"1-","1-"]
[null,"",null,{"$f":"IF(C288=\"\",\"\",(VLOOKUP(C288,code2!$A$4:$B$30,2)))","v":""},null,null,null,null,null,"","",0,"","",0,"","",0,0,null,null,null,"1-","1-"]
[null,"",null,{"$f":"IF(C289=\"\",\"\",(VLOOKUP(C289,code2!$A$4:$B$30,2)))","v":""},null,null,null,null,null,"","",0,"","",0,"","",0,0,null,null,null,"1-","1-"]
[null,"",null,{"$f":"IF(C290=\"\",\"\",(VLOOKUP(C290,code2!$A$4:$B$30,2)))","v":""},null,null,null,null,null,"","",0,"","",0,"","",0,0,null,null,null,"1-","1-"]
[null,"",null,{"$f":"IF(C291=\"\",\"\",(VLOOKUP(C291,code2!$A$4:$B$30,2)))","v":""},null,null,null,null,null,"","",0,"","",0,"","",0,0,null,null,null,"1-","1-"]
[null,"",null,{"$f":"IF(C292=\"\",\"\",(VLOOKUP(C292,code2!$A$4:$B$30,2)))","v":""},null,null,null,null,null,"","",0,"","",0,"","",0,0,null,null,null,"1-","1-"]
[null,"",null,{"$f":"IF(C293=\"\",\"\",(VLOOKUP(C293,code2!$A$4:$B$30,2)))","v":""},null,null,null,null,null,"","",0,"","",0,"","",0,0,null,null,null,"1-","1-"]
[null,"",null,{"$f":"IF(C294=\"\",\"\",(VLOOKUP(C294,code2!$A$4:$B$30,2)))","v":""},null,null,null,null,null,"","",0,"","",0,"","",0,0,null,null,null,"1-","1-"]
[null,"",null,{"$f":"IF(C295=\"\",\"\",(VLOOKUP(C295,code2!$A$4:$B$30,2)))","v":""},null,null,null,null,null,"","",0,"","",0,"","",0,0,null,null,null,"1-","1-"]
[null,"",null,{"$f":"IF(C296=\"\",\"\",(VLOOKUP(C296,code2!$A$4:$B$30,2)))","v":""},null,null,null,null,null,"","",0,"","",0,"","",0,0,null,null,null,"1-","1-"]
[null,"",null,{"$f":"IF(C297=\"\",\"\",(VLOOKUP(C297,code2!$A$4:$B$30,2)))","v":""},null,null,null,null,null,"","",0,"","",0,"","",0,0,null,null,null,"1-","1-"]
[null,"",null,{"$f":"IF(C298=\"\",\"\",(VLOOKUP(C298,code2!$A$4:$B$30,2)))","v":""},null,null,null,null,null,"","",0,"","",0,"","",0,0,null,null,null,"1-","1-"]
[null,"",null,{"$f":"IF(C299=\"\",\"\",(VLOOKUP(C299,code2!$A$4:$B$30,2)))","v":""},null,null,null,null,null,"","",0,"","",0,"","",0,0,null,null,null,"1-","1-"]
[null,"",null,{"$f":"IF(C300=\"\",\"\",(VLOOKUP(C300,code2!$A$4:$B$30,2)))","v":""},null,null,null,null,null,"","",0,"","",0,"","",0,0,null,null,null,"1-","1-"]
[null,"",null,{"$f":"IF(C301=\"\",\"\",(VLOOKUP(C301,code2!$A$4:$B$30,2)))","v":""},null,null,null,null,null,"","",0,"","",0,"","",0,0,null,null,null,"1-","1-"]
[null,"",null,{"$f":"IF(C302=\"\",\"\",(VLOOKUP(C302,code2!$A$4:$B$30,2)))","v":""},null,null,null,null,null,"","",0,"","",0,"","",0,0,null,null,null,"1-","1-"]
[null,"",null,{"$f":"IF(C303=\"\",\"\",(VLOOKUP(C303,code2!$A$4:$B$30,2)))","v":""},null,null,null,null,null,"","",0,"","",0,"","",0,0,null,null,null,"1-","1-"]
[null,"",null,{"$f":"IF(C304=\"\",\"\",(VLOOKUP(C304,code2!$A$4:$B$30,2)))","v":""},null,null,null,null,null,"","",0,"","",0,"","",0,0,null,null,null,"1-","1-"]
[null,"",null,{"$f":"IF(C305=\"\",\"\",(VLOOKUP(C305,code2!$A$4:$B$30,2)))","v":""},null,null,null,null,null,"","",0,"","",0,"","",0,0,null,null,null,"1-","1-"]
[null,"",null,{"$f":"IF(C306=\"\",\"\",(VLOOKUP(C306,code2!$A$4:$B$30,2)))","v":""},null,null,null,null,null,"","",0,"","",0,"","",0,0,null,null,null,{"$f":"MONTH(A306)&\"-\"&D306","v":"1-"},{"$f":"MONTH(A306)&\"-\"&D306&E306","v":"1-"}]
[null,"",null,{"$f":"IF(C307=\"\",\"\",(VLOOKUP(C307,code2!$A$4:$B$30,2)))","v":""},null,null,null,null,null,"","",0,"","",0,"","",0,0,null,null,null,"1-","1-"]
[null,"",null,{"$f":"IF(C308=\"\",\"\",(VLOOKUP(C308,code2!$A$4:$B$30,2)))","v":""},null,null,null,null,null,"","",0,"","",0,"","",0,0,null,null,null,"1-","1-"]
[null,"",null,{"$f":"IF(C309=\"\",\"\",(VLOOKUP(C309,code2!$A$4:$B$30,2)))","v":""},null,null,null,null,null,"","",0,"","",0,"","",0,0,null,null,null,"1-","1-"]
[null,"",null,{"$f":"IF(C310=\"\",\"\",(VLOOKUP(C310,code2!$A$4:$B$30,2)))","v":""},null,null,null,null,null,"","",0,"","",0,"","",0,0,null,null,null,"1-","1-"]
[null,"",null,{"$f":"IF(C311=\"\",\"\",(VLOOKUP(C311,code2!$A$4:$B$30,2)))","v":""},null,null,null,null,null,"","",0,"","",0,"","",0,0,null,null,null,"1-","1-"]
[null,"",null,{"$f":"IF(C312=\"\",\"\",(VLOOKUP(C312,code2!$A$4:$B$30,2)))","v":""},null,null,null,null,null,"","",0,"","",0,"","",0,0,null,null,null,"1-","1-"]
[null,"",null,{"$f":"IF(C313=\"\",\"\",(VLOOKUP(C313,code2!$A$4:$B$30,2)))","v":""},null,null,null,null,null,"","",0,"","",0,"","",0,0,null,null,null,"1-","1-"]
[null,"",null,{"$f":"IF(C314=\"\",\"\",(VLOOKUP(C314,code2!$A$4:$B$30,2)))","v":""},null,null,null,null,null,"","",0,"","",0,"","",0,0,null,null,null,"1-","1-"]
[null,"",null,{"$f":"IF(C315=\"\",\"\",(VLOOKUP(C315,code2!$A$4:$B$30,2)))","v":""},null,null,null,null,null,"","",0,"","",0,"","",0,0,null,null,null,"1-","1-"]
[null,"",null,{"$f":"IF(C316=\"\",\"\",(VLOOKUP(C316,code2!$A$4:$B$30,2)))","v":""},null,null,null,null,null,"","",0,"","",0,"","",0,0,null,null,null,"1-","1-"]
[null,"",null,{"$f":"IF(C317=\"\",\"\",(VLOOKUP(C317,code2!$A$4:$B$30,2)))","v":""},null,null,null,null,null,"","",0,"","",0,"","",0,0,null,null,null,"1-","1-"]
[null,"",null,{"$f":"IF(C318=\"\",\"\",(VLOOKUP(C318,code2!$A$4:$B$30,2)))","v":""},null,null,null,null,null,"","",0,"","",0,"","",0,0,null,null,null,"1-","1-"]
[null,"",null,{"$f":"IF(C319=\"\",\"\",(VLOOKUP(C319,code2!$A$4:$B$30,2)))","v":""},null,null,null,null,null,"","",0,"","",0,"","",0,0,null,null,null,"1-","1-"]
[null,"",null,{"$f":"IF(C320=\"\",\"\",(VLOOKUP(C320,code2!$A$4:$B$30,2)))","v":""},null,null,null,null,null,"","",0,"","",0,"","",0,0,null,null,null,"1-","1-"]
[null,"",null,{"$f":"IF(C321=\"\",\"\",(VLOOKUP(C321,code2!$A$4:$B$30,2)))","v":""},null,null,null,null,null,"","",0,"","",0,"","",0,0,null,null,null,"1-","1-"]
[null,"",null,{"$f":"IF(C322=\"\",\"\",(VLOOKUP(C322,code2!$A$4:$B$30,2)))","v":""},null,null,null,null,null,"","",0,"","",0,"","",0,0,null,null,null,"1-","1-"]
[null,"",null,{"$f":"IF(C323=\"\",\"\",(VLOOKUP(C323,code2!$A$4:$B$30,2)))","v":""},null,null,null,null,null,"","",0,"","",0,"","",0,0,null,null,null,"1-","1-"]
[null,"",null,{"$f":"IF(C324=\"\",\"\",(VLOOKUP(C324,code2!$A$4:$B$30,2)))","v":""},null,null,null,null,null,"","",0,"","",0,"","",0,0,null,null,null,"1-","1-"]
[null,{"$f":"IF(A325=\"\",\"\",A325)","v":""},null,{"$f":"IF(C325=\"\",\"\",(VLOOKUP(C325,code2!$A$4:$B$30,2)))","v":""},null,null,null,null,null,"","",0,"","",0,"","",0,0,null,null,null,"1-","1-"]
[null,"",null,{"$f":"IF(C326=\"\",\"\",(VLOOKUP(C326,code2!$A$4:$B$30,2)))","v":""},null,null,null,null,null,"","",0,"","",0,"","",{"$f":"IF(P326&Q326=\"\",R325,R325+P326-Q326)","v":0},0,null,null,null,"1-","1-"]
[null,"",null,{"$f":"IF(C327=\"\",\"\",(VLOOKUP(C327,code2!$A$4:$B$30,2)))","v":""},null,null,null,null,null,{"$f":"IF(I327=\"現金\",G327,\"\")","v":""},{"$f":"IF(I327=\"現金\",H327,\"\")","v":""},{"$f":"IF(J327&K327=\"\",L326,L326+J327-K327)","v":0},{"$f":"IF(I327=\"通帳\",G327,\"\")","v":""},{"$f":"IF(I327=\"通帳\",H327,\"\")","v":""},{"$f":"IF(M327&N327=\"\",O326,O326+M327-N327)","v":0},{"$f":"IF(I327=\"郵便振替\",G327,\"\")","v":""},{"$f":"IF(I327=\"郵便振替\",H327,\"\")","v":""},0,{"$f":"L327+O327+R327","v":0},null,null,null,"1-","1-"]
[null,"",null,{"$f":"IF(C328=\"\",\"\",(VLOOKUP(C328,code2!$A$4:$B$30,2)))","v":""},null,null,null,null,null,"","",0,"","",0,"","",0,0,null,null,null,"1-","1-"]
[null,"",null,{"$f":"IF(C329=\"\",\"\",(VLOOKUP(C329,code2!$A$4:$B$30,2)))","v":""},null,null,null,null,null,"","",0,"","",0,"","",0,0,null,null,null,"1-","1-"]
[null,"",null,{"$f":"IF(C330=\"\",\"\",(VLOOKUP(C330,code2!$A$4:$B$30,2)))","v":""},null,null,null,null,null,"","",0,"","",0,"","",0,0,null,null,null,"1-","1-"]
[null,"",null,{"$f":"IF(C331=\"\",\"\",(VLOOKUP(C331,code2!$A$4:$B$30,2)))","v":""},null,null,null,null,null,"","",0,"","",0,"","",0,0,null,null,null,"1-","1-"]
[null,"",null,{"$f":"IF(C332=\"\",\"\",(VLOOKUP(C332,code2!$A$4:$B$30,2)))","v":""},null,null,null,null,null,"","",0,"","",0,"","",0,0,null,null,null,"1-","1-"]
[null,"",null,{"$f":"IF(C333=\"\",\"\",(VLOOKUP(C333,code2!$A$4:$B$30,2)))","v":""},null,null,null,null,null,"","",0,"","",0,"","",0,0,null,null,null,"1-","1-"]
[null,"",null,{"$f":"IF(C334=\"\",\"\",(VLOOKUP(C334,code2!$A$4:$B$30,2)))","v":""},null,null,null,null,null,"","",0,"","",0,"","",0,0,null,null,null,"1-","1-"]
[null,"",null,{"$f":"IF(C335=\"\",\"\",(VLOOKUP(C335,code2!$A$4:$B$30,2)))","v":""},null,null,null,null,null,"","",0,"","",0,"","",0,0,null,null,null,"1-","1-"]
[null,"",null,{"$f":"IF(C336=\"\",\"\",(VLOOKUP(C336,code2!$A$4:$B$30,2)))","v":""},null,null,null,null,null,"","",0,"","",0,"","",0,0,null,null,null,"1-","1-"]
[null,"",null,{"$f":"IF(C337=\"\",\"\",(VLOOKUP(C337,code2!$A$4:$B$30,2)))","v":""},null,null,null,null,null,"","",0,"","",0,"","",0,0,null,null,null,"1-","1-"]
[null,"",null,{"$f":"IF(C338=\"\",\"\",(VLOOKUP(C338,code2!$A$4:$B$30,2)))","v":""},null,null,null,null,null,"","",0,"","",0,"","",0,0,null,null,null,"1-","1-"]
[null,"",null,{"$f":"IF(C339=\"\",\"\",(VLOOKUP(C339,code2!$A$4:$B$30,2)))","v":""},null,null,null,null,null,"","",0,"","",0,"","",0,0,null,null,null,"1-","1-"]
[null,"",null,{"$f":"IF(C340=\"\",\"\",(VLOOKUP(C340,code2!$A$4:$B$30,2)))","v":""},null,null,null,null,null,"","",0,"","",0,"","",0,0,null,null,null,"1-","1-"]
[null,"",null,{"$f":"IF(C341=\"\",\"\",(VLOOKUP(C341,code2!$A$4:$B$30,2)))","v":""},null,null,null,null,null,"","",0,"","",0,"","",0,0,null,null,null,"1-","1-"]
[null,"",null,{"$f":"IF(C342=\"\",\"\",(VLOOKUP(C342,code2!$A$4:$B$30,2)))","v":""},null,null,null,null,null,"","",0,"","",0,"","",0,0,null,null,null,"1-","1-"]
[null,"",null,{"$f":"IF(C343=\"\",\"\",(VLOOKUP(C343,code2!$A$4:$B$30,2)))","v":""},null,null,null,null,null,"","",0,"","",0,"","",0,0,null,null,null,"1-","1-"]
[null,"",null,{"$f":"IF(C344=\"\",\"\",(VLOOKUP(C344,code2!$A$4:$B$30,2)))","v":""},null,null,null,null,null,"","",0,"","",0,"","",0,0,null,null,null,"1-","1-"]
[null,"",null,{"$f":"IF(C345=\"\",\"\",(VLOOKUP(C345,code2!$A$4:$B$30,2)))","v":""},null,null,null,null,null,"","",0,"","",0,"","",0,0,null,null,null,"1-","1-"]
[null,"",null,{"$f":"IF(C346=\"\",\"\",(VLOOKUP(C346,code2!$A$4:$B$30,2)))","v":""},null,null,null,null,null,"","",0,"","",0,"","",0,0,null,null,null,"1-","1-"]
[null,"",null,{"$f":"IF(C347=\"\",\"\",(VLOOKUP(C347,code2!$A$4:$B$30,2)))","v":""},null,null,null,null,null,"","",0,"","",0,"","",0,0,null,null,null,"1-","1-"]
[null,"",null,{"$f":"IF(C348=\"\",\"\",(VLOOKUP(C348,code2!$A$4:$B$30,2)))","v":""},null,null,null,null,null,"","",0,"","",0,"","",0,0,null,null,null,"1-","1-"]
[null,"",null,{"$f":"IF(C349=\"\",\"\",(VLOOKUP(C349,code2!$A$4:$B$30,2)))","v":""},null,null,null,null,null,"","",0,"","",0,"","",0,0,null,null,null,"1-","1-"]
[null,"",null,{"$f":"IF(C350=\"\",\"\",(VLOOKUP(C350,code2!$A$4:$B$30,2)))","v":""},null,null,null,null,null,"","",0,"","",0,"","",0,0,null,null,null,"1-","1-"]
[null,"",null,{"$f":"IF(C351=\"\",\"\",(VLOOKUP(C351,code2!$A$4:$B$30,2)))","v":""},null,null,null,null,null,"","",0,"","",0,"","",0,0,null,null,null,"1-","1-"]
[null,"",null,{"$f":"IF(C352=\"\",\"\",(VLOOKUP(C352,code2!$A$4:$B$30,2)))","v":""},null,null,null,null,null,"","",0,"","",0,"","",0,0,null,null,null,"1-","1-"]
[null,"",null,{"$f":"IF(C353=\"\",\"\",(VLOOKUP(C353,code2!$A$4:$B$30,2)))","v":""},null,null,null,null,null,"","",0,"","",0,"","",0,0,null,null,null,"1-","1-"]
[null,"",null,{"$f":"IF(C354=\"\",\"\",(VLOOKUP(C354,code2!$A$4:$B$30,2)))","v":""},null,null,null,null,null,"","",0,"","",0,"","",0,0,null,null,null,"1-","1-"]
[null,"",null,{"$f":"IF(C355=\"\",\"\",(VLOOKUP(C355,code2!$A$4:$B$30,2)))","v":""},null,null,null,null,null,"","",0,"","",0,"","",0,0,null,null,null,"1-","1-"]
[null,"",null,{"$f":"IF(C356=\"\",\"\",(VLOOKUP(C356,code2!$A$4:$B$30,2)))","v":""},null,null,null,null,null,"","",0,"","",0,"","",0,0,null,null,null,"1-","1-"]
[null,"",null,{"$f":"IF(C357=\"\",\"\",(VLOOKUP(C357,code2!$A$4:$B$30,2)))","v":""},null,null,null,null,null,"","",0,"","",0,"","",0,0,null,null,null,"1-","1-"]
[null,"",null,{"$f":"IF(C358=\"\",\"\",(VLOOKUP(C358,code2!$A$4:$B$30,2)))","v":""},null,null,null,null,null,"","",0,"","",0,"","",0,0,null,null,null,"1-","1-"]
[null,"",null,{"$f":"IF(C359=\"\",\"\",(VLOOKUP(C359,code2!$A$4:$B$30,2)))","v":""},null,null,null,null,null,"","",0,"","",0,"","",0,0,null,null,null,"1-","1-"]
[null,"",null,{"$f":"IF(C360=\"\",\"\",(VLOOKUP(C360,code2!$A$4:$B$30,2)))","v":""},null,null,null,null,null,"","",0,"","",0,"","",0,0,null,null,null,"1-","1-"]
[null,"",null,{"$f":"IF(C361=\"\",\"\",(VLOOKUP(C361,code2!$A$4:$B$30,2)))","v":""},null,null,null,null,null,"","",0,"","",0,"","",0,0,null,null,null,"1-","1-"]
[null,"",null,{"$f":"IF(C362=\"\",\"\",(VLOOKUP(C362,code2!$A$4:$B$30,2)))","v":""},null,null,null,null,null,"","",0,"","",0,"","",0,0,null,null,null,"1-","1-"]
[null,"",null,{"$f":"IF(C363=\"\",\"\",(VLOOKUP(C363,code2!$A$4:$B$30,2)))","v":""},null,null,null,null,null,"","",0,"","",0,"","",0,0,null,null,null,"1-","1-"]
[null,"",null,{"$f":"IF(C364=\"\",\"\",(VLOOKUP(C364,code2!$A$4:$B$30,2)))","v":""},null,null,null,null,null,"","",0,"","",0,"","",0,0,null,null,null,"1-","1-"]
[null,"",null,{"$f":"IF(C365=\"\",\"\",(VLOOKUP(C365,code2!$A$4:$B$30,2)))","v":""},null,null,null,null,null,"","",0,"","",0,"","",0,0,null,null,null,"1-","1-"]
[null,"",null,{"$f":"IF(C366=\"\",\"\",(VLOOKUP(C366,code2!$A$4:$B$30,2)))","v":""},null,null,null,null,null,"","",0,"","",0,"","",0,0,null,null,null,"1-","1-"]
[null,"",null,{"$f":"IF(C367=\"\",\"\",(VLOOKUP(C367,code2!$A$4:$B$30,2)))","v":""},null,null,null,null,null,"","",0,"","",0,"","",0,0,null,null,null,"1-","1-"]
[null,"",null,{"$f":"IF(C368=\"\",\"\",(VLOOKUP(C368,code2!$A$4:$B$30,2)))","v":""},null,null,null,null,null,"","",0,"","",0,"","",0,0,null,null,null,"1-","1-"]
[null,"",null,{"$f":"IF(C369=\"\",\"\",(VLOOKUP(C369,code2!$A$4:$B$30,2)))","v":""},null,null,null,null,null,"","",0,"","",0,"","",0,0,null,null,null,"1-","1-"]
[null,"",null,{"$f":"IF(C370=\"\",\"\",(VLOOKUP(C370,code2!$A$4:$B$30,2)))","v":""},null,null,null,null,null,"","",0,"","",0,"","",0,0,null,null,null,{"$f":"MONTH(A370)&\"-\"&D370","v":"1-"},{"$f":"MONTH(A370)&\"-\"&D370&E370","v":"1-"}]
[null,"",null,{"$f":"IF(C371=\"\",\"\",(VLOOKUP(C371,code2!$A$4:$B$30,2)))","v":""},null,null,null,null,null,"","",0,"","",0,"","",0,0,null,null,null,"1-","1-"]
[null,"",null,{"$f":"IF(C372=\"\",\"\",(VLOOKUP(C372,code2!$A$4:$B$30,2)))","v":""},null,null,null,null,null,"","",0,"","",0,"","",0,0,null,null,null,"1-","1-"]
[null,"",null,{"$f":"IF(C373=\"\",\"\",(VLOOKUP(C373,code2!$A$4:$B$30,2)))","v":""},null,null,null,null,null,"","",0,"","",0,"","",0,0,null,null,null,"1-","1-"]
[null,"",null,{"$f":"IF(C374=\"\",\"\",(VLOOKUP(C374,code2!$A$4:$B$30,2)))","v":""},null,null,null,null,null,"","",0,"","",0,"","",0,0,null,null,null,"1-","1-"]
[null,"",null,{"$f":"IF(C375=\"\",\"\",(VLOOKUP(C375,code2!$A$4:$B$30,2)))","v":""},null,null,null,null,null,"","",0,"","",0,"","",0,0,null,null,null,"1-","1-"]
[null,"",null,{"$f":"IF(C376=\"\",\"\",(VLOOKUP(C376,code2!$A$4:$B$30,2)))","v":""},null,null,null,null,null,"","",0,"","",0,"","",0,0,null,null,null,"1-","1-"]
[null,"",null,{"$f":"IF(C377=\"\",\"\",(VLOOKUP(C377,code2!$A$4:$B$30,2)))","v":""},null,null,null,null,null,"","",0,"","",0,"","",0,0,null,null,null,"1-","1-"]
[null,"",null,{"$f":"IF(C378=\"\",\"\",(VLOOKUP(C378,code2!$A$4:$B$30,2)))","v":""},null,null,null,null,null,"","",0,"","",0,"","",0,0,null,null,null,"1-","1-"]
[null,"",null,{"$f":"IF(C379=\"\",\"\",(VLOOKUP(C379,code2!$A$4:$B$30,2)))","v":""},null,null,null,null,null,"","",0,"","",0,"","",0,0,null,null,null,"1-","1-"]
[null,"",null,{"$f":"IF(C380=\"\",\"\",(VLOOKUP(C380,code2!$A$4:$B$30,2)))","v":""},null,null,null,null,null,"","",0,"","",0,"","",0,0,null,null,null,"1-","1-"]
[null,"",null,{"$f":"IF(C381=\"\",\"\",(VLOOKUP(C381,code2!$A$4:$B$30,2)))","v":""},null,null,null,null,null,"","",0,"","",0,"","",0,0,null,null,null,"1-","1-"]
[null,"",null,{"$f":"IF(C382=\"\",\"\",(VLOOKUP(C382,code2!$A$4:$B$30,2)))","v":""},null,null,null,null,null,"","",0,"","",0,"","",0,0,null,null,null,"1-","1-"]
[null,"",null,{"$f":"IF(C383=\"\",\"\",(VLOOKUP(C383,code2!$A$4:$B$30,2)))","v":""},null,null,null,null,null,"","",0,"","",0,"","",0,0,null,null,null,"1-","1-"]
[null,"",null,{"$f":"IF(C384=\"\",\"\",(VLOOKUP(C384,code2!$A$4:$B$30,2)))","v":""},null,null,null,null,null,"","",0,"","",0,"","",0,0,null,null,null,"1-","1-"]
[null,"",null,{"$f":"IF(C385=\"\",\"\",(VLOOKUP(C385,code2!$A$4:$B$30,2)))","v":""},null,null,null,null,null,"","",0,"","",0,"","",0,0,null,null,null,"1-","1-"]
[null,"",null,{"$f":"IF(C386=\"\",\"\",(VLOOKUP(C386,code2!$A$4:$B$30,2)))","v":""},null,null,null,null,null,"","",0,"","",0,"","",0,0,null,null,null,"1-","1-"]
[null,"",null,{"$f":"IF(C387=\"\",\"\",(VLOOKUP(C387,code2!$A$4:$B$30,2)))","v":""},null,null,null,null,null,"","",0,"","",0,"","",0,0,null,null,null,"1-","1-"]
[null,"",null,{"$f":"IF(C388=\"\",\"\",(VLOOKUP(C388,code2!$A$4:$B$30,2)))","v":""},null,null,null,null,null,"","",0,"","",0,"","",0,0,null,null,null,"1-","1-"]
[null,{"$f":"IF(A389=\"\",\"\",A389)","v":""},null,{"$f":"IF(C389=\"\",\"\",(VLOOKUP(C389,code2!$A$4:$B$30,2)))","v":""},null,null,null,null,null,"","",0,"","",0,"","",0,0,null,null,null,"1-","1-"]
[null,"",null,{"$f":"IF(C390=\"\",\"\",(VLOOKUP(C390,code2!$A$4:$B$30,2)))","v":""},null,null,null,null,null,"","",0,"","",0,"","",{"$f":"IF(P390&Q390=\"\",R389,R389+P390-Q390)","v":0},0,null,null,null,"1-","1-"]
[null,"",null,{"$f":"IF(C391=\"\",\"\",(VLOOKUP(C391,code2!$A$4:$B$30,2)))","v":""},null,null,null,null,null,{"$f":"IF(I391=\"現金\",G391,\"\")","v":""},{"$f":"IF(I391=\"現金\",H391,\"\")","v":""},{"$f":"IF(J391&K391=\"\",L390,L390+J391-K391)","v":0},{"$f":"IF(I391=\"通帳\",G391,\"\")","v":""},{"$f":"IF(I391=\"通帳\",H391,\"\")","v":""},{"$f":"IF(M391&N391=\"\",O390,O390+M391-N391)","v":0},{"$f":"IF(I391=\"郵便振替\",G391,\"\")","v":""},{"$f":"IF(I391=\"郵便振替\",H391,\"\")","v":""},0,{"$f":"L391+O391+R391","v":0},null,null,null,"1-","1-"]
[null,"",null,{"$f":"IF(C392=\"\",\"\",(VLOOKUP(C392,code2!$A$4:$B$30,2)))","v":""},null,null,null,null,null,"","",0,"","",0,"","",0,0,null,null,null,"1-","1-"]
[null,"",null,{"$f":"IF(C393=\"\",\"\",(VLOOKUP(C393,code2!$A$4:$B$30,2)))","v":""},null,null,null,null,null,"","",0,"","",0,"","",0,0,null,null,null,"1-","1-"]
[null,"",null,{"$f":"IF(C394=\"\",\"\",(VLOOKUP(C394,code2!$A$4:$B$30,2)))","v":""},null,null,null,null,null,"","",0,"","",0,"","",0,0,null,null,null,"1-","1-"]
[null,"",null,{"$f":"IF(C395=\"\",\"\",(VLOOKUP(C395,code2!$A$4:$B$30,2)))","v":""},null,null,null,null,null,"","",0,"","",0,"","",0,0,null,null,null,"1-","1-"]
[null,"",null,{"$f":"IF(C396=\"\",\"\",(VLOOKUP(C396,code2!$A$4:$B$30,2)))","v":""},null,null,null,null,null,"","",0,"","",0,"","",0,0,null,null,null,"1-","1-"]
[null,"",null,{"$f":"IF(C397=\"\",\"\",(VLOOKUP(C397,code2!$A$4:$B$30,2)))","v":""},null,null,null,null,null,"","",0,"","",0,"","",0,0,null,null,null,"1-","1-"]
[null,"",null,{"$f":"IF(C398=\"\",\"\",(VLOOKUP(C398,code2!$A$4:$B$30,2)))","v":""},null,null,null,null,null,"","",0,"","",0,"","",0,0,null,null,null,"1-","1-"]
[null,"",null,{"$f":"IF(C399=\"\",\"\",(VLOOKUP(C399,code2!$A$4:$B$30,2)))","v":""},null,null,null,null,null,"","",0,"","",0,"","",0,0,null,null,null,"1-","1-"]
[null,"",null,{"$f":"IF(C400=\"\",\"\",(VLOOKUP(C400,code2!$A$4:$B$30,2)))","v":""},null,null,null,null,null,"","",0,"","",0,"","",0,0,null,null,null,"1-","1-"]
[null,"",null,{"$f":"IF(C401=\"\",\"\",(VLOOKUP(C401,code2!$A$4:$B$30,2)))","v":""},null,null,null,null,null,"","",0,"","",0,"","",0,0,null,null,null,"1-","1-"]
[null,"",null,{"$f":"IF(C402=\"\",\"\",(VLOOKUP(C402,code2!$A$4:$B$30,2)))","v":""},null,null,null,null,null,"","",0,"","",0,"","",0,0,null,null,null,"1-","1-"]
[null,"",null,{"$f":"IF(C403=\"\",\"\",(VLOOKUP(C403,code2!$A$4:$B$30,2)))","v":""},null,null,null,null,null,"","",0,"","",0,"","",0,0,null,null,null,"1-","1-"]
[null,"",null,{"$f":"IF(C404=\"\",\"\",(VLOOKUP(C404,code2!$A$4:$B$30,2)))","v":""},null,null,null,null,null,"","",0,"","",0,"","",0,0,null,null,null,"1-","1-"]
[null,"",null,{"$f":"IF(C405=\"\",\"\",(VLOOKUP(C405,code2!$A$4:$B$30,2)))","v":""},null,null,null,null,null,"","",0,"","",0,"","",0,0,null,null,null,"1-","1-"]
[null,"",null,{"$f":"IF(C406=\"\",\"\",(VLOOKUP(C406,code2!$A$4:$B$30,2)))","v":""},null,null,null,null,null,"","",0,"","",0,"","",0,0,null,null,null,"1-","1-"]
[null,"",null,{"$f":"IF(C407=\"\",\"\",(VLOOKUP(C407,code2!$A$4:$B$30,2)))","v":""},null,null,null,null,null,"","",0,"","",0,"","",0,0,null,null,null,"1-","1-"]
[null,"",null,{"$f":"IF(C408=\"\",\"\",(VLOOKUP(C408,code2!$A$4:$B$30,2)))","v":""},null,null,null,null,null,"","",0,"","",0,"","",0,0,null,null,null,"1-","1-"]
[null,"",null,{"$f":"IF(C409=\"\",\"\",(VLOOKUP(C409,code2!$A$4:$B$30,2)))","v":""},null,null,null,null,null,"","",0,"","",0,"","",0,0,null,null,null,"1-","1-"]
[null,"",null,{"$f":"IF(C410=\"\",\"\",(VLOOKUP(C410,code2!$A$4:$B$30,2)))","v":""},null,null,null,null,null,"","",0,"","",0,"","",0,0,null,null,null,"1-","1-"]
[null,"",null,{"$f":"IF(C411=\"\",\"\",(VLOOKUP(C411,code2!$A$4:$B$30,2)))","v":""},null,null,null,null,null,"","",0,"","",0,"","",0,0,null,null,null,"1-","1-"]
[null,"",null,{"$f":"IF(C412=\"\",\"\",(VLOOKUP(C412,code2!$A$4:$B$30,2)))","v":""},null,null,null,null,null,"","",0,"","",0,"","",0,0,null,null,null,"1-","1-"]
[null,"",null,{"$f":"IF(C413=\"\",\"\",(VLOOKUP(C413,code2!$A$4:$B$30,2)))","v":""},null,null,null,null,null,"","",0,"","",0,"","",0,0,null,null,null,"1-","1-"]
[null,"",null,{"$f":"IF(C414=\"\",\"\",(VLOOKUP(C414,code2!$A$4:$B$30,2)))","v":""},null,null,null,null,null,"","",0,"","",0,"","",0,0,null,null,null,"1-","1-"]
[null,"",null,{"$f":"IF(C415=\"\",\"\",(VLOOKUP(C415,code2!$A$4:$B$30,2)))","v":""},null,null,null,null,null,"","",0,"","",0,"","",0,0,null,null,null,"1-","1-"]
[null,"",null,{"$f":"IF(C416=\"\",\"\",(VLOOKUP(C416,code2!$A$4:$B$30,2)))","v":""},null,null,null,null,null,"","",0,"","",0,"","",0,0,null,null,null,"1-","1-"]
[null,"",null,{"$f":"IF(C417=\"\",\"\",(VLOOKUP(C417,code2!$A$4:$B$30,2)))","v":""},null,null,null,null,null,"","",0,"","",0,"","",0,0,null,null,null,"1-","1-"]
[null,"",null,{"$f":"IF(C418=\"\",\"\",(VLOOKUP(C418,code2!$A$4:$B$30,2)))","v":""},null,null,null,null,null,"","",0,"","",0,"","",0,0,null,null,null,"1-","1-"]
[null,"",null,{"$f":"IF(C419=\"\",\"\",(VLOOKUP(C419,code2!$A$4:$B$30,2)))","v":""},null,null,null,null,null,"","",0,"","",0,"","",0,0,null,null,null,"1-","1-"]
[null,"",null,{"$f":"IF(C420=\"\",\"\",(VLOOKUP(C420,code2!$A$4:$B$30,2)))","v":""},null,null,null,null,null,"","",0,"","",0,"","",0,0,null,null,null,"1-","1-"]
[null,"",null,{"$f":"IF(C421=\"\",\"\",(VLOOKUP(C421,code2!$A$4:$B$30,2)))","v":""},null,null,null,null,null,"","",0,"","",0,"","",0,0,null,null,null,"1-","1-"]
[null,"",null,{"$f":"IF(C422=\"\",\"\",(VLOOKUP(C422,code2!$A$4:$B$30,2)))","v":""},null,null,null,null,null,"","",0,"","",0,"","",0,0,null,null,null,"1-","1-"]
[null,"",null,{"$f":"IF(C423=\"\",\"\",(VLOOKUP(C423,code2!$A$4:$B$30,2)))","v":""},null,null,null,null,null,"","",0,"","",0,"","",0,0,null,null,null,"1-","1-"]
[null,"",null,{"$f":"IF(C424=\"\",\"\",(VLOOKUP(C424,code2!$A$4:$B$30,2)))","v":""},null,null,null,null,null,"","",0,"","",0,"","",0,0,null,null,null,"1-","1-"]
[null,"",null,{"$f":"IF(C425=\"\",\"\",(VLOOKUP(C425,code2!$A$4:$B$30,2)))","v":""},null,null,null,null,null,"","",0,"","",0,"","",0,0,null,null,null,"1-","1-"]
[null,"",null,{"$f":"IF(C426=\"\",\"\",(VLOOKUP(C426,code2!$A$4:$B$30,2)))","v":""},null,null,null,null,null,"","",0,"","",0,"","",0,0,null,null,null,"1-","1-"]
[null,"",null,{"$f":"IF(C427=\"\",\"\",(VLOOKUP(C427,code2!$A$4:$B$30,2)))","v":""},null,null,null,null,null,"","",0,"","",0,"","",0,{"$f":"L427+O427+R427","v":0},null,null,null,{"$f":"MONTH(A427)&\"-\"&D427","v":"1-"},{"$f":"MONTH(A427)&\"-\"&D427&E427","v":"1-"}]
[null,"",null,{"$f":"IF(C428=\"\",\"\",(VLOOKUP(C428,code2!$A$4:$B$30,2)))","v":""},null,null,null,null,null,"","",0,"","",0,"","",0,0,null,null,null,"1-","1-"]
[null,"",null,{"$f":"IF(C429=\"\",\"\",(VLOOKUP(C429,code2!$A$4:$B$30,2)))","v":""},null,null,null,null,null,"","",0,"","",0,"","",0,0,null,null,null,"1-","1-"]
[null,"",null,{"$f":"IF(C430=\"\",\"\",(VLOOKUP(C430,code2!$A$4:$B$30,2)))","v":""},null,null,null,null,null,"","",0,"","",0,"","",0,0,null,null,null,"1-","1-"]
[null,"",null,{"$f":"IF(C431=\"\",\"\",(VLOOKUP(C431,code2!$A$4:$B$30,2)))","v":""},null,null,null,null,null,"","",0,"","",0,"","",0,0,null,null,null,"1-","1-"]
[null,"",null,{"$f":"IF(C432=\"\",\"\",(VLOOKUP(C432,code2!$A$4:$B$30,2)))","v":""},null,null,null,null,null,"","",0,"","",0,"","",0,0,null,null,null,"1-","1-"]
[null,"",null,{"$f":"IF(C433=\"\",\"\",(VLOOKUP(C433,code2!$A$4:$B$30,2)))","v":""},null,null,null,null,null,"","",0,"","",0,"","",0,0,null,null,null,"1-","1-"]
[null,"",null,{"$f":"IF(C434=\"\",\"\",(VLOOKUP(C434,code2!$A$4:$B$30,2)))","v":""},null,null,null,null,null,"","",0,"","",0,"","",0,0,null,null,null,"1-","1-"]
[null,"",null,{"$f":"IF(C435=\"\",\"\",(VLOOKUP(C435,code2!$A$4:$B$30,2)))","v":""},null,null,null,null,null,"","",0,"","",0,"","",0,0,null,null,null,{"$f":"MONTH(A435)&\"-\"&D435","v":"1-"},{"$f":"MONTH(A435)&\"-\"&D435&E435","v":"1-"}]
[null,"",null,{"$f":"IF(C436=\"\",\"\",(VLOOKUP(C436,code2!$A$4:$B$30,2)))","v":""},null,null,null,null,null,"","",0,"","",0,"","",0,0,null,null,null,"1-","1-"]
[null,"",null,{"$f":"IF(C437=\"\",\"\",(VLOOKUP(C437,code2!$A$4:$B$30,2)))","v":""},null,null,null,null,null,"","",0,"","",0,"","",0,0,null,null,null,"1-","1-"]
[null,"",null,{"$f":"IF(C438=\"\",\"\",(VLOOKUP(C438,code2!$A$4:$B$30,2)))","v":""},null,null,null,null,null,"","",0,"","",0,"","",0,0,null,null,null,"1-","1-"]
[null,"",null,{"$f":"IF(C439=\"\",\"\",(VLOOKUP(C439,code2!$A$4:$B$30,2)))","v":""},null,null,null,null,null,"","",0,"","",0,"","",0,0,null,null,null,"1-","1-"]
[null,"",null,{"$f":"IF(C440=\"\",\"\",(VLOOKUP(C440,code2!$A$4:$B$30,2)))","v":""},null,null,null,null,null,"","",0,"","",0,"","",0,0,null,null,null,"1-","1-"]
[null,"",null,{"$f":"IF(C441=\"\",\"\",(VLOOKUP(C441,code2!$A$4:$B$30,2)))","v":""},null,null,null,null,null,"","",0,"","",0,"","",0,0,null,null,null,"1-","1-"]
[null,"",null,{"$f":"IF(C442=\"\",\"\",(VLOOKUP(C442,code2!$A$4:$B$30,2)))","v":""},null,null,null,null,null,"","",0,"","",0,"","",0,0,null,null,null,"1-","1-"]
[null,"",null,{"$f":"IF(C443=\"\",\"\",(VLOOKUP(C443,code2!$A$4:$B$30,2)))","v":""},null,null,null,null,null,"","",0,"","",0,"","",0,0,null,null,null,"1-","1-"]
[null,"",null,{"$f":"IF(C444=\"\",\"\",(VLOOKUP(C444,code2!$A$4:$B$30,2)))","v":""},null,null,null,null,null,"","",0,"","",0,"","",0,0,null,null,null,"1-","1-"]
[null,"",null,{"$f":"IF(C445=\"\",\"\",(VLOOKUP(C445,code2!$A$4:$B$30,2)))","v":""},null,null,null,null,null,"","",0,"","",0,"","",0,0,null,null,null,"1-","1-"]
[null,"",null,{"$f":"IF(C446=\"\",\"\",(VLOOKUP(C446,code2!$A$4:$B$30,2)))","v":""},null,null,null,null,null,"","",0,"","",0,"","",0,0,null,null,null,"1-","1-"]
[null,"",null,{"$f":"IF(C447=\"\",\"\",(VLOOKUP(C447,code2!$A$4:$B$30,2)))","v":""},null,null,null,null,null,"","",0,"","",0,"","",0,0,null,null,null,"1-","1-"]
[null,"",null,{"$f":"IF(C448=\"\",\"\",(VLOOKUP(C448,code2!$A$4:$B$30,2)))","v":""},null,null,null,null,null,"","",0,"","",0,"","",0,0,null,null,null,"1-","1-"]
[null,"",null,{"$f":"IF(C449=\"\",\"\",(VLOOKUP(C449,code2!$A$4:$B$30,2)))","v":""},null,null,null,null,null,"","",0,"","",0,"","",0,0,null,null,null,"1-","1-"]
[null,"",null,{"$f":"IF(C450=\"\",\"\",(VLOOKUP(C450,code2!$A$4:$B$30,2)))","v":""},null,null,null,null,null,"","",0,"","",0,"","",0,0,null,null,null,"1-","1-"]
[null,"",null,{"$f":"IF(C451=\"\",\"\",(VLOOKUP(C451,code2!$A$4:$B$30,2)))","v":""},null,null,null,null,null,"","",0,"","",0,"","",0,0,null,null,null,"1-","1-"]
[null,"",null,{"$f":"IF(C452=\"\",\"\",(VLOOKUP(C452,code2!$A$4:$B$30,2)))","v":""},null,null,null,null,null,"","",0,"","",0,"","",0,0,null,null,null,"1-","1-"]
[null,{"$f":"IF(A453=\"\",\"\",A453)","v":""},null,{"$f":"IF(C453=\"\",\"\",(VLOOKUP(C453,code2!$A$4:$B$30,2)))","v":""},null,null,null,null,null,"","",0,"","",0,"","",0,0,null,null,null,"1-","1-"]
[null,"",null,{"$f":"IF(C454=\"\",\"\",(VLOOKUP(C454,code2!$A$4:$B$30,2)))","v":""},null,null,null,null,null,"","",0,"","",0,"","",{"$f":"IF(P454&Q454=\"\",R453,R453+P454-Q454)","v":0},0,null,null,null,"1-","1-"]
[null,"",null,{"$f":"IF(C455=\"\",\"\",(VLOOKUP(C455,code2!$A$4:$B$30,2)))","v":""},null,null,null,null,null,{"$f":"IF(I455=\"現金\",G455,\"\")","v":""},{"$f":"IF(I455=\"現金\",H455,\"\")","v":""},{"$f":"IF(J455&K455=\"\",L454,L454+J455-K455)","v":0},{"$f":"IF(I455=\"通帳\",G455,\"\")","v":""},{"$f":"IF(I455=\"通帳\",H455,\"\")","v":""},{"$f":"IF(M455&N455=\"\",O454,O454+M455-N455)","v":0},{"$f":"IF(I455=\"郵便振替\",G455,\"\")","v":""},{"$f":"IF(I455=\"郵便振替\",H455,\"\")","v":""},0,0,null,null,null,"1-","1-"]
[null,"",null,{"$f":"IF(C456=\"\",\"\",(VLOOKUP(C456,code2!$A$4:$B$30,2)))","v":""},null,null,null,null,null,"","",0,"","",0,"","",0,{"$f":"L456+O456+R456","v":0},null,null,null,"1-","1-"]
[null,"",null,{"$f":"IF(C457=\"\",\"\",(VLOOKUP(C457,code2!$A$4:$B$30,2)))","v":""},null,null,null,null,null,"","",0,"","",0,"","",0,0,null,null,null,"1-","1-"]
[null,"",null,{"$f":"IF(C458=\"\",\"\",(VLOOKUP(C458,code2!$A$4:$B$30,2)))","v":""},null,null,null,null,null,"","",0,"","",0,"","",0,0,null,null,null,"1-","1-"]
[null,"",null,{"$f":"IF(C459=\"\",\"\",(VLOOKUP(C459,code2!$A$4:$B$30,2)))","v":""},null,null,null,null,null,"","",0,"","",0,"","",0,0,null,null,null,"1-","1-"]
[null,"",null,{"$f":"IF(C460=\"\",\"\",(VLOOKUP(C460,code2!$A$4:$B$30,2)))","v":""},null,null,null,null,null,"","",0,"","",0,"","",0,0,null,null,null,"1-","1-"]
[null,"",null,{"$f":"IF(C461=\"\",\"\",(VLOOKUP(C461,code2!$A$4:$B$30,2)))","v":""},null,null,null,null,null,"","",0,"","",0,"","",0,0,null,null,null,"1-","1-"]
[null,"",null,{"$f":"IF(C462=\"\",\"\",(VLOOKUP(C462,code2!$A$4:$B$30,2)))","v":""},null,null,null,null,null,"","",0,"","",0,"","",0,0,null,null,null,"1-","1-"]
[null,"",null,{"$f":"IF(C463=\"\",\"\",(VLOOKUP(C463,code2!$A$4:$B$30,2)))","v":""},null,null,null,null,null,"","",0,"","",0,"","",0,0,null,null,null,"1-","1-"]
[null,"",null,{"$f":"IF(C464=\"\",\"\",(VLOOKUP(C464,code2!$A$4:$B$30,2)))","v":""},null,null,null,null,null,"","",0,"","",0,"","",0,0,null,null,null,"1-","1-"]
[null,"",null,{"$f":"IF(C465=\"\",\"\",(VLOOKUP(C465,code2!$A$4:$B$30,2)))","v":""},null,null,null,null,null,"","",0,"","",0,"","",0,0,null,null,null,"1-","1-"]
[null,"",null,{"$f":"IF(C466=\"\",\"\",(VLOOKUP(C466,code2!$A$4:$B$30,2)))","v":""},null,null,null,null,null,"","",0,"","",0,"","",0,0,null,null,null,"1-","1-"]
[null,"",null,{"$f":"IF(C467=\"\",\"\",(VLOOKUP(C467,code2!$A$4:$B$30,2)))","v":""},null,null,null,null,null,"","",0,"","",0,"","",0,0,null,null,null,"1-","1-"]
[null,"",null,{"$f":"IF(C468=\"\",\"\",(VLOOKUP(C468,code2!$A$4:$B$30,2)))","v":""},null,null,null,null,null,"","",0,"","",0,"","",0,0,null,null,null,"1-","1-"]
[null,"",null,{"$f":"IF(C469=\"\",\"\",(VLOOKUP(C469,code2!$A$4:$B$30,2)))","v":""},null,null,null,null,null,"","",0,"","",0,"","",0,0,null,null,null,"1-","1-"]
[null,"",null,{"$f":"IF(C470=\"\",\"\",(VLOOKUP(C470,code2!$A$4:$B$30,2)))","v":""},null,null,null,null,null,"","",0,"","",0,"","",0,0,null,null,null,"1-","1-"]
[null,"",null,{"$f":"IF(C471=\"\",\"\",(VLOOKUP(C471,code2!$A$4:$B$30,2)))","v":""},null,null,null,null,null,"","",0,"","",0,"","",0,0,null,null,null,"1-","1-"]
[null,"",null,{"$f":"IF(C472=\"\",\"\",(VLOOKUP(C472,code2!$A$4:$B$30,2)))","v":""},null,null,null,null,null,"","",0,"","",0,"","",0,0,null,null,null,"1-","1-"]
[null,"",null,{"$f":"IF(C473=\"\",\"\",(VLOOKUP(C473,code2!$A$4:$B$30,2)))","v":""},null,null,null,null,null,"","",0,"","",0,"","",0,0,null,null,null,"1-","1-"]
[null,"",null,{"$f":"IF(C474=\"\",\"\",(VLOOKUP(C474,code2!$A$4:$B$30,2)))","v":""},null,null,null,null,null,"","",0,"","",0,"","",0,0,null,null,null,"1-","1-"]
[null,"",null,{"$f":"IF(C475=\"\",\"\",(VLOOKUP(C475,code2!$A$4:$B$30,2)))","v":""},null,null,null,null,null,"","",0,"","",0,"","",0,0,null,null,null,"1-","1-"]
[null,"",null,{"$f":"IF(C476=\"\",\"\",(VLOOKUP(C476,code2!$A$4:$B$30,2)))","v":""},null,null,null,null,null,"","",0,"","",0,"","",0,0,null,null,null,"1-","1-"]
[null,"",null,{"$f":"IF(C477=\"\",\"\",(VLOOKUP(C477,code2!$A$4:$B$30,2)))","v":""},null,null,null,null,null,"","",0,"","",0,"","",0,0,null,null,null,"1-","1-"]
[null,"",null,{"$f":"IF(C478=\"\",\"\",(VLOOKUP(C478,code2!$A$4:$B$30,2)))","v":""},null,null,null,null,null,"","",0,"","",0,"","",0,0,null,null,null,"1-","1-"]
[null,"",null,{"$f":"IF(C479=\"\",\"\",(VLOOKUP(C479,code2!$A$4:$B$30,2)))","v":""},null,null,null,null,null,"","",0,"","",0,"","",0,0,null,null,null,"1-","1-"]
[null,"",null,{"$f":"IF(C480=\"\",\"\",(VLOOKUP(C480,code2!$A$4:$B$30,2)))","v":""},null,null,null,null,null,"","",0,"","",0,"","",0,0,null,null,null,"1-","1-"]
[null,"",null,{"$f":"IF(C481=\"\",\"\",(VLOOKUP(C481,code2!$A$4:$B$30,2)))","v":""},null,null,null,null,null,"","",0,"","",0,"","",0,0,null,null,null,"1-","1-"]
[null,"",null,{"$f":"IF(C482=\"\",\"\",(VLOOKUP(C482,code2!$A$4:$B$30,2)))","v":""},null,null,null,null,null,"","",0,"","",0,"","",0,0,null,null,null,"1-","1-"]
[null,"",null,{"$f":"IF(C483=\"\",\"\",(VLOOKUP(C483,code2!$A$4:$B$30,2)))","v":""},null,null,null,null,null,"","",0,"","",0,"","",0,0,null,null,null,"1-","1-"]
[null,"",null,{"$f":"IF(C484=\"\",\"\",(VLOOKUP(C484,code2!$A$4:$B$30,2)))","v":""},null,null,null,null,null,"","",0,"","",0,"","",0,0,null,null,null,"1-","1-"]
[null,"",null,{"$f":"IF(C485=\"\",\"\",(VLOOKUP(C485,code2!$A$4:$B$30,2)))","v":""},null,null,null,null,null,"","",0,"","",0,"","",0,0,null,null,null,"1-","1-"]
[null,"",null,{"$f":"IF(C486=\"\",\"\",(VLOOKUP(C486,code2!$A$4:$B$30,2)))","v":""},null,null,null,null,null,"","",0,"","",0,"","",0,0,null,null,null,"1-","1-"]
[null,"",null,{"$f":"IF(C487=\"\",\"\",(VLOOKUP(C487,code2!$A$4:$B$30,2)))","v":""},null,null,null,null,null,"","",0,"","",0,"","",0,0,null,null,null,"1-","1-"]
[null,"",null,{"$f":"IF(C488=\"\",\"\",(VLOOKUP(C488,code2!$A$4:$B$30,2)))","v":""},null,null,null,null,null,"","",0,"","",0,"","",0,0,null,null,null,"1-","1-"]
[null,"",null,{"$f":"IF(C489=\"\",\"\",(VLOOKUP(C489,code2!$A$4:$B$30,2)))","v":""},null,null,null,null,null,"","",0,"","",0,"","",0,0,null,null,null,"1-","1-"]
[null,"",null,{"$f":"IF(C490=\"\",\"\",(VLOOKUP(C490,code2!$A$4:$B$30,2)))","v":""},null,null,null,null,null,"","",0,"","",0,"","",0,0,null,null,null,"1-","1-"]
[null,"",null,{"$f":"IF(C491=\"\",\"\",(VLOOKUP(C491,code2!$A$4:$B$30,2)))","v":""},null,null,null,null,null,"","",0,"","",0,"","",0,0,null,null,null,"1-","1-"]
[null,"",null,{"$f":"IF(C492=\"\",\"\",(VLOOKUP(C492,code2!$A$4:$B$30,2)))","v":""},null,null,null,null,null,"","",0,"","",0,"","",0,0,null,null,null,"1-","1-"]
[null,"",null,{"$f":"IF(C493=\"\",\"\",(VLOOKUP(C493,code2!$A$4:$B$30,2)))","v":""},null,null,null,null,null,"","",0,"","",0,"","",0,0,null,null,null,"1-","1-"]
[null,"",null,{"$f":"IF(C494=\"\",\"\",(VLOOKUP(C494,code2!$A$4:$B$30,2)))","v":""},null,null,null,null,null,"","",0,"","",0,"","",0,0,null,null,null,"1-","1-"]
[null,"",null,{"$f":"IF(C495=\"\",\"\",(VLOOKUP(C495,code2!$A$4:$B$30,2)))","v":""},null,null,null,null,null,"","",0,"","",0,"","",0,0,null,null,null,"1-","1-"]
[null,"",null,{"$f":"IF(C496=\"\",\"\",(VLOOKUP(C496,code2!$A$4:$B$30,2)))","v":""},null,null,null,null,null,"","",0,"","",0,"","",0,0,null,null,null,"1-","1-"]
[null,"",null,{"$f":"IF(C497=\"\",\"\",(VLOOKUP(C497,code2!$A$4:$B$30,2)))","v":""},null,null,null,null,null,"","",0,"","",0,"","",0,0,null,null,null,"1-","1-"]
[null,"",null,{"$f":"IF(C498=\"\",\"\",(VLOOKUP(C498,code2!$A$4:$B$30,2)))","v":""},null,null,null,null,null,"","",0,"","",0,"","",0,0,null,null,null,"1-","1-"]
[null,"",null,{"$f":"IF(C499=\"\",\"\",(VLOOKUP(C499,code2!$A$4:$B$30,2)))","v":""},null,null,null,null,null,"","",0,"","",0,"","",0,0,null,null,null,{"$f":"MONTH(A499)&\"-\"&D499","v":"1-"},{"$f":"MONTH(A499)&\"-\"&D499&E499","v":"1-"}]
[null,"",null,{"$f":"IF(C500=\"\",\"\",(VLOOKUP(C500,code2!$A$4:$B$30,2)))","v":""},null,null,null,null,null,"","",0,"","",0,"","",0,0,null,null,null,"1-","1-"]
[null,"",null,{"$f":"IF(C501=\"\",\"\",(VLOOKUP(C501,code2!$A$4:$B$30,2)))","v":""},null,null,null,null,null,"","",0,"","",0,"","",0,0,null,null,null,"1-","1-"]
[null,"",null,{"$f":"IF(C502=\"\",\"\",(VLOOKUP(C502,code2!$A$4:$B$30,2)))","v":""},null,null,null,null,null,"","",0,"","",0,"","",0,0,null,null,null,"1-","1-"]
[null,"",null,{"$f":"IF(C503=\"\",\"\",(VLOOKUP(C503,code2!$A$4:$B$30,2)))","v":""},null,null,null,null,null,"","",0,"","",0,"","",0,0,null,null,null,"1-","1-"]
[null,"",null,{"$f":"IF(C504=\"\",\"\",(VLOOKUP(C504,code2!$A$4:$B$30,2)))","v":""},null,null,null,null,null,"","",0,"","",0,"","",0,0,null,null,null,"1-","1-"]
[null,"",null,{"$f":"IF(C505=\"\",\"\",(VLOOKUP(C505,code2!$A$4:$B$30,2)))","v":""},null,null,null,null,null,"","",0,"","",0,"","",0,0,null,null,null,"1-","1-"]
[null,"",null,{"$f":"IF(C506=\"\",\"\",(VLOOKUP(C506,code2!$A$4:$B$30,2)))","v":""},null,null,null,null,null,"","",0,"","",0,"","",0,0,null,null,null,"1-","1-"]
[null,"",null,{"$f":"IF(C507=\"\",\"\",(VLOOKUP(C507,code2!$A$4:$B$30,2)))","v":""},null,null,null,null,null,"","",0,"","",0,"","",0,0,null,null,null,"1-","1-"]
[null,"",null,{"$f":"IF(C508=\"\",\"\",(VLOOKUP(C508,code2!$A$4:$B$30,2)))","v":""},null,null,null,null,null,"","",0,"","",0,"","",0,0,null,null,null,"1-","1-"]
[null,"",null,{"$f":"IF(C509=\"\",\"\",(VLOOKUP(C509,code2!$A$4:$B$30,2)))","v":""},null,null,null,null,null,"","",0,"","",0,"","",0,0,null,null,null,"1-","1-"]
[null,"",null,{"$f":"IF(C510=\"\",\"\",(VLOOKUP(C510,code2!$A$4:$B$30,2)))","v":""},null,null,null,null,null,"","",0,"","",0,"","",0,0,null,null,null,"1-","1-"]
[null,"",null,{"$f":"IF(C511=\"\",\"\",(VLOOKUP(C511,code2!$A$4:$B$30,2)))","v":""},null,null,null,null,null,"","",0,"","",0,"","",0,0,null,null,null,"1-","1-"]
[null,"",null,{"$f":"IF(C512=\"\",\"\",(VLOOKUP(C512,code2!$A$4:$B$30,2)))","v":""},null,null,null,null,null,"","",0,"","",0,"","",0,0,null,null,null,"1-","1-"]
[null,"",null,{"$f":"IF(C513=\"\",\"\",(VLOOKUP(C513,code2!$A$4:$B$30,2)))","v":""},null,null,null,null,null,"","",0,"","",0,"","",0,0,null,null,null,"1-","1-"]
[null,"",null,{"$f":"IF(C514=\"\",\"\",(VLOOKUP(C514,code2!$A$4:$B$30,2)))","v":""},null,null,null,null,null,"","",0,"","",0,"","",0,0,null,null,null,"1-","1-"]
[null,"",null,{"$f":"IF(C515=\"\",\"\",(VLOOKUP(C515,code2!$A$4:$B$30,2)))","v":""},null,null,null,null,null,"","",0,"","",0,"","",0,0,null,null,null,"1-","1-"]
[null,"",null,{"$f":"IF(C516=\"\",\"\",(VLOOKUP(C516,code2!$A$4:$B$30,2)))","v":""},null,null,null,null,null,"","",0,"","",0,"","",0,0,null,null,null,"1-","1-"]
[null,{"$f":"IF(A517=\"\",\"\",A517)","v":""},null,{"$f":"IF(C517=\"\",\"\",(VLOOKUP(C517,code2!$A$4:$B$30,2)))","v":""},null,null,null,null,null,"","",0,"","",0,"","",0,0,null,null,null,"1-","1-"]
[null,"",null,{"$f":"IF(C518=\"\",\"\",(VLOOKUP(C518,code2!$A$4:$B$30,2)))","v":""},null,null,null,null,null,"","",0,"","",0,"","",{"$f":"IF(P518&Q518=\"\",R517,R517+P518-Q518)","v":0},0,null,null,null,"1-","1-"]
[null,"",null,{"$f":"IF(C519=\"\",\"\",(VLOOKUP(C519,code2!$A$4:$B$30,2)))","v":""},null,null,null,null,null,{"$f":"IF(I519=\"現金\",G519,\"\")","v":""},{"$f":"IF(I519=\"現金\",H519,\"\")","v":""},{"$f":"IF(J519&K519=\"\",L518,L518+J519-K519)","v":0},{"$f":"IF(I519=\"通帳\",G519,\"\")","v":""},{"$f":"IF(I519=\"通帳\",H519,\"\")","v":""},{"$f":"IF(M519&N519=\"\",O518,O518+M519-N519)","v":0},{"$f":"IF(I519=\"郵便振替\",G519,\"\")","v":""},{"$f":"IF(I519=\"郵便振替\",H519,\"\")","v":""},0,0,null,null,null,"1-","1-"]
[null,"",null,{"$f":"IF(C520=\"\",\"\",(VLOOKUP(C520,code2!$A$4:$B$30,2)))","v":""},null,null,null,null,null,"","",0,"","",0,"","",0,{"$f":"L520+O520+R520","v":0},null,null,null,"1-","1-"]
[null,"",null,{"$f":"IF(C521=\"\",\"\",(VLOOKUP(C521,code2!$A$4:$B$30,2)))","v":""},null,null,null,null,null,"","",0,"","",0,"","",0,0,null,null,null,"1-","1-"]
[null,"",null,{"$f":"IF(C522=\"\",\"\",(VLOOKUP(C522,code2!$A$4:$B$30,2)))","v":""},null,null,null,null,null,"","",0,"","",0,"","",0,0,null,null,null,"1-","1-"]
[null,"",null,{"$f":"IF(C523=\"\",\"\",(VLOOKUP(C523,code2!$A$4:$B$30,2)))","v":""},null,null,null,null,null,"","",0,"","",0,"","",0,0,null,null,null,"1-","1-"]
[null,"",null,{"$f":"IF(C524=\"\",\"\",(VLOOKUP(C524,code2!$A$4:$B$30,2)))","v":""},null,null,null,null,null,"","",0,"","",0,"","",0,0,null,null,null,"1-","1-"]
[null,"",null,{"$f":"IF(C525=\"\",\"\",(VLOOKUP(C525,code2!$A$4:$B$30,2)))","v":""},null,null,null,null,null,"","",0,"","",0,"","",0,0,null,null,null,"1-","1-"]
[null,"",null,{"$f":"IF(C526=\"\",\"\",(VLOOKUP(C526,code2!$A$4:$B$30,2)))","v":""},null,null,null,null,null,"","",0,"","",0,"","",0,0,null,null,null,"1-","1-"]
[null,"",null,{"$f":"IF(C527=\"\",\"\",(VLOOKUP(C527,code2!$A$4:$B$30,2)))","v":""},null,null,null,null,null,"","",0,"","",0,"","",0,0,null,null,null,"1-","1-"]
[null,"",null,{"$f":"IF(C528=\"\",\"\",(VLOOKUP(C528,code2!$A$4:$B$30,2)))","v":""},null,null,null,null,null,"","",0,"","",0,"","",0,0,null,null,null,"1-","1-"]
[null,"",null,{"$f":"IF(C529=\"\",\"\",(VLOOKUP(C529,code2!$A$4:$B$30,2)))","v":""},null,null,null,null,null,"","",0,"","",0,"","",0,0,null,null,null,"1-","1-"]
[null,"",null,{"$f":"IF(C530=\"\",\"\",(VLOOKUP(C530,code2!$A$4:$B$30,2)))","v":""},null,null,null,null,null,"","",0,"","",0,"","",0,0,null,null,null,"1-","1-"]
[null,"",null,{"$f":"IF(C531=\"\",\"\",(VLOOKUP(C531,code2!$A$4:$B$30,2)))","v":""},null,null,null,null,null,"","",0,"","",0,"","",0,0,null,null,null,"1-","1-"]
[null,"",null,{"$f":"IF(C532=\"\",\"\",(VLOOKUP(C532,code2!$A$4:$B$30,2)))","v":""},null,null,null,null,null,"","",0,"","",0,"","",0,0,null,null,null,"1-","1-"]
[null,"",null,{"$f":"IF(C533=\"\",\"\",(VLOOKUP(C533,code2!$A$4:$B$30,2)))","v":""},null,null,null,null,null,"","",0,"","",0,"","",0,0,null,null,null,"1-","1-"]
[null,"",null,{"$f":"IF(C534=\"\",\"\",(VLOOKUP(C534,code2!$A$4:$B$30,2)))","v":""},null,null,null,null,null,"","",0,"","",0,"","",0,0,null,null,null,"1-","1-"]
[null,"",null,{"$f":"IF(C535=\"\",\"\",(VLOOKUP(C535,code2!$A$4:$B$30,2)))","v":""},null,null,null,null,null,"","",0,"","",0,"","",0,0,null,null,null,"1-","1-"]
[null,"",null,{"$f":"IF(C536=\"\",\"\",(VLOOKUP(C536,code2!$A$4:$B$30,2)))","v":""},null,null,null,null,null,"","",0,"","",0,"","",0,0,null,null,null,"1-","1-"]
[null,"",null,{"$f":"IF(C537=\"\",\"\",(VLOOKUP(C537,code2!$A$4:$B$30,2)))","v":""},null,null,null,null,null,"","",0,"","",0,"","",0,0,null,null,null,"1-","1-"]
[null,"",null,{"$f":"IF(C538=\"\",\"\",(VLOOKUP(C538,code2!$A$4:$B$30,2)))","v":""},null,null,null,null,null,"","",0,"","",0,"","",0,0,null,null,null,"1-","1-"]
[null,"",null,{"$f":"IF(C539=\"\",\"\",(VLOOKUP(C539,code2!$A$4:$B$30,2)))","v":""},null,null,null,null,null,"","",0,"","",0,"","",0,0,null,null,null,"1-","1-"]
[null,"",null,{"$f":"IF(C540=\"\",\"\",(VLOOKUP(C540,code2!$A$4:$B$30,2)))","v":""},null,null,null,null,null,"","",0,"","",0,"","",0,0,null,null,null,"1-","1-"]
[null,"",null,{"$f":"IF(C541=\"\",\"\",(VLOOKUP(C541,code2!$A$4:$B$30,2)))","v":""},null,null,null,null,null,"","",0,"","",0,"","",0,0,null,null,null,"1-","1-"]
[null,"",null,{"$f":"IF(C542=\"\",\"\",(VLOOKUP(C542,code2!$A$4:$B$30,2)))","v":""},null,null,null,null,null,"","",0,"","",0,"","",0,0,null,null,null,"1-","1-"]
[null,"",null,{"$f":"IF(C543=\"\",\"\",(VLOOKUP(C543,code2!$A$4:$B$30,2)))","v":""},null,null,null,null,null,"","",0,"","",0,"","",0,0,null,null,null,"1-","1-"]
[null,"",null,{"$f":"IF(C544=\"\",\"\",(VLOOKUP(C544,code2!$A$4:$B$30,2)))","v":""},null,null,null,null,null,"","",0,"","",0,"","",0,0,null,null,null,"1-","1-"]
[null,"",null,{"$f":"IF(C545=\"\",\"\",(VLOOKUP(C545,code2!$A$4:$B$30,2)))","v":""},null,null,null,null,null,"","",0,"","",0,"","",0,0,null,null,null,"1-","1-"]
[null,"",null,{"$f":"IF(C546=\"\",\"\",(VLOOKUP(C546,code2!$A$4:$B$30,2)))","v":""},null,null,null,null,null,"","",0,"","",0,"","",0,0,null,null,null,"1-","1-"]
[null,"",null,{"$f":"IF(C547=\"\",\"\",(VLOOKUP(C547,code2!$A$4:$B$30,2)))","v":""},null,null,null,null,null,"","",0,"","",0,"","",0,0,null,null,null,"1-","1-"]
[null,"",null,{"$f":"IF(C548=\"\",\"\",(VLOOKUP(C548,code2!$A$4:$B$30,2)))","v":""},null,null,null,null,null,"","",0,"","",0,"","",0,0,null,null,null,"1-","1-"]
[null,"",null,{"$f":"IF(C549=\"\",\"\",(VLOOKUP(C549,code2!$A$4:$B$30,2)))","v":""},null,null,null,null,null,"","",0,"","",0,"","",0,0,null,null,null,"1-","1-"]
[null,"",null,{"$f":"IF(C550=\"\",\"\",(VLOOKUP(C550,code2!$A$4:$B$30,2)))","v":""},null,null,null,null,null,"","",0,"","",0,"","",0,0,null,null,null,"1-","1-"]
[null,"",null,{"$f":"IF(C551=\"\",\"\",(VLOOKUP(C551,code2!$A$4:$B$30,2)))","v":""},null,null,null,null,null,"","",0,"","",0,"","",0,0,null,null,null,"1-","1-"]
[null,"",null,{"$f":"IF(C552=\"\",\"\",(VLOOKUP(C552,code2!$A$4:$B$30,2)))","v":""},null,null,null,null,null,"","",0,"","",0,"","",0,0,null,null,null,"1-","1-"]
[null,"",null,{"$f":"IF(C553=\"\",\"\",(VLOOKUP(C553,code2!$A$4:$B$30,2)))","v":""},null,null,null,null,null,"","",0,"","",0,"","",0,0,null,null,null,"1-","1-"]
[null,"",null,{"$f":"IF(C554=\"\",\"\",(VLOOKUP(C554,code2!$A$4:$B$30,2)))","v":""},null,null,null,null,null,"","",0,"","",0,"","",0,0,null,null,null,"1-","1-"]
[null,"",null,{"$f":"IF(C555=\"\",\"\",(VLOOKUP(C555,code2!$A$4:$B$30,2)))","v":""},null,null,null,null,null,"","",0,"","",0,"","",0,0,null,null,null,"1-","1-"]
[null,"",null,{"$f":"IF(C556=\"\",\"\",(VLOOKUP(C556,code2!$A$4:$B$30,2)))","v":""},null,null,null,null,null,"","",0,"","",0,"","",0,0,null,null,null,"1-","1-"]
[null,"",null,{"$f":"IF(C557=\"\",\"\",(VLOOKUP(C557,code2!$A$4:$B$30,2)))","v":""},null,null,null,null,null,"","",0,"","",0,"","",0,0,null,null,null,"1-","1-"]
[null,"",null,{"$f":"IF(C558=\"\",\"\",(VLOOKUP(C558,code2!$A$4:$B$30,2)))","v":""},null,null,null,null,null,"","",0,"","",0,"","",0,0,null,null,null,"1-","1-"]
[null,"",null,{"$f":"IF(C559=\"\",\"\",(VLOOKUP(C559,code2!$A$4:$B$30,2)))","v":""},null,null,null,null,null,"","",0,"","",0,"","",0,0,null,null,null,"1-","1-"]
[null,"",null,{"$f":"IF(C560=\"\",\"\",(VLOOKUP(C560,code2!$A$4:$B$30,2)))","v":""},null,null,null,null,null,"","",0,"","",0,"","",0,0,null,null,null,"1-","1-"]
[null,"",null,{"$f":"IF(C561=\"\",\"\",(VLOOKUP(C561,code2!$A$4:$B$30,2)))","v":""},null,null,null,null,null,"","",0,"","",0,"","",0,0,null,null,null,"1-","1-"]
[null,"",null,{"$f":"IF(C562=\"\",\"\",(VLOOKUP(C562,code2!$A$4:$B$30,2)))","v":""},null,null,null,null,null,"","",0,"","",0,"","",0,0,null,null,null,"1-","1-"]
[null,"",null,{"$f":"IF(C563=\"\",\"\",(VLOOKUP(C563,code2!$A$4:$B$30,2)))","v":""},null,null,null,null,null,"","",0,"","",0,"","",0,0,null,null,null,{"$f":"MONTH(A563)&\"-\"&D563","v":"1-"},{"$f":"MONTH(A563)&\"-\"&D563&E563","v":"1-"}]
[null,"",null,{"$f":"IF(C564=\"\",\"\",(VLOOKUP(C564,code2!$A$4:$B$30,2)))","v":""},null,null,null,null,null,"","",0,"","",0,"","",0,0,null,null,null,"1-","1-"]
[null,"",null,{"$f":"IF(C565=\"\",\"\",(VLOOKUP(C565,code2!$A$4:$B$30,2)))","v":""},null,null,null,null,null,"","",0,"","",0,"","",0,0,null,null,null,"1-","1-"]
[null,"",null,{"$f":"IF(C566=\"\",\"\",(VLOOKUP(C566,code2!$A$4:$B$30,2)))","v":""},null,null,null,null,null,"","",0,"","",0,"","",0,0,null,null,null,"1-","1-"]
[null,"",null,{"$f":"IF(C567=\"\",\"\",(VLOOKUP(C567,code2!$A$4:$B$30,2)))","v":""},null,null,null,null,null,"","",0,"","",0,"","",0,0,null,null,null,"1-","1-"]
[null,"",null,{"$f":"IF(C568=\"\",\"\",(VLOOKUP(C568,code2!$A$4:$B$30,2)))","v":""},null,null,null,null,null,"","",0,"","",0,"","",0,0,null,null,null,"1-","1-"]
[null,"",null,{"$f":"IF(C569=\"\",\"\",(VLOOKUP(C569,code2!$A$4:$B$30,2)))","v":""},null,null,null,null,null,"","",0,"","",0,"","",0,0,null,null,null,"1-","1-"]
[null,"",null,{"$f":"IF(C570=\"\",\"\",(VLOOKUP(C570,code2!$A$4:$B$30,2)))","v":""},null,null,null,null,null,"","",0,"","",0,"","",0,0,null,null,null,"1-","1-"]
[null,"",null,{"$f":"IF(C571=\"\",\"\",(VLOOKUP(C571,code2!$A$4:$B$30,2)))","v":""},null,null,null,null,null,"","",0,"","",0,"","",0,0,null,null,null,"1-","1-"]
[null,"",null,{"$f":"IF(C572=\"\",\"\",(VLOOKUP(C572,code2!$A$4:$B$30,2)))","v":""},null,null,null,null,null,"","",0,"","",0,"","",0,0,null,null,null,"1-","1-"]
[null,"",null,{"$f":"IF(C573=\"\",\"\",(VLOOKUP(C573,code2!$A$4:$B$30,2)))","v":""},null,null,null,null,null,"","",0,"","",0,"","",0,0,null,null,null,"1-","1-"]
[null,"",null,{"$f":"IF(C574=\"\",\"\",(VLOOKUP(C574,code2!$A$4:$B$30,2)))","v":""},null,null,null,null,null,"","",0,"","",0,"","",0,0,null,null,null,"1-","1-"]
[null,"",null,{"$f":"IF(C575=\"\",\"\",(VLOOKUP(C575,code2!$A$4:$B$30,2)))","v":""},null,null,null,null,null,"","",0,"","",0,"","",0,0,null,null,null,"1-","1-"]
[null,"",null,{"$f":"IF(C576=\"\",\"\",(VLOOKUP(C576,code2!$A$4:$B$30,2)))","v":""},null,null,null,null,null,"","",0,"","",0,"","",0,0,null,null,null,"1-","1-"]
[null,"",null,{"$f":"IF(C577=\"\",\"\",(VLOOKUP(C577,code2!$A$4:$B$30,2)))","v":""},null,null,null,null,null,"","",0,"","",0,"","",0,0,null,null,null,"1-","1-"]
[null,"",null,{"$f":"IF(C578=\"\",\"\",(VLOOKUP(C578,code2!$A$4:$B$30,2)))","v":""},null,null,null,null,null,"","",0,"","",0,"","",0,0,null,null,null,"1-","1-"]
[null,"",null,{"$f":"IF(C579=\"\",\"\",(VLOOKUP(C579,code2!$A$4:$B$30,2)))","v":""},null,null,null,null,null,"","",0,"","",0,"","",0,0,null,null,null,"1-","1-"]
[null,"",null,{"$f":"IF(C580=\"\",\"\",(VLOOKUP(C580,code2!$A$4:$B$30,2)))","v":""},null,null,null,null,null,"","",0,"","",0,"","",0,0,null,null,null,"1-","1-"]
[null,{"$f":"IF(A581=\"\",\"\",A581)","v":""},null,{"$f":"IF(C581=\"\",\"\",(VLOOKUP(C581,code2!$A$4:$B$30,2)))","v":""},null,null,null,null,null,"","",0,"","",0,"","",0,0,null,null,null,"1-","1-"]
[null,"",null,{"$f":"IF(C582=\"\",\"\",(VLOOKUP(C582,code2!$A$4:$B$30,2)))","v":""},null,null,null,null,null,"","",0,"","",0,"","",{"$f":"IF(P582&Q582=\"\",R581,R581+P582-Q582)","v":0},0,null,null,null,"1-","1-"]
[null,"",null,{"$f":"IF(C583=\"\",\"\",(VLOOKUP(C583,code2!$A$4:$B$30,2)))","v":""},null,null,null,null,null,{"$f":"IF(I583=\"現金\",G583,\"\")","v":""},{"$f":"IF(I583=\"現金\",H583,\"\")","v":""},{"$f":"IF(J583&K583=\"\",L582,L582+J583-K583)","v":0},{"$f":"IF(I583=\"通帳\",G583,\"\")","v":""},{"$f":"IF(I583=\"通帳\",H583,\"\")","v":""},{"$f":"IF(M583&N583=\"\",O582,O582+M583-N583)","v":0},{"$f":"IF(I583=\"郵便振替\",G583,\"\")","v":""},{"$f":"IF(I583=\"郵便振替\",H583,\"\")","v":""},0,0,null,null,null,"1-","1-"]
[null,"",null,{"$f":"IF(C584=\"\",\"\",(VLOOKUP(C584,code2!$A$4:$B$30,2)))","v":""},null,null,null,null,null,"","",0,"","",0,"","",0,{"$f":"L584+O584+R584","v":0},null,null,null,"1-","1-"]
[null,"",null,{"$f":"IF(C585=\"\",\"\",(VLOOKUP(C585,code2!$A$4:$B$30,2)))","v":""},null,null,null,null,null,"","",0,"","",0,"","",0,0,null,null,null,"1-","1-"]
[null,"",null,{"$f":"IF(C586=\"\",\"\",(VLOOKUP(C586,code2!$A$4:$B$30,2)))","v":""},null,null,null,null,null,"","",0,"","",0,"","",0,0,null,null,null,"1-","1-"]
[null,"",null,{"$f":"IF(C587=\"\",\"\",(VLOOKUP(C587,code2!$A$4:$B$30,2)))","v":""},null,null,null,null,null,"","",0,"","",0,"","",0,0,null,null,null,"1-","1-"]
[null,"",null,{"$f":"IF(C588=\"\",\"\",(VLOOKUP(C588,code2!$A$4:$B$30,2)))","v":""},null,null,null,null,null,"","",0,"","",0,"","",0,0,null,null,null,"1-","1-"]
[null,"",null,{"$f":"IF(C589=\"\",\"\",(VLOOKUP(C589,code2!$A$4:$B$30,2)))","v":""},null,null,null,null,null,"","",0,"","",0,"","",0,0,null,null,null,"1-","1-"]
[null,"",null,{"$f":"IF(C590=\"\",\"\",(VLOOKUP(C590,code2!$A$4:$B$30,2)))","v":""},null,null,null,null,null,"","",0,"","",0,"","",0,0,null,null,null,"1-","1-"]
[null,"",null,{"$f":"IF(C591=\"\",\"\",(VLOOKUP(C591,code2!$A$4:$B$30,2)))","v":""},null,null,null,null,null,"","",0,"","",0,"","",0,0,null,null,null,"1-","1-"]
[null,"",null,{"$f":"IF(C592=\"\",\"\",(VLOOKUP(C592,code2!$A$4:$B$30,2)))","v":""},null,null,null,null,null,"","",0,"","",0,"","",0,0,null,null,null,"1-","1-"]
[null,"",null,{"$f":"IF(C593=\"\",\"\",(VLOOKUP(C593,code2!$A$4:$B$30,2)))","v":""},null,null,null,null,null,"","",0,"","",0,"","",0,0,null,null,null,"1-","1-"]
[null,"",null,{"$f":"IF(C594=\"\",\"\",(VLOOKUP(C594,code2!$A$4:$B$30,2)))","v":""},null,null,null,null,null,"","",0,"","",0,"","",0,0,null,null,null,"1-","1-"]
[null,"",null,{"$f":"IF(C595=\"\",\"\",(VLOOKUP(C595,code2!$A$4:$B$30,2)))","v":""},null,null,null,null,null,"","",0,"","",0,"","",0,0,null,null,null,"1-","1-"]
[null,{"$f":"IF(A596=\"\",\"\",A596)","v":""},null,{"$f":"IF(C596=\"\",\"\",(VLOOKUP(C596,code2!$A$4:$B$30,2)))","v":""},null,null,null,null,null,"","",0,"","",0,"","",{"$f":"IF(P596&Q596=\"\",R595,R595+P596-Q596)","v":0},{"$f":"L596+O596+R596","v":0},null,null,null,"1-","1-"]
[null,"",null,{"$f":"IF(C597=\"\",\"\",(VLOOKUP(C597,code2!$A$4:$B$30,2)))","v":""},null,null,null,null,null,"","",0,"","",0,"","",0,0,null,null,null,"1-","1-"]
[null,"",null,{"$f":"IF(C598=\"\",\"\",(VLOOKUP(C598,code2!$A$4:$B$30,2)))","v":""},null,null,null,null,null,"","",0,"","",0,"","",0,0,null,null,null,"1-","1-"]
[null,"",null,{"$f":"IF(C599=\"\",\"\",(VLOOKUP(C599,code2!$A$4:$B$30,2)))","v":""},null,null,null,null,null,"","",0,"","",0,"","",0,0,null,null,null,"1-","1-"]
[null,"",null,{"$f":"IF(C600=\"\",\"\",(VLOOKUP(C600,code2!$A$4:$B$30,2)))","v":""},null,null,null,null,null,"","",0,"","",0,"","",0,0,null,null,null,"1-","1-"]
[null,"",null,{"$f":"IF(C601=\"\",\"\",(VLOOKUP(C601,code2!$A$4:$B$30,2)))","v":""},null,null,null,null,null,"","",0,"","",0,"","",0,0,null,null,null,"1-","1-"]
[null,"",null,{"$f":"IF(C602=\"\",\"\",(VLOOKUP(C602,code2!$A$4:$B$30,2)))","v":""},null,null,null,null,null,"","",0,"","",0,"","",0,0,null,null,null,"1-","1-"]
[null,"",null,{"$f":"IF(C603=\"\",\"\",(VLOOKUP(C603,code2!$A$4:$B$30,2)))","v":""},null,null,null,null,null,"","",0,"","",0,"","",0,0,null,null,null,"1-","1-"]
[null,"",null,{"$f":"IF(C604=\"\",\"\",(VLOOKUP(C604,code2!$A$4:$B$30,2)))","v":""},null,null,null,null,null,"","",0,"","",0,"","",0,0,null,null,null,"1-","1-"]
[null,"",null,{"$f":"IF(C605=\"\",\"\",(VLOOKUP(C605,code2!$A$4:$B$30,2)))","v":""},null,null,null,null,null,"","",0,"","",0,"","",0,0,null,null,null,"1-","1-"]
[null,"",null,{"$f":"IF(C606=\"\",\"\",(VLOOKUP(C606,code2!$A$4:$B$30,2)))","v":""},null,null,null,null,null,"","",0,"","",0,"","",0,0,null,null,null,"1-","1-"]
[null,"",null,{"$f":"IF(C607=\"\",\"\",(VLOOKUP(C607,code2!$A$4:$B$30,2)))","v":""},null,null,null,null,null,"","",0,"","",0,"","",0,0,null,null,null,"1-","1-"]
[null,"",null,{"$f":"IF(C608=\"\",\"\",(VLOOKUP(C608,code2!$A$4:$B$30,2)))","v":""},null,null,null,null,null,"","",0,"","",0,"","",0,0,null,null,null,"1-","1-"]
[null,"",null,{"$f":"IF(C609=\"\",\"\",(VLOOKUP(C609,code2!$A$4:$B$30,2)))","v":""},null,null,null,null,null,"","",0,"","",0,"","",0,0,null,null,null,"1-","1-"]
[null,"",null,{"$f":"IF(C610=\"\",\"\",(VLOOKUP(C610,code2!$A$4:$B$30,2)))","v":""},null,null,null,null,null,"","",0,"","",0,"","",0,0,null,null,null,"1-","1-"]
[null,"",null,{"$f":"IF(C611=\"\",\"\",(VLOOKUP(C611,code2!$A$4:$B$30,2)))","v":""},null,null,null,null,null,"","",0,"","",0,"","",0,0,null,null,null,"1-","1-"]
[null,"",null,{"$f":"IF(C612=\"\",\"\",(VLOOKUP(C612,code2!$A$4:$B$30,2)))","v":""},null,null,null,null,null,"","",0,"","",0,"","",0,0,null,null,null,"1-","1-"]
[null,"",null,{"$f":"IF(C613=\"\",\"\",(VLOOKUP(C613,code2!$A$4:$B$30,2)))","v":""},null,null,null,null,null,"","",0,"","",0,"","",0,0,null,null,null,"1-","1-"]
[null,"",null,{"$f":"IF(C614=\"\",\"\",(VLOOKUP(C614,code2!$A$4:$B$30,2)))","v":""},null,null,null,null,null,"","",0,"","",0,"","",0,0,null,null,null,"1-","1-"]
[null,"",null,{"$f":"IF(C615=\"\",\"\",(VLOOKUP(C615,code2!$A$4:$B$30,2)))","v":""},null,null,null,null,null,"","",0,"","",0,"","",0,0,null,null,null,"1-","1-"]
[null,"",null,{"$f":"IF(C616=\"\",\"\",(VLOOKUP(C616,code2!$A$4:$B$30,2)))","v":""},null,null,null,null,null,"","",0,"","",0,"","",0,0,null,null,null,"1-","1-"]
[null,"",null,{"$f":"IF(C617=\"\",\"\",(VLOOKUP(C617,code2!$A$4:$B$30,2)))","v":""},null,null,null,null,null,"","",0,"","",0,"","",0,0,null,null,null,"1-","1-"]
[null,"",null,{"$f":"IF(C618=\"\",\"\",(VLOOKUP(C618,code2!$A$4:$B$30,2)))","v":""},null,null,null,null,null,"","",0,"","",0,"","",0,0,null,null,null,"1-","1-"]
[null,"",null,{"$f":"IF(C619=\"\",\"\",(VLOOKUP(C619,code2!$A$4:$B$30,2)))","v":""},null,null,null,null,null,"","",0,"","",0,"","",0,0,null,null,null,"1-","1-"]
[null,"",null,{"$f":"IF(C620=\"\",\"\",(VLOOKUP(C620,code2!$A$4:$B$30,2)))","v":""},null,null,null,null,null,"","",0,"","",0,"","",0,0,null,null,null,"1-","1-"]
[null,{"$f":"IF(A621=\"\",\"\",A621)","v":""},null,{"$f":"IF(C621=\"\",\"\",(VLOOKUP(C621,code2!$A$4:$B$30,2)))","v":""},null,null,null,null,null,"","",0,"","",0,"","",0,0,null,null,null,"1-","1-"]
[null,"",null,{"$f":"IF(C622=\"\",\"\",(VLOOKUP(C622,code2!$A$4:$B$30,2)))","v":""},null,null,null,null,null,"","",0,"","",0,"","",0,0,null,null,null,"1-","1-"]
[null,"",null,{"$f":"IF(C623=\"\",\"\",(VLOOKUP(C623,code2!$A$4:$B$30,2)))","v":""},null,null,null,null,null,"","",0,"","",0,"","",0,0,null,null,null,"1-","1-"]
[null,"",null,{"$f":"IF(C624=\"\",\"\",(VLOOKUP(C624,code2!$A$4:$B$30,2)))","v":""},null,null,null,null,null,"","",0,"","",0,"","",0,0,null,null,null,"1-","1-"]
[null,{"$f":"IF(A625=\"\",\"\",A625)","v":""},null,{"$f":"IF(C625=\"\",\"\",(VLOOKUP(C625,code2!$A$4:$B$30,2)))","v":""},null,null,null,null,null,"","",0,"","",0,"","",0,0,null,null,null,"1-","1-"]
[null,"",null,{"$f":"IF(C626=\"\",\"\",(VLOOKUP(C626,code2!$A$4:$B$30,2)))","v":""},null,null,null,null,null,"","",0,"","",0,"","",0,0,null,null,null,"1-","1-"]
[null,"",null,{"$f":"IF(C627=\"\",\"\",(VLOOKUP(C627,code2!$A$4:$B$30,2)))","v":""},null,null,null,null,null,"","",0,"","",0,"","",0,0,null,null,null,{"$f":"MONTH(A627)&\"-\"&D627","v":"1-"},{"$f":"MONTH(A627)&\"-\"&D627&E627","v":"1-"}]
[null,42584,null,{"$f":"IF(C628=\"\",\"\",(VLOOKUP(C628,code2!$A$4:$B$30,2)))","v":""},null,null,null,null,null,"","",0,"","",0,"","",0,0,null,null,null,"1-","1-"]
[null,{"$f":"IF(A629=\"\",\"\",A629)","v":""},null,{"$f":"IF(C629=\"\",\"\",(VLOOKUP(C629,code2!$A$4:$B$30,2)))","v":""},null,null,null,null,null,"","",0,"","",0,"","",0,0,null,null,null,"1-","1-"]
[null,"",null,{"$f":"IF(C630=\"\",\"\",(VLOOKUP(C630,code2!$A$4:$B$30,2)))","v":""},null,null,null,null,null,"","",0,"","",0,"","",0,0,null,null,null,"1-","1-"]
[null,"",null,{"$f":"IF(C631=\"\",\"\",(VLOOKUP(C631,code2!$A$4:$B$30,2)))","v":""},null,null,null,null,null,"","",0,"","",0,"","",0,0,null,null,null,"1-","1-"]
[null,"",null,{"$f":"IF(C632=\"\",\"\",(VLOOKUP(C632,code2!$A$4:$B$30,2)))","v":""},null,null,null,null,null,"","",0,"","",0,"","",0,0,null,null,null,"1-","1-"]
[null,"",null,{"$f":"IF(C633=\"\",\"\",(VLOOKUP(C633,code2!$A$4:$B$30,2)))","v":""},null,null,null,null,null,"","",0,"","",0,"","",0,0,null,null,null,"1-","1-"]
[null,"",null,{"$f":"IF(C634=\"\",\"\",(VLOOKUP(C634,code2!$A$4:$B$30,2)))","v":""},null,null,null,null,null,"","",0,"","",0,"","",0,0,null,null,null,"1-","1-"]
[null,"",null,{"$f":"IF(C635=\"\",\"\",(VLOOKUP(C635,code2!$A$4:$B$30,2)))","v":""},null,null,null,null,null,"","",0,"","",0,"","",0,0,null,null,null,"1-","1-"]
[null,"",null,{"$f":"IF(C636=\"\",\"\",(VLOOKUP(C636,code2!$A$4:$B$30,2)))","v":""},null,null,null,null,null,"","",0,"","",0,"","",0,0,null,null,null,"1-","1-"]
[null,"",null,{"$f":"IF(C637=\"\",\"\",(VLOOKUP(C637,code2!$A$4:$B$30,2)))","v":""},null,null,null,null,null,"","",0,"","",0,"","",0,0,null,null,null,"1-","1-"]
[null,"",null,{"$f":"IF(C638=\"\",\"\",(VLOOKUP(C638,code2!$A$4:$B$30,2)))","v":""},null,null,null,null,null,"","",0,"","",0,"","",0,0,null,null,null,"1-","1-"]
[null,"",null,{"$f":"IF(C639=\"\",\"\",(VLOOKUP(C639,code2!$A$4:$B$30,2)))","v":""},null,null,null,null,null,"","",0,"","",0,"","",0,0,null,null,null,"1-","1-"]
[null,"",null,{"$f":"IF(C640=\"\",\"\",(VLOOKUP(C640,code2!$A$4:$B$30,2)))","v":""},null,null,null,null,null,"","",0,"","",0,"","",0,0,null,null,null,"1-","1-"]
[null,"",null,{"$f":"IF(C641=\"\",\"\",(VLOOKUP(C641,code2!$A$4:$B$30,2)))","v":""},null,null,null,null,null,"","",0,"","",0,"","",0,0,null,null,null,"1-","1-"]
[null,"",null,{"$f":"IF(C642=\"\",\"\",(VLOOKUP(C642,code2!$A$4:$B$30,2)))","v":""},null,null,null,null,null,"","",0,"","",0,"","",0,0,null,null,null,"1-","1-"]
[null,"",null,{"$f":"IF(C643=\"\",\"\",(VLOOKUP(C643,code2!$A$4:$B$30,2)))","v":""},null,null,null,null,null,"","",0,"","",0,"","",0,0,null,null,null,"1-","1-"]
[null,"",null,{"$f":"IF(C644=\"\",\"\",(VLOOKUP(C644,code2!$A$4:$B$30,2)))","v":""},null,null,null,null,null,"","",0,"","",0,"","",0,0,null,null,null,"1-","1-"]
[null,{"$f":"IF(A645=\"\",\"\",A645)","v":""},null,{"$f":"IF(C645=\"\",\"\",(VLOOKUP(C645,code2!$A$4:$B$30,2)))","v":""},null,null,null,null,null,"","",0,"","",0,"","",0,0,null,null,null,"1-","1-"]
[null,"",null,{"$f":"IF(C646=\"\",\"\",(VLOOKUP(C646,code2!$A$4:$B$30,2)))","v":""},null,null,null,null,null,"","",0,"","",0,"","",{"$f":"IF(P646&Q646=\"\",R645,R645+P646-Q646)","v":0},0,null,null,null,"1-","1-"]
[null,"",null,{"$f":"IF(C647=\"\",\"\",(VLOOKUP(C647,code2!$A$4:$B$30,2)))","v":""},null,null,null,null,null,{"$f":"IF(I647=\"現金\",G647,\"\")","v":""},{"$f":"IF(I647=\"現金\",H647,\"\")","v":""},{"$f":"IF(J647&K647=\"\",L646,L646+J647-K647)","v":0},{"$f":"IF(I647=\"通帳\",G647,\"\")","v":""},{"$f":"IF(I647=\"通帳\",H647,\"\")","v":""},{"$f":"IF(M647&N647=\"\",O646,O646+M647-N647)","v":0},{"$f":"IF(I647=\"郵便振替\",G647,\"\")","v":""},{"$f":"IF(I647=\"郵便振替\",H647,\"\")","v":""},0,0,null,null,null,"1-","1-"]
[null,"",null,{"$f":"IF(C648=\"\",\"\",(VLOOKUP(C648,code2!$A$4:$B$30,2)))","v":""},null,null,null,null,null,"","",0,"","",0,"","",0,{"$f":"L648+O648+R648","v":0},null,null,null,"1-","1-"]
[null,"",null,{"$f":"IF(C649=\"\",\"\",(VLOOKUP(C649,code2!$A$4:$B$30,2)))","v":""},null,null,null,null,null,"","",0,"","",0,"","",0,0,null,null,null,"1-","1-"]
[null,"",null,{"$f":"IF(C650=\"\",\"\",(VLOOKUP(C650,code2!$A$4:$B$30,2)))","v":""},null,null,null,null,null,"","",0,"","",0,"","",0,0,null,null,null,"1-","1-"]
[null,"",null,{"$f":"IF(C651=\"\",\"\",(VLOOKUP(C651,code2!$A$4:$B$30,2)))","v":""},null,null,null,null,null,"","",0,"","",0,"","",0,0,null,null,null,"1-","1-"]
[null,"",null,{"$f":"IF(C652=\"\",\"\",(VLOOKUP(C652,code2!$A$4:$B$30,2)))","v":""},null,null,null,null,null,"","",0,"","",0,"","",0,0,null,null,null,"1-","1-"]
[null,"",null,{"$f":"IF(C653=\"\",\"\",(VLOOKUP(C653,code2!$A$4:$B$30,2)))","v":""},null,null,null,null,null,"","",0,"","",0,"","",0,0,null,null,null,"1-","1-"]
[null,"",null,{"$f":"IF(C654=\"\",\"\",(VLOOKUP(C654,code2!$A$4:$B$30,2)))","v":""},null,null,null,null,null,"","",0,"","",0,"","",0,0,null,null,null,"1-","1-"]
[null,"",null,{"$f":"IF(C655=\"\",\"\",(VLOOKUP(C655,code2!$A$4:$B$30,2)))","v":""},null,null,null,null,null,"","",0,"","",0,"","",0,0,null,null,null,"1-","1-"]
[null,"",null,{"$f":"IF(C656=\"\",\"\",(VLOOKUP(C656,code2!$A$4:$B$30,2)))","v":""},null,null,null,null,null,"","",0,"","",0,"","",0,0,null,null,null,"1-","1-"]
[null,"",null,{"$f":"IF(C657=\"\",\"\",(VLOOKUP(C657,code2!$A$4:$B$30,2)))","v":""},null,null,null,null,null,"","",0,"","",0,"","",0,0,null,null,null,"1-","1-"]
[null,"",null,{"$f":"IF(C658=\"\",\"\",(VLOOKUP(C658,code2!$A$4:$B$30,2)))","v":""},null,null,null,null,null,"","",0,"","",0,"","",0,0,null,null,null,"1-","1-"]
[null,"",null,{"$f":"IF(C659=\"\",\"\",(VLOOKUP(C659,code2!$A$4:$B$30,2)))","v":""},null,null,null,null,null,"","",0,"","",0,"","",0,0,null,null,null,"1-","1-"]
[null,"",null,{"$f":"IF(C660=\"\",\"\",(VLOOKUP(C660,code2!$A$4:$B$30,2)))","v":""},null,null,null,null,null,"","",0,"","",0,"","",0,0,null,null,null,"1-","1-"]
[null,"",null,{"$f":"IF(C661=\"\",\"\",(VLOOKUP(C661,code2!$A$4:$B$30,2)))","v":""},null,null,null,null,null,"","",0,"","",0,"","",0,0,null,null,null,"1-","1-"]
[null,"",null,{"$f":"IF(C662=\"\",\"\",(VLOOKUP(C662,code2!$A$4:$B$30,2)))","v":""},null,null,null,null,null,"","",0,"","",0,"","",0,0,null,null,null,"1-","1-"]
[null,"",null,{"$f":"IF(C663=\"\",\"\",(VLOOKUP(C663,code2!$A$4:$B$30,2)))","v":""},null,null,null,null,null,"","",0,"","",0,"","",0,0,null,null,null,"1-","1-"]
[null,"",null,{"$f":"IF(C664=\"\",\"\",(VLOOKUP(C664,code2!$A$4:$B$30,2)))","v":""},null,null,null,null,null,"","",0,"","",0,"","",0,0,null,null,null,"1-","1-"]
[null,{"$f":"IF(A665=\"\",\"\",A665)","v":""},null,{"$f":"IF(C665=\"\",\"\",(VLOOKUP(C665,code2!$A$4:$B$30,2)))","v":""},null,null,null,null,null,"","",0,"","",0,"","",0,0,null,null,null,"1-","1-"]
[null,"",null,{"$f":"IF(C666=\"\",\"\",(VLOOKUP(C666,code2!$A$4:$B$30,2)))","v":""},null,null,null,null,null,"","",0,"","",0,"","",{"$f":"IF(P666&Q666=\"\",R665,R665+P666-Q666)","v":0},0,null,null,null,"1-","1-"]
[null,"",null,{"$f":"IF(C667=\"\",\"\",(VLOOKUP(C667,code2!$A$4:$B$30,2)))","v":""},null,null,null,null,null,"","",0,"","",0,"","",0,0,null,null,null,"1-","1-"]
[null,"",null,{"$f":"IF(C668=\"\",\"\",(VLOOKUP(C668,code2!$A$4:$B$30,2)))","v":""},null,null,null,null,null,"","",0,"","",0,"","",0,0,null,null,null,"1-","1-"]
[null,"",null,{"$f":"IF(C669=\"\",\"\",(VLOOKUP(C669,code2!$A$4:$B$30,2)))","v":""},null,null,null,null,null,"","",0,"","",0,"","",0,0,null,null,null,"1-","1-"]
[null,"",null,{"$f":"IF(C670=\"\",\"\",(VLOOKUP(C670,code2!$A$4:$B$30,2)))","v":""},null,null,null,null,null,"","",0,"","",0,"","",0,0,null,null,null,"1-","1-"]
[null,"",null,{"$f":"IF(C671=\"\",\"\",(VLOOKUP(C671,code2!$A$4:$B$30,2)))","v":""},null,null,null,null,null,"","",0,"","",0,"","",0,0,null,null,null,"1-","1-"]
[null,"",null,{"$f":"IF(C672=\"\",\"\",(VLOOKUP(C672,code2!$A$4:$B$30,2)))","v":""},null,null,null,null,null,"","",0,"","",0,"","",0,0,null,null,null,"1-","1-"]
[null,"",null,{"$f":"IF(C673=\"\",\"\",(VLOOKUP(C673,code2!$A$4:$B$30,2)))","v":""},null,null,null,null,null,"","",0,"","",0,"","",0,0,null,null,null,"1-","1-"]
[null,"",null,{"$f":"IF(C674=\"\",\"\",(VLOOKUP(C674,code2!$A$4:$B$30,2)))","v":""},null,null,null,null,null,"","",0,"","",0,"","",0,0,null,null,null,"1-","1-"]
[null,"",null,{"$f":"IF(C675=\"\",\"\",(VLOOKUP(C675,code2!$A$4:$B$30,2)))","v":""},null,null,null,null,null,"","",0,"","",0,"","",0,0,null,null,null,"1-","1-"]
[null,"",null,{"$f":"IF(C676=\"\",\"\",(VLOOKUP(C676,code2!$A$4:$B$30,2)))","v":""},null,null,null,null,null,"","",0,"","",0,"","",0,0,null,null,null,"1-","1-"]
[null,"",null,{"$f":"IF(C677=\"\",\"\",(VLOOKUP(C677,code2!$A$4:$B$30,2)))","v":""},null,null,null,null,null,"","",0,"","",0,"","",0,0,null,null,null,"1-","1-"]
[null,"",null,{"$f":"IF(C678=\"\",\"\",(VLOOKUP(C678,code2!$A$4:$B$30,2)))","v":""},null,null,null,null,null,"","",0,"","",0,"","",0,0,null,null,null,"1-","1-"]
[null,"",null,{"$f":"IF(C679=\"\",\"\",(VLOOKUP(C679,code2!$A$4:$B$30,2)))","v":""},null,null,null,null,null,"","",0,"","",0,"","",0,0,null,null,null,"1-","1-"]
[null,"",null,{"$f":"IF(C680=\"\",\"\",(VLOOKUP(C680,code2!$A$4:$B$30,2)))","v":""},null,null,null,null,null,"","",0,"","",0,"","",0,0,null,null,null,"1-","1-"]
[null,"",null,{"$f":"IF(C681=\"\",\"\",(VLOOKUP(C681,code2!$A$4:$B$30,2)))","v":""},null,null,null,null,null,"","",0,"","",0,"","",0,0,null,null,null,"1-","1-"]
[null,"",null,{"$f":"IF(C682=\"\",\"\",(VLOOKUP(C682,code2!$A$4:$B$30,2)))","v":""},null,null,null,null,null,"","",0,"","",0,"","",0,0,null,null,null,"1-","1-"]
[null,"",null,{"$f":"IF(C683=\"\",\"\",(VLOOKUP(C683,code2!$A$4:$B$30,2)))","v":""},null,null,null,null,null,"","",0,"","",0,"","",0,0,null,null,null,"1-","1-"]
[null,"",null,{"$f":"IF(C684=\"\",\"\",(VLOOKUP(C684,code2!$A$4:$B$30,2)))","v":""},null,null,null,null,null,"","",0,"","",0,"","",0,0,null,null,null,"1-","1-"]
[null,"",null,{"$f":"IF(C685=\"\",\"\",(VLOOKUP(C685,code2!$A$4:$B$30,2)))","v":""},null,null,null,null,null,"","",0,"","",0,"","",0,0,null,null,null,"1-","1-"]
[null,"",null,{"$f":"IF(C686=\"\",\"\",(VLOOKUP(C686,code2!$A$4:$B$30,2)))","v":""},null,null,null,null,null,"","",0,"","",0,"","",0,0,null,null,null,"1-","1-"]
[null,"",null,{"$f":"IF(C687=\"\",\"\",(VLOOKUP(C687,code2!$A$4:$B$30,2)))","v":""},null,null,null,null,null,"","",0,"","",0,"","",0,0,null,null,null,"1-","1-"]
[null,"",null,{"$f":"IF(C688=\"\",\"\",(VLOOKUP(C688,code2!$A$4:$B$30,2)))","v":""},null,null,null,null,null,"","",0,"","",0,"","",0,0,null,null,null,"1-","1-"]
[null,"",null,{"$f":"IF(C689=\"\",\"\",(VLOOKUP(C689,code2!$A$4:$B$30,2)))","v":""},null,null,null,null,null,"","",0,"","",0,"","",0,0,null,null,null,"1-","1-"]
[null,"",null,{"$f":"IF(C690=\"\",\"\",(VLOOKUP(C690,code2!$A$4:$B$30,2)))","v":""},null,null,null,null,null,"","",0,"","",0,"","",0,0,null,null,null,"1-","1-"]
[null,"",null,{"$f":"IF(C691=\"\",\"\",(VLOOKUP(C691,code2!$A$4:$B$30,2)))","v":""},null,null,null,null,null,"","",0,"","",0,"","",0,0,null,null,null,{"$f":"MONTH(A691)&\"-\"&D691","v":"1-"},{"$f":"MONTH(A691)&\"-\"&D691&E691","v":"1-"}]
[null,"",null,{"$f":"IF(C692=\"\",\"\",(VLOOKUP(C692,code2!$A$4:$B$30,2)))","v":""},null,null,null,null,null,"","",0,"","",0,"","",0,0,null,null,null,"1-","1-"]
[null,"",null,{"$f":"IF(C693=\"\",\"\",(VLOOKUP(C693,code2!$A$4:$B$30,2)))","v":""},null,null,null,null,null,"","",0,"","",0,"","",0,0,null,null,null,"1-","1-"]
[null,"",null,{"$f":"IF(C694=\"\",\"\",(VLOOKUP(C694,code2!$A$4:$B$30,2)))","v":""},null,null,null,null,null,"","",0,"","",0,"","",0,0,null,null,null,"1-","1-"]
[null,"",null,{"$f":"IF(C695=\"\",\"\",(VLOOKUP(C695,code2!$A$4:$B$30,2)))","v":""},null,null,null,null,null,"","",0,"","",0,"","",0,0,null,null,null,"1-","1-"]
[null,"",null,{"$f":"IF(C696=\"\",\"\",(VLOOKUP(C696,code2!$A$4:$B$30,2)))","v":""},null,null,null,null,null,"","",0,"","",0,"","",0,0,null,null,null,"1-","1-"]
[null,"",null,{"$f":"IF(C697=\"\",\"\",(VLOOKUP(C697,code2!$A$4:$B$30,2)))","v":""},null,null,null,null,null,"","",0,"","",0,"","",0,0,null,null,null,"1-","1-"]
[null,"",null,{"$f":"IF(C698=\"\",\"\",(VLOOKUP(C698,code2!$A$4:$B$30,2)))","v":""},null,null,null,null,null,"","",0,"","",0,"","",0,0,null,null,null,"1-","1-"]
[null,"",null,{"$f":"IF(C699=\"\",\"\",(VLOOKUP(C699,code2!$A$4:$B$30,2)))","v":""},null,null,null,null,null,"","",0,"","",0,"","",0,0,null,null,null,"1-","1-"]
[null,"",null,{"$f":"IF(C700=\"\",\"\",(VLOOKUP(C700,code2!$A$4:$B$30,2)))","v":""},null,null,null,null,null,"","",0,"","",0,"","",0,0,null,null,null,"1-","1-"]
[null,"",null,{"$f":"IF(C701=\"\",\"\",(VLOOKUP(C701,code2!$A$4:$B$30,2)))","v":""},null,null,null,null,null,"","",0,"","",0,"","",0,0,null,null,null,"1-","1-"]
[null,"",null,{"$f":"IF(C702=\"\",\"\",(VLOOKUP(C702,code2!$A$4:$B$30,2)))","v":""},null,null,null,null,null,"","",0,"","",0,"","",0,0,null,null,null,"1-","1-"]
[null,"",null,{"$f":"IF(C703=\"\",\"\",(VLOOKUP(C703,code2!$A$4:$B$30,2)))","v":""},null,null,null,null,null,"","",0,"","",0,"","",0,0,null,null,null,"1-","1-"]
[null,"",null,{"$f":"IF(C704=\"\",\"\",(VLOOKUP(C704,code2!$A$4:$B$30,2)))","v":""},null,null,null,null,null,"","",0,"","",0,"","",0,0,null,null,null,"1-","1-"]
[null,"",null,{"$f":"IF(C705=\"\",\"\",(VLOOKUP(C705,code2!$A$4:$B$30,2)))","v":""},null,null,null,null,null,"","",0,"","",0,"","",0,0,null,null,null,"1-","1-"]
[null,"",null,{"$f":"IF(C706=\"\",\"\",(VLOOKUP(C706,code2!$A$4:$B$30,2)))","v":""},null,null,null,null,null,"","",0,"","",0,"","",0,0,null,null,null,"1-","1-"]
[null,"",null,{"$f":"IF(C707=\"\",\"\",(VLOOKUP(C707,code2!$A$4:$B$30,2)))","v":""},null,null,null,null,null,"","",0,"","",0,"","",0,0,null,null,null,"1-","1-"]
[null,"",null,{"$f":"IF(C708=\"\",\"\",(VLOOKUP(C708,code2!$A$4:$B$30,2)))","v":""},null,null,null,null,null,"","",0,"","",0,"","",0,0,null,null,null,"1-","1-"]
[null,{"$f":"IF(A709=\"\",\"\",A709)","v":""},null,{"$f":"IF(C709=\"\",\"\",(VLOOKUP(C709,code2!$A$4:$B$30,2)))","v":""},null,null,null,null,null,"","",0,"","",0,"","",0,0,null,null,null,"1-","1-"]
[null,{"$f":"IF(A710=\"\",\"\",A710)","v":""},null,{"$f":"IF(C710=\"\",\"\",(VLOOKUP(C710,code2!$A$4:$B$30,2)))","v":""},null,null,null,null,null,"","",0,"","",0,"","",{"$f":"IF(P710&Q710=\"\",R709,R709+P710-Q710)","v":0},0,null,null,null,"1-","1-"]
[null,"",null,{"$f":"IF(C711=\"\",\"\",(VLOOKUP(C711,code2!$A$4:$B$30,2)))","v":""},null,null,null,null,null,{"$f":"IF(I711=\"現金\",G711,\"\")","v":""},{"$f":"IF(I711=\"現金\",H711,\"\")","v":""},{"$f":"IF(J711&K711=\"\",L710,L710+J711-K711)","v":0},{"$f":"IF(I711=\"通帳\",G711,\"\")","v":""},{"$f":"IF(I711=\"通帳\",H711,\"\")","v":""},{"$f":"IF(M711&N711=\"\",O710,O710+M711-N711)","v":0},{"$f":"IF(I711=\"郵便振替\",G711,\"\")","v":""},{"$f":"IF(I711=\"郵便振替\",H711,\"\")","v":""},0,0,null,null,null,"1-","1-"]
[null,"",null,{"$f":"IF(C712=\"\",\"\",(VLOOKUP(C712,code2!$A$4:$B$30,2)))","v":""},null,null,null,null,null,"","",0,"","",0,"","",0,{"$f":"L712+O712+R712","v":0},null,null,null,"1-","1-"]
[null,"",null,{"$f":"IF(C713=\"\",\"\",(VLOOKUP(C713,code2!$A$4:$B$30,2)))","v":""},null,null,null,null,null,"","",0,"","",0,"","",0,0,null,null,null,"1-","1-"]
[null,{"$f":"IF(A714=\"\",\"\",A714)","v":""},null,{"$f":"IF(C714=\"\",\"\",(VLOOKUP(C714,code2!$A$4:$B$30,2)))","v":""},null,null,null,null,null,"","",0,"","",0,"","",0,0,null,null,null,"1-","1-"]
[null,"",null,{"$f":"IF(C715=\"\",\"\",(VLOOKUP(C715,code2!$A$4:$B$30,2)))","v":""},null,null,null,null,null,"","",0,"","",0,"","",0,0,null,null,null,"1-","1-"]
[null,"",null,{"$f":"IF(C716=\"\",\"\",(VLOOKUP(C716,code2!$A$4:$B$30,2)))","v":""},null,null,null,null,null,"","",0,"","",0,"","",0,0,null,null,null,"1-","1-"]
[null,"",null,{"$f":"IF(C717=\"\",\"\",(VLOOKUP(C717,code2!$A$4:$B$30,2)))","v":""},null,null,null,null,null,"","",0,"","",0,"","",0,0,null,null,null,"1-","1-"]
[null,{"$f":"IF(A718=\"\",\"\",A718)","v":""},null,{"$f":"IF(C718=\"\",\"\",(VLOOKUP(C718,code2!$A$4:$B$30,2)))","v":""},null,null,null,null,null,"","",0,"","",0,"","",0,0,null,null,null,"1-","1-"]
[null,"",null,{"$f":"IF(C719=\"\",\"\",(VLOOKUP(C719,code2!$A$4:$B$30,2)))","v":""},null,null,null,null,null,"","",0,"","",0,"","",0,0,null,null,null,"1-","1-"]
[null,"",null,{"$f":"IF(C720=\"\",\"\",(VLOOKUP(C720,code2!$A$4:$B$30,2)))","v":""},null,null,null,null,null,"","",0,"","",0,"","",0,0,null,null,null,"1-","1-"]
[null,"",null,{"$f":"IF(C721=\"\",\"\",(VLOOKUP(C721,code2!$A$4:$B$30,2)))","v":""},null,null,null,null,null,"","",0,"","",0,"","",0,0,null,null,null,"1-","1-"]
[null,"",null,{"$f":"IF(C722=\"\",\"\",(VLOOKUP(C722,code2!$A$4:$B$30,2)))","v":""},null,null,null,null,null,"","",0,"","",0,"","",0,0,null,null,null,"1-","1-"]
[null,"",null,{"$f":"IF(C723=\"\",\"\",(VLOOKUP(C723,code2!$A$4:$B$30,2)))","v":""},null,null,null,null,null,"","",0,"","",0,"","",0,0,null,null,null,"1-","1-"]
[null,"",null,{"$f":"IF(C724=\"\",\"\",(VLOOKUP(C724,code2!$A$4:$B$30,2)))","v":""},null,null,null,null,null,"","",0,"","",0,"","",0,0,null,null,null,"1-","1-"]
[null,"",null,{"$f":"IF(C725=\"\",\"\",(VLOOKUP(C725,code2!$A$4:$B$30,2)))","v":""},null,null,null,null,null,"","",0,"","",0,"","",0,0,null,null,null,"1-","1-"]
[null,"",null,{"$f":"IF(C726=\"\",\"\",(VLOOKUP(C726,code2!$A$4:$B$30,2)))","v":""},null,null,null,null,null,"","",0,"","",0,"","",0,0,null,null,null,"1-","1-"]
[null,"",null,{"$f":"IF(C727=\"\",\"\",(VLOOKUP(C727,code2!$A$4:$B$30,2)))","v":""},null,null,null,null,null,"","",0,"","",0,"","",0,0,null,null,null,"1-","1-"]
[null,"",null,{"$f":"IF(C728=\"\",\"\",(VLOOKUP(C728,code2!$A$4:$B$30,2)))","v":""},null,null,null,null,null,"","",0,"","",0,"","",0,0,null,null,null,"1-","1-"]
[null,"",null,{"$f":"IF(C729=\"\",\"\",(VLOOKUP(C729,code2!$A$4:$B$30,2)))","v":""},null,null,null,null,null,"","",0,"","",0,"","",0,0,null,null,null,"1-","1-"]
[null,"",null,{"$f":"IF(C730=\"\",\"\",(VLOOKUP(C730,code2!$A$4:$B$30,2)))","v":""},null,null,null,null,null,"","",0,"","",0,"","",0,0,null,null,null,"1-","1-"]
[null,"",null,{"$f":"IF(C731=\"\",\"\",(VLOOKUP(C731,code2!$A$4:$B$30,2)))","v":""},null,null,null,null,null,"","",0,"","",0,"","",0,0,null,null,null,"1-","1-"]
[null,"",null,{"$f":"IF(C732=\"\",\"\",(VLOOKUP(C732,code2!$A$4:$B$30,2)))","v":""},null,null,null,null,null,"","",0,"","",0,"","",0,0,null,null,null,"1-","1-"]
[null,"",null,{"$f":"IF(C733=\"\",\"\",(VLOOKUP(C733,code2!$A$4:$B$30,2)))","v":""},null,null,null,null,null,"","",0,"","",0,"","",0,0,null,null,null,"1-","1-"]
[null,"",null,{"$f":"IF(C734=\"\",\"\",(VLOOKUP(C734,code2!$A$4:$B$30,2)))","v":""},null,null,null,null,null,"","",0,"","",0,"","",0,0,null,null,null,"1-","1-"]
[null,"",null,{"$f":"IF(C735=\"\",\"\",(VLOOKUP(C735,code2!$A$4:$B$30,2)))","v":""},null,null,null,null,null,"","",0,"","",0,"","",0,0,null,null,null,"1-","1-"]
[null,"",null,{"$f":"IF(C736=\"\",\"\",(VLOOKUP(C736,code2!$A$4:$B$30,2)))","v":""},null,null,null,null,null,"","",0,"","",0,"","",0,0,null,null,null,"1-","1-"]
[null,"",null,{"$f":"IF(C737=\"\",\"\",(VLOOKUP(C737,code2!$A$4:$B$30,2)))","v":""},null,null,null,null,null,"","",0,"","",0,"","",0,0,null,null,null,"1-","1-"]
[null,"",null,{"$f":"IF(C738=\"\",\"\",(VLOOKUP(C738,code2!$A$4:$B$30,2)))","v":""},null,null,null,null,null,"","",0,"","",0,"","",0,0,null,null,null,"1-","1-"]
[null,"",null,{"$f":"IF(C739=\"\",\"\",(VLOOKUP(C739,code2!$A$4:$B$30,2)))","v":""},null,null,null,null,null,"","",0,"","",0,"","",0,0,null,null,null,"1-","1-"]
[null,"",null,{"$f":"IF(C740=\"\",\"\",(VLOOKUP(C740,code2!$A$4:$B$30,2)))","v":""},null,null,null,null,null,"","",0,"","",0,"","",0,0,null,null,null,"1-","1-"]
[null,"",null,{"$f":"IF(C741=\"\",\"\",(VLOOKUP(C741,code2!$A$4:$B$30,2)))","v":""},null,null,null,null,null,"","",0,"","",0,"","",0,0,null,null,null,"1-","1-"]
[null,"",null,{"$f":"IF(C742=\"\",\"\",(VLOOKUP(C742,code2!$A$4:$B$30,2)))","v":""},null,null,null,null,null,"","",0,"","",0,"","",0,0,null,null,null,"1-","1-"]
[null,"",null,{"$f":"IF(C743=\"\",\"\",(VLOOKUP(C743,code2!$A$4:$B$30,2)))","v":""},null,null,null,null,null,"","",0,"","",0,"","",0,0,null,null,null,"1-","1-"]
[null,"",null,{"$f":"IF(C744=\"\",\"\",(VLOOKUP(C744,code2!$A$4:$B$30,2)))","v":""},null,null,null,null,null,"","",0,"","",0,"","",0,0,null,null,null,"1-","1-"]
[null,"",null,{"$f":"IF(C745=\"\",\"\",(VLOOKUP(C745,code2!$A$4:$B$30,2)))","v":""},null,null,null,null,null,"","",0,"","",0,"","",0,0,null,null,null,"1-","1-"]
[null,"",null,{"$f":"IF(C746=\"\",\"\",(VLOOKUP(C746,code2!$A$4:$B$30,2)))","v":""},null,null,null,null,null,"","",0,"","",0,"","",0,0,null,null,null,"1-","1-"]
[null,"",null,{"$f":"IF(C747=\"\",\"\",(VLOOKUP(C747,code2!$A$4:$B$30,2)))","v":""},null,null,null,null,null,"","",0,"","",0,"","",0,0,null,null,null,"1-","1-"]
[null,"",null,{"$f":"IF(C748=\"\",\"\",(VLOOKUP(C748,code2!$A$4:$B$30,2)))","v":""},null,null,null,null,null,"","",0,"","",0,"","",0,0,null,null,null,"1-","1-"]
[null,"",null,{"$f":"IF(C749=\"\",\"\",(VLOOKUP(C749,code2!$A$4:$B$30,2)))","v":""},null,null,null,null,null,"","",0,"","",0,"","",0,0,null,null,null,"1-","1-"]
[null,"",null,{"$f":"IF(C750=\"\",\"\",(VLOOKUP(C750,code2!$A$4:$B$30,2)))","v":""},null,null,null,null,null,"","",0,"","",0,"","",0,0,null,null,null,"1-","1-"]
[null,"",null,{"$f":"IF(C751=\"\",\"\",(VLOOKUP(C751,code2!$A$4:$B$30,2)))","v":""},null,null,null,null,null,"","",0,"","",0,"","",0,0,null,null,null,"1-","1-"]
[null,"",null,{"$f":"IF(C752=\"\",\"\",(VLOOKUP(C752,code2!$A$4:$B$30,2)))","v":""},null,null,null,null,null,"","",0,"","",0,"","",0,0,null,null,null,"1-","1-"]
[null,"",null,{"$f":"IF(C753=\"\",\"\",(VLOOKUP(C753,code2!$A$4:$B$30,2)))","v":""},null,null,null,null,null,"","",0,"","",0,"","",0,0,null,null,null,"1-","1-"]
[null,"",null,{"$f":"IF(C754=\"\",\"\",(VLOOKUP(C754,code2!$A$4:$B$30,2)))","v":""},null,null,null,null,null,"","",0,"","",0,"","",0,0,null,null,null,"1-","1-"]
[null,"",null,{"$f":"IF(C755=\"\",\"\",(VLOOKUP(C755,code2!$A$4:$B$30,2)))","v":""},null,null,null,null,null,"","",0,"","",0,"","",0,0,null,null,null,{"$f":"MONTH(A755)&\"-\"&D755","v":"1-"},{"$f":"MONTH(A755)&\"-\"&D755&E755","v":"1-"}]
[null,"",null,{"$f":"IF(C756=\"\",\"\",(VLOOKUP(C756,code2!$A$4:$B$30,2)))","v":""},null,null,null,null,null,"","",0,"","",0,"","",0,0,null,null,null,"1-","1-"]
[null,"日",null,{"$f":"IF(C757=\"\",\"\",(VLOOKUP(C757,code2!$A$4:$B$30,2)))","v":""},null,null,null,null,null,"","",0,"","",0,"","",0,0,null,null,null,"1-","1-"]
[null,"",null,{"$f":"IF(C758=\"\",\"\",(VLOOKUP(C758,code2!$A$4:$B$30,2)))","v":""},null,null,null,null,null,"","",0,"","",0,"","",0,0,null,null,null,"1-","1-"]
[null,"",null,{"$f":"IF(C759=\"\",\"\",(VLOOKUP(C759,code2!$A$4:$B$30,2)))","v":""},null,null,null,null,null,"","",0,"","",0,"","",0,0,null,null,null,"1-","1-"]
[null,"",null,{"$f":"IF(C760=\"\",\"\",(VLOOKUP(C760,code2!$A$4:$B$30,2)))","v":""},null,null,null,null,null,"","",0,"","",0,"","",0,0,null,null,null,"1-","1-"]
[null,"",null,{"$f":"IF(C761=\"\",\"\",(VLOOKUP(C761,code2!$A$4:$B$30,2)))","v":""},null,null,null,null,null,"","",0,"","",0,"","",0,0,null,null,null,"1-","1-"]
[null,"",null,{"$f":"IF(C762=\"\",\"\",(VLOOKUP(C762,code2!$A$4:$B$30,2)))","v":""},null,null,null,null,null,"","",0,"","",0,"","",0,0,null,null,null,"1-","1-"]
[null,"",null,{"$f":"IF(C763=\"\",\"\",(VLOOKUP(C763,code2!$A$4:$B$30,2)))","v":""},null,null,null,null,null,"","",0,"","",0,"","",0,0,null,null,null,"1-","1-"]
[null,"",null,{"$f":"IF(C764=\"\",\"\",(VLOOKUP(C764,code2!$A$4:$B$30,2)))","v":""},null,null,null,null,null,"","",0,"","",0,"","",0,0,null,null,null,"1-","1-"]
[null,{"$f":"IF(A765=\"\",\"\",A765)","v":""},null,{"$f":"IF(C765=\"\",\"\",(VLOOKUP(C765,code2!$A$4:$B$30,2)))","v":""},null,null,null,null,null,"","",0,"","",0,"","",0,0,null,null,null,"1-","1-"]
[null,"",null,{"$f":"IF(C766=\"\",\"\",(VLOOKUP(C766,code2!$A$4:$B$30,2)))","v":""},null,null,null,null,null,"","",0,"","",0,"","",0,0,null,null,null,"1-","1-"]
[null,"",null,{"$f":"IF(C767=\"\",\"\",(VLOOKUP(C767,code2!$A$4:$B$30,2)))","v":""},null,null,null,null,null,"","",0,"","",0,"","",0,0,null,null,null,"1-","1-"]
[null,"",null,{"$f":"IF(C768=\"\",\"\",(VLOOKUP(C768,code2!$A$4:$B$30,2)))","v":""},null,null,null,null,null,"","",0,"","",0,"","",0,0,null,null,null,"1-","1-"]
[null,"",null,{"$f":"IF(C769=\"\",\"\",(VLOOKUP(C769,code2!$A$4:$B$30,2)))","v":""},null,null,null,null,null,"","",0,"","",0,"","",0,0,null,null,null,"1-","1-"]
[null,"",null,{"$f":"IF(C770=\"\",\"\",(VLOOKUP(C770,code2!$A$4:$B$30,2)))","v":""},null,null,null,null,null,"","",0,"","",0,"","",0,0,null,null,null,"1-","1-"]
[null,"",null,{"$f":"IF(C771=\"\",\"\",(VLOOKUP(C771,code2!$A$4:$B$30,2)))","v":""},null,null,null,null,null,"","",0,"","",0,"","",0,0,null,null,null,"1-","1-"]
[null,"",null,{"$f":"IF(C772=\"\",\"\",(VLOOKUP(C772,code2!$A$4:$B$30,2)))","v":""},null,null,null,null,null,"","",0,"","",0,"","",0,0,null,null,null,"1-","1-"]
[null,{"$f":"IF(A773=\"\",\"\",A773)","v":""},null,{"$f":"IF(C773=\"\",\"\",(VLOOKUP(C773,code2!$A$4:$B$30,2)))","v":""},null,null,null,null,null,"","",0,"","",0,"","",0,0,null,null,null,"1-","1-"]
[null,"",null,{"$f":"IF(C774=\"\",\"\",(VLOOKUP(C774,code2!$A$4:$B$30,2)))","v":""},null,null,null,null,null,"","",0,"","",0,"","",{"$f":"IF(P774&Q774=\"\",R773,R773+P774-Q774)","v":0},0,null,null,null,"1-","1-"]
[null,"",null,{"$f":"IF(C775=\"\",\"\",(VLOOKUP(C775,code2!$A$4:$B$30,2)))","v":""},null,null,null,null,null,{"$f":"IF(I775=\"現金\",G775,\"\")","v":""},{"$f":"IF(I775=\"現金\",H775,\"\")","v":""},{"$f":"IF(J775&K775=\"\",L774,L774+J775-K775)","v":0},{"$f":"IF(I775=\"通帳\",G775,\"\")","v":""},{"$f":"IF(I775=\"通帳\",H775,\"\")","v":""},{"$f":"IF(M775&N775=\"\",O774,O774+M775-N775)","v":0},{"$f":"IF(I775=\"郵便振替\",G775,\"\")","v":""},{"$f":"IF(I775=\"郵便振替\",H775,\"\")","v":""},0,0,null,null,null,"1-","1-"]
[null,"",null,{"$f":"IF(C776=\"\",\"\",(VLOOKUP(C776,code2!$A$4:$B$30,2)))","v":""},null,null,null,null,null,"","",0,"","",0,"","",0,{"$f":"L776+O776+R776","v":0},null,null,null,"1-","1-"]
[null,"",null,{"$f":"IF(C777=\"\",\"\",(VLOOKUP(C777,code2!$A$4:$B$30,2)))","v":""},null,null,null,null,null,"","",0,"","",0,"","",0,0,null,null,null,"1-","1-"]
[null,"",null,{"$f":"IF(C778=\"\",\"\",(VLOOKUP(C778,code2!$A$4:$B$30,2)))","v":""},null,null,null,null,null,"","",0,"","",0,"","",0,0,null,null,null,"1-","1-"]
[null,"",null,{"$f":"IF(C779=\"\",\"\",(VLOOKUP(C779,code2!$A$4:$B$30,2)))","v":""},null,null,null,null,null,"","",0,"","",0,"","",0,0,null,null,null,"1-","1-"]
[null,"",null,{"$f":"IF(C780=\"\",\"\",(VLOOKUP(C780,code2!$A$4:$B$30,2)))","v":""},null,null,null,null,null,"","",0,"","",0,"","",0,0,null,null,null,"1-","1-"]
[null,"",null,{"$f":"IF(C781=\"\",\"\",(VLOOKUP(C781,code2!$A$4:$B$30,2)))","v":""},null,null,null,null,null,"","",0,"","",0,"","",0,0,null,null,null,"1-","1-"]
[null,"",null,{"$f":"IF(C782=\"\",\"\",(VLOOKUP(C782,code2!$A$4:$B$30,2)))","v":""},null,null,null,null,null,"","",0,"","",0,"","",0,0,null,null,null,"1-","1-"]
[null,"",null,{"$f":"IF(C783=\"\",\"\",(VLOOKUP(C783,code2!$A$4:$B$30,2)))","v":""},null,null,null,null,null,"","",0,"","",0,"","",0,0,null,null,null,"1-","1-"]
[null,"",null,{"$f":"IF(C784=\"\",\"\",(VLOOKUP(C784,code2!$A$4:$B$30,2)))","v":""},null,null,null,null,null,"","",0,"","",0,"","",0,0,null,null,null,"1-","1-"]
[null,"",null,{"$f":"IF(C785=\"\",\"\",(VLOOKUP(C785,code2!$A$4:$B$30,2)))","v":""},null,null,null,null,null,"","",0,"","",0,"","",0,0,null,null,null,"1-","1-"]
[null,"",null,{"$f":"IF(C786=\"\",\"\",(VLOOKUP(C786,code2!$A$4:$B$30,2)))","v":""},null,null,null,null,null,"","",0,"","",0,"","",0,0,null,null,null,"1-","1-"]
[null,"",null,{"$f":"IF(C787=\"\",\"\",(VLOOKUP(C787,code2!$A$4:$B$30,2)))","v":""},null,null,null,null,null,"","",0,"","",0,"","",0,0,null,null,null,"1-","1-"]
[null,"",null,{"$f":"IF(C788=\"\",\"\",(VLOOKUP(C788,code2!$A$4:$B$30,2)))","v":""},null,null,null,null,null,"","",0,"","",0,"","",0,0,null,null,null,"1-","1-"]
[null,"",null,{"$f":"IF(C789=\"\",\"\",(VLOOKUP(C789,code2!$A$4:$B$30,2)))","v":""},null,null,null,null,null,"","",0,"","",0,"","",0,0,null,null,null,"1-","1-"]
[null,"",null,{"$f":"IF(C790=\"\",\"\",(VLOOKUP(C790,code2!$A$4:$B$30,2)))","v":""},null,null,null,null,null,"","",0,"","",0,"","",0,0,null,null,null,"1-","1-"]
[null,"",null,{"$f":"IF(C791=\"\",\"\",(VLOOKUP(C791,code2!$A$4:$B$30,2)))","v":""},null,null,null,null,null,"","",0,"","",0,"","",0,0,null,null,null,"1-","1-"]
[null,"",null,{"$f":"IF(C792=\"\",\"\",(VLOOKUP(C792,code2!$A$4:$B$30,2)))","v":""},null,null,null,null,null,"","",0,"","",0,"","",0,0,null,null,null,"1-","1-"]
[null,"",null,{"$f":"IF(C793=\"\",\"\",(VLOOKUP(C793,code2!$A$4:$B$30,2)))","v":""},null,null,null,null,null,"","",0,"","",0,"","",0,0,null,null,null,"1-","1-"]
[null,"",null,{"$f":"IF(C794=\"\",\"\",(VLOOKUP(C794,code2!$A$4:$B$30,2)))","v":""},null,null,null,null,null,"","",0,"","",0,"","",0,0,null,null,null,"1-","1-"]
[null,"",null,{"$f":"IF(C795=\"\",\"\",(VLOOKUP(C795,code2!$A$4:$B$30,2)))","v":""},null,null,null,null,null,"","",0,"","",0,"","",0,0,null,null,null,"1-","1-"]
[null,"",null,{"$f":"IF(C796=\"\",\"\",(VLOOKUP(C796,code2!$A$4:$B$30,2)))","v":""},null,null,null,null,null,"","",0,"","",0,"","",0,0,null,null,null,"1-","1-"]
[null,"",null,{"$f":"IF(C797=\"\",\"\",(VLOOKUP(C797,code2!$A$4:$B$30,2)))","v":""},null,null,null,null,null,"","",0,"","",0,"","",0,0,null,null,null,"1-","1-"]
[null,"",null,{"$f":"IF(C798=\"\",\"\",(VLOOKUP(C798,code2!$A$4:$B$30,2)))","v":""},null,null,null,null,null,"","",0,"","",0,"","",0,0,null,null,null,"1-","1-"]
[null,"",null,{"$f":"IF(C799=\"\",\"\",(VLOOKUP(C799,code2!$A$4:$B$30,2)))","v":""},null,null,null,null,null,"","",0,"","",0,"","",0,0,null,null,null,"1-","1-"]
[null,"",null,{"$f":"IF(C800=\"\",\"\",(VLOOKUP(C800,code2!$A$4:$B$30,2)))","v":""},null,null,null,null,null,"","",0,"","",0,"","",0,0,null,null,null,"1-","1-"]
[null,"",null,{"$f":"IF(C801=\"\",\"\",(VLOOKUP(C801,code2!$A$4:$B$30,2)))","v":""},null,null,null,null,null,"","",0,"","",0,"","",0,0,null,null,null,"1-","1-"]
[null,"",null,{"$f":"IF(C802=\"\",\"\",(VLOOKUP(C802,code2!$A$4:$B$30,2)))","v":""},null,null,null,null,null,"","",0,"","",0,"","",0,0,null,null,null,"1-","1-"]
[null,"",null,{"$f":"IF(C803=\"\",\"\",(VLOOKUP(C803,code2!$A$4:$B$30,2)))","v":""},null,null,null,null,null,"","",0,"","",0,"","",0,0,null,null,null,"1-","1-"]
[null,"",null,{"$f":"IF(C804=\"\",\"\",(VLOOKUP(C804,code2!$A$4:$B$30,2)))","v":""},null,null,null,null,null,"","",0,"","",0,"","",0,0,null,null,null,"1-","1-"]
[null,"",null,{"$f":"IF(C805=\"\",\"\",(VLOOKUP(C805,code2!$A$4:$B$30,2)))","v":""},null,null,null,null,null,"","",0,"","",0,"","",0,0,null,null,null,"1-","1-"]
[null,"",null,{"$f":"IF(C806=\"\",\"\",(VLOOKUP(C806,code2!$A$4:$B$30,2)))","v":""},null,null,null,null,null,"","",0,"","",0,"","",0,0,null,null,null,"1-","1-"]
[null,"",null,{"$f":"IF(C807=\"\",\"\",(VLOOKUP(C807,code2!$A$4:$B$30,2)))","v":""},null,null,null,null,null,"","",0,"","",0,"","",0,0,null,null,null,"1-","1-"]
[null,"",null,{"$f":"IF(C808=\"\",\"\",(VLOOKUP(C808,code2!$A$4:$B$30,2)))","v":""},null,null,null,null,null,"","",0,"","",0,"","",0,0,null,null,null,"1-","1-"]
[null,"",null,{"$f":"IF(C809=\"\",\"\",(VLOOKUP(C809,code2!$A$4:$B$30,2)))","v":""},null,null,null,null,null,"","",0,"","",0,"","",{"$f":"IF(P809&Q809=\"\",R808,R808+P809-Q809)","v":0},0,null,null,null,"1-","1-"]
[null,"",null,{"$f":"IF(C810=\"\",\"\",(VLOOKUP(C810,code2!$A$4:$B$30,2)))","v":""},null,null,null,null,null,"","",0,"","",0,"","",0,0,null,null,null,"1-","1-"]
[null,"",null,{"$f":"IF(C811=\"\",\"\",(VLOOKUP(C811,code2!$A$4:$B$30,2)))","v":""},null,null,null,null,null,"","",0,"","",0,"","",0,0,null,null,null,"1-","1-"]
[null,"",null,{"$f":"IF(C812=\"\",\"\",(VLOOKUP(C812,code2!$A$4:$B$30,2)))","v":""},null,null,null,null,null,"","",0,"","",0,"","",0,0,null,null,null,"1-","1-"]
[null,"",null,{"$f":"IF(C813=\"\",\"\",(VLOOKUP(C813,code2!$A$4:$B$30,2)))","v":""},null,null,null,null,null,"","",0,"","",0,"","",0,0,null,null,null,"1-","1-"]
[null,"",null,{"$f":"IF(C814=\"\",\"\",(VLOOKUP(C814,code2!$A$4:$B$30,2)))","v":""},null,null,null,null,null,"","",0,"","",0,"","",0,0,null,null,null,"1-","1-"]
[null,"",null,{"$f":"IF(C815=\"\",\"\",(VLOOKUP(C815,code2!$A$4:$B$30,2)))","v":""},null,null,null,null,null,"","",0,"","",0,"","",0,0,null,null,null,"1-","1-"]
[null,"",null,{"$f":"IF(C816=\"\",\"\",(VLOOKUP(C816,code2!$A$4:$B$30,2)))","v":""},null,null,null,null,null,"","",0,"","",0,"","",0,0,null,null,null,"1-","1-"]
[null,"",null,{"$f":"IF(C817=\"\",\"\",(VLOOKUP(C817,code2!$A$4:$B$30,2)))","v":""},null,null,null,null,null,"","",0,"","",0,"","",0,0,null,null,null,"1-","1-"]
[null,"",null,{"$f":"IF(C818=\"\",\"\",(VLOOKUP(C818,code2!$A$4:$B$30,2)))","v":""},null,null,null,null,null,"","",0,"","",0,"","",0,0,null,null,null,"1-","1-"]
[null,"",null,{"$f":"IF(C819=\"\",\"\",(VLOOKUP(C819,code2!$A$4:$B$30,2)))","v":""},null,null,null,null,null,"","",0,"","",0,"","",0,0,null,null,null,{"$f":"MONTH(A819)&\"-\"&D819","v":"1-"},{"$f":"MONTH(A819)&\"-\"&D819&E819","v":"1-"}]
[null,"",null,{"$f":"IF(C820=\"\",\"\",(VLOOKUP(C820,code2!$A$4:$B$30,2)))","v":""},null,null,null,null,null,"","",0,"","",0,"","",0,0,null,null,null,"1-","1-"]
[null,"",null,{"$f":"IF(C821=\"\",\"\",(VLOOKUP(C821,code2!$A$4:$B$30,2)))","v":""},null,null,null,null,null,"","",0,"","",0,"","",0,0,null,null,null,"1-","1-"]
[null,"",null,{"$f":"IF(C822=\"\",\"\",(VLOOKUP(C822,code2!$A$4:$B$30,2)))","v":""},null,null,null,null,null,"","",0,"","",0,"","",0,0,null,null,null,"1-","1-"]
[null,"",null,{"$f":"IF(C823=\"\",\"\",(VLOOKUP(C823,code2!$A$4:$B$30,2)))","v":""},null,null,null,null,null,"","",0,"","",0,"","",0,0,null,null,null,"1-","1-"]
[null,"",null,{"$f":"IF(C824=\"\",\"\",(VLOOKUP(C824,code2!$A$4:$B$30,2)))","v":""},null,null,null,null,null,"","",0,"","",0,"","",0,0,null,null,null,"1-","1-"]
[null,"",null,{"$f":"IF(C825=\"\",\"\",(VLOOKUP(C825,code2!$A$4:$B$30,2)))","v":""},null,null,null,null,null,"","",0,"","",0,"","",0,0,null,null,null,"1-","1-"]
[null,"",null,{"$f":"IF(C826=\"\",\"\",(VLOOKUP(C826,code2!$A$4:$B$30,2)))","v":""},null,null,null,null,null,"","",0,"","",0,"","",0,0,null,null,null,"1-","1-"]
[null,"",null,{"$f":"IF(C827=\"\",\"\",(VLOOKUP(C827,code2!$A$4:$B$30,2)))","v":""},null,null,null,null,null,"","",0,"","",0,"","",0,0,null,null,null,"1-","1-"]
[null,"",null,{"$f":"IF(C828=\"\",\"\",(VLOOKUP(C828,code2!$A$4:$B$30,2)))","v":""},null,null,null,null,null,"","",0,"","",0,"","",0,0,null,null,null,"1-","1-"]
[null,"",null,{"$f":"IF(C829=\"\",\"\",(VLOOKUP(C829,code2!$A$4:$B$30,2)))","v":""},null,null,null,null,null,"","",0,"","",0,"","",0,0,null,null,null,"1-","1-"]
[null,"",null,{"$f":"IF(C830=\"\",\"\",(VLOOKUP(C830,code2!$A$4:$B$30,2)))","v":""},null,null,null,null,null,"","",0,"","",0,"","",0,0,null,null,null,"1-","1-"]
[null,"",null,{"$f":"IF(C831=\"\",\"\",(VLOOKUP(C831,code2!$A$4:$B$30,2)))","v":""},null,null,null,null,null,"","",0,"","",0,"","",0,0,null,null,null,"1-","1-"]
[null,"",null,{"$f":"IF(C832=\"\",\"\",(VLOOKUP(C832,code2!$A$4:$B$30,2)))","v":""},null,null,null,null,null,"","",0,"","",0,"","",0,0,null,null,null,"1-","1-"]
[null,"",null,{"$f":"IF(C833=\"\",\"\",(VLOOKUP(C833,code2!$A$4:$B$30,2)))","v":""},null,null,null,null,null,"","",0,"","",0,"","",0,0,null,null,null,"1-","1-"]
[null,"",null,{"$f":"IF(C834=\"\",\"\",(VLOOKUP(C834,code2!$A$4:$B$30,2)))","v":""},null,null,null,null,null,"","",0,"","",0,"","",0,0,null,null,null,"1-","1-"]
[null,"",null,{"$f":"IF(C835=\"\",\"\",(VLOOKUP(C835,code2!$A$4:$B$30,2)))","v":""},null,null,null,null,null,"","",0,"","",0,"","",0,0,null,null,null,"1-","1-"]
[null,"",null,{"$f":"IF(C836=\"\",\"\",(VLOOKUP(C836,code2!$A$4:$B$30,2)))","v":""},null,null,null,null,null,"","",0,"","",0,"","",0,0,null,null,null,"1-","1-"]
[null,{"$f":"IF(A837=\"\",\"\",A837)","v":""},null,{"$f":"IF(C837=\"\",\"\",(VLOOKUP(C837,code2!$A$4:$B$30,2)))","v":""},null,null,null,null,null,"","",0,"","",0,"","",0,0,null,null,null,"1-","1-"]
[null,"",null,{"$f":"IF(C838=\"\",\"\",(VLOOKUP(C838,code2!$A$4:$B$30,2)))","v":""},null,null,null,null,null,"","",0,"","",0,"","",{"$f":"IF(P838&Q838=\"\",R837,R837+P838-Q838)","v":0},0,null,null,null,"1-","1-"]
[null,"",null,{"$f":"IF(C839=\"\",\"\",(VLOOKUP(C839,code2!$A$4:$B$30,2)))","v":""},null,null,null,null,null,{"$f":"IF(I839=\"現金\",G839,\"\")","v":""},{"$f":"IF(I839=\"現金\",H839,\"\")","v":""},{"$f":"IF(J839&K839=\"\",L838,L838+J839-K839)","v":0},{"$f":"IF(I839=\"通帳\",G839,\"\")","v":""},{"$f":"IF(I839=\"通帳\",H839,\"\")","v":""},{"$f":"IF(M839&N839=\"\",O838,O838+M839-N839)","v":0},{"$f":"IF(I839=\"郵便振替\",G839,\"\")","v":""},{"$f":"IF(I839=\"郵便振替\",H839,\"\")","v":""},0,0,null,null,null,"1-","1-"]
[null,"",null,{"$f":"IF(C840=\"\",\"\",(VLOOKUP(C840,code2!$A$4:$B$30,2)))","v":""},null,null,null,null,null,"","",0,"","",0,"","",0,{"$f":"L840+O840+R840","v":0},null,null,null,"1-","1-"]
[null,"",null,{"$f":"IF(C841=\"\",\"\",(VLOOKUP(C841,code2!$A$4:$B$30,2)))","v":""},null,null,null,null,null,"","",0,"","",0,"","",0,0,null,null,null,"1-","1-"]
[null,"",null,{"$f":"IF(C842=\"\",\"\",(VLOOKUP(C842,code2!$A$4:$B$30,2)))","v":""},null,null,null,null,null,"","",0,"","",0,"","",0,0,null,null,null,"1-","1-"]
[null,"",null,{"$f":"IF(C843=\"\",\"\",(VLOOKUP(C843,code2!$A$4:$B$30,2)))","v":""},null,null,null,null,null,"","",0,"","",0,"","",0,0,null,null,null,"1-","1-"]
[null,"",null,{"$f":"IF(C844=\"\",\"\",(VLOOKUP(C844,code2!$A$4:$B$30,2)))","v":""},null,null,null,null,null,"","",0,"","",0,"","",0,0,null,null,null,"1-","1-"]
[null,"",null,{"$f":"IF(C845=\"\",\"\",(VLOOKUP(C845,code2!$A$4:$B$30,2)))","v":""},null,null,null,null,null,"","",0,"","",0,"","",0,0,null,null,null,"1-","1-"]
[null,"",null,{"$f":"IF(C846=\"\",\"\",(VLOOKUP(C846,code2!$A$4:$B$30,2)))","v":""},null,null,null,null,null,"","",0,"","",0,"","",0,0,null,null,null,"1-","1-"]
[null,"",null,{"$f":"IF(C847=\"\",\"\",(VLOOKUP(C847,code2!$A$4:$B$30,2)))","v":""},null,null,null,null,null,"","",0,"","",0,"","",0,0,null,null,null,"1-","1-"]
[null,"",null,{"$f":"IF(C848=\"\",\"\",(VLOOKUP(C848,code2!$A$4:$B$30,2)))","v":""},null,null,null,null,null,"","",0,"","",0,"","",0,0,null,null,null,"1-","1-"]
[null,"",null,{"$f":"IF(C849=\"\",\"\",(VLOOKUP(C849,code2!$A$4:$B$30,2)))","v":""},null,null,null,null,null,"","",0,"","",0,"","",0,0,null,null,null,"1-","1-"]
[null,"",null,{"$f":"IF(C850=\"\",\"\",(VLOOKUP(C850,code2!$A$4:$B$30,2)))","v":""},null,null,null,null,null,"","",0,"","",0,"","",0,0,null,null,null,"1-","1-"]
[null,"",null,{"$f":"IF(C851=\"\",\"\",(VLOOKUP(C851,code2!$A$4:$B$30,2)))","v":""},null,null,null,null,null,"","",0,"","",0,"","",0,0,null,null,null,"1-","1-"]
[null,"",null,{"$f":"IF(C852=\"\",\"\",(VLOOKUP(C852,code2!$A$4:$B$30,2)))","v":""},null,null,null,null,null,"","",0,"","",0,"","",0,0,null,null,null,"1-","1-"]
[null,"",null,{"$f":"IF(C853=\"\",\"\",(VLOOKUP(C853,code2!$A$4:$B$30,2)))","v":""},null,null,null,null,null,"","",0,"","",0,"","",0,0,null,null,null,"1-","1-"]
[null,"",null,{"$f":"IF(C854=\"\",\"\",(VLOOKUP(C854,code2!$A$4:$B$30,2)))","v":""},null,null,null,null,null,"","",0,"","",0,"","",0,0,null,null,null,"1-","1-"]
[null,"",null,{"$f":"IF(C855=\"\",\"\",(VLOOKUP(C855,code2!$A$4:$B$30,2)))","v":""},null,null,null,null,null,"","",0,"","",0,"","",0,0,null,null,null,"1-","1-"]
[null,"",null,{"$f":"IF(C856=\"\",\"\",(VLOOKUP(C856,code2!$A$4:$B$30,2)))","v":""},null,null,null,null,null,"","",0,"","",0,"","",0,0,null,null,null,"1-","1-"]
[null,"",null,{"$f":"IF(C857=\"\",\"\",(VLOOKUP(C857,code2!$A$4:$B$30,2)))","v":""},null,null,null,null,null,"","",0,"","",0,"","",0,0,null,null,null,"1-","1-"]
[null,"",null,{"$f":"IF(C858=\"\",\"\",(VLOOKUP(C858,code2!$A$4:$B$30,2)))","v":""},null,null,null,null,null,"","",0,"","",0,"","",0,0,null,null,null,"1-","1-"]
[null,"",null,{"$f":"IF(C859=\"\",\"\",(VLOOKUP(C859,code2!$A$4:$B$30,2)))","v":""},null,null,null,null,null,"","",0,"","",0,"","",0,0,null,null,null,"1-","1-"]
[null,"",null,{"$f":"IF(C860=\"\",\"\",(VLOOKUP(C860,code2!$A$4:$B$30,2)))","v":""},null,null,null,null,null,"","",0,"","",0,"","",0,0,null,null,null,"1-","1-"]
[null,"",null,{"$f":"IF(C861=\"\",\"\",(VLOOKUP(C861,code2!$A$4:$B$30,2)))","v":""},null,null,null,null,null,"","",0,"","",0,"","",0,0,null,null,null,"1-","1-"]
[null,"",null,{"$f":"IF(C862=\"\",\"\",(VLOOKUP(C862,code2!$A$4:$B$30,2)))","v":""},null,null,null,null,null,"","",0,"","",0,"","",0,0,null,null,null,"1-","1-"]
[null,"",null,{"$f":"IF(C863=\"\",\"\",(VLOOKUP(C863,code2!$A$4:$B$30,2)))","v":""},null,null,null,null,null,"","",0,"","",0,"","",0,0,null,null,null,"1-","1-"]
[null,"",null,{"$f":"IF(C864=\"\",\"\",(VLOOKUP(C864,code2!$A$4:$B$30,2)))","v":""},null,null,null,null,null,"","",0,"","",0,"","",0,0,null,null,null,"1-","1-"]
[null,"",null,{"$f":"IF(C865=\"\",\"\",(VLOOKUP(C865,code2!$A$4:$B$30,2)))","v":""},null,null,null,null,null,"","",0,"","",0,"","",0,0,null,null,null,"1-","1-"]
[null,"",null,{"$f":"IF(C866=\"\",\"\",(VLOOKUP(C866,code2!$A$4:$B$30,2)))","v":""},null,null,null,null,null,"","",0,"","",0,"","",0,0,null,null,null,"1-","1-"]
[null,"",null,{"$f":"IF(C867=\"\",\"\",(VLOOKUP(C867,code2!$A$4:$B$30,2)))","v":""},null,null,null,null,null,"","",0,"","",0,"","",0,0,null,null,null,"1-","1-"]
[null,"",null,{"$f":"IF(C868=\"\",\"\",(VLOOKUP(C868,code2!$A$4:$B$30,2)))","v":""},null,null,null,null,null,"","",0,"","",0,"","",0,0,null,null,null,"1-","1-"]
[null,"",null,{"$f":"IF(C869=\"\",\"\",(VLOOKUP(C869,code2!$A$4:$B$30,2)))","v":""},null,null,null,null,null,"","",0,"","",0,"","",0,0,null,null,null,"1-","1-"]
[null,"",null,{"$f":"IF(C870=\"\",\"\",(VLOOKUP(C870,code2!$A$4:$B$30,2)))","v":""},null,null,null,null,null,"","",0,"","",0,"","",0,0,null,null,null,"1-","1-"]
[null,"",null,{"$f":"IF(C871=\"\",\"\",(VLOOKUP(C871,code2!$A$4:$B$30,2)))","v":""},null,null,null,null,null,"","",0,"","",0,"","",0,0,null,null,null,"1-","1-"]
[null,"",null,{"$f":"IF(C872=\"\",\"\",(VLOOKUP(C872,code2!$A$4:$B$30,2)))","v":""},null,null,null,null,null,"","",0,"","",0,"","",0,0,null,null,null,"1-","1-"]
[null,"",null,{"$f":"IF(C873=\"\",\"\",(VLOOKUP(C873,code2!$A$4:$B$30,2)))","v":""},null,null,null,null,null,"","",0,"","",0,"","",0,0,null,null,null,"1-","1-"]
[null,"",null,{"$f":"IF(C874=\"\",\"\",(VLOOKUP(C874,code2!$A$4:$B$30,2)))","v":""},null,null,null,null,null,"","",0,"","",0,"","",0,0,null,null,null,"1-","1-"]
[null,"",null,{"$f":"IF(C875=\"\",\"\",(VLOOKUP(C875,code2!$A$4:$B$30,2)))","v":""},null,null,null,null,null,"","",0,"","",0,"","",0,0,null,null,null,"1-","1-"]
[null,"",null,{"$f":"IF(C876=\"\",\"\",(VLOOKUP(C876,code2!$A$4:$B$30,2)))","v":""},null,null,null,null,null,"","",0,"","",0,"","",0,0,null,null,null,"1-","1-"]
[null,"",null,{"$f":"IF(C877=\"\",\"\",(VLOOKUP(C877,code2!$A$4:$B$30,2)))","v":""},null,null,null,null,null,"","",0,"","",0,"","",0,0,null,null,null,"1-","1-"]
[null,"",null,{"$f":"IF(C878=\"\",\"\",(VLOOKUP(C878,code2!$A$4:$B$30,2)))","v":""},null,null,null,null,null,"","",0,"","",0,"","",0,0,null,null,null,"1-","1-"]
[null,"",null,{"$f":"IF(C879=\"\",\"\",(VLOOKUP(C879,code2!$A$4:$B$30,2)))","v":""},null,null,null,null,null,"","",0,"","",0,"","",0,0,null,null,null,"1-","1-"]
[null,"",null,{"$f":"IF(C880=\"\",\"\",(VLOOKUP(C880,code2!$A$4:$B$30,2)))","v":""},null,null,null,null,null,"","",0,"","",0,"","",0,0,null,null,null,"1-","1-"]
[null,"",null,{"$f":"IF(C881=\"\",\"\",(VLOOKUP(C881,code2!$A$4:$B$30,2)))","v":""},null,null,null,null,null,"","",0,"","",0,"","",0,0,null,null,null,"1-","1-"]
[null,"",null,{"$f":"IF(C882=\"\",\"\",(VLOOKUP(C882,code2!$A$4:$B$30,2)))","v":""},null,null,null,null,null,"","",0,"","",0,"","",0,0,null,null,null,"1-","1-"]
[null,"",null,{"$f":"IF(C883=\"\",\"\",(VLOOKUP(C883,code2!$A$4:$B$30,2)))","v":""},null,null,null,null,null,"","",0,"","",0,"","",0,0,null,null,null,{"$f":"MONTH(A883)&\"-\"&D883","v":"1-"},{"$f":"MONTH(A883)&\"-\"&D883&E883","v":"1-"}]
[null,"",null,{"$f":"IF(C884=\"\",\"\",(VLOOKUP(C884,code2!$A$4:$B$30,2)))","v":""},null,null,null,null,null,"","",0,"","",0,"","",0,0,null,null,null,"1-","1-"]
[null,"",null,{"$f":"IF(C885=\"\",\"\",(VLOOKUP(C885,code2!$A$4:$B$30,2)))","v":""},null,null,null,null,null,"","",0,"","",0,"","",0,0,null,null,null,"1-","1-"]
[null,"",null,{"$f":"IF(C886=\"\",\"\",(VLOOKUP(C886,code2!$A$4:$B$30,2)))","v":""},null,null,null,null,null,"","",0,"","",0,"","",0,0,null,null,null,"1-","1-"]
[null,"",null,{"$f":"IF(C887=\"\",\"\",(VLOOKUP(C887,code2!$A$4:$B$30,2)))","v":""},null,null,null,null,null,"","",0,"","",0,"","",0,0,null,null,null,"1-","1-"]
[null,"",null,{"$f":"IF(C888=\"\",\"\",(VLOOKUP(C888,code2!$A$4:$B$30,2)))","v":""},null,null,null,null,null,"","",0,"","",0,"","",0,0,null,null,null,"1-","1-"]
[null,"",null,{"$f":"IF(C889=\"\",\"\",(VLOOKUP(C889,code2!$A$4:$B$30,2)))","v":""},null,null,null,null,null,"","",0,"","",0,"","",0,0,null,null,null,"1-","1-"]
[null,"",null,{"$f":"IF(C890=\"\",\"\",(VLOOKUP(C890,code2!$A$4:$B$30,2)))","v":""},null,null,null,null,null,"","",0,"","",0,"","",0,0,null,null,null,"1-","1-"]
[null,"",null,{"$f":"IF(C891=\"\",\"\",(VLOOKUP(C891,code2!$A$4:$B$30,2)))","v":""},null,null,null,null,null,"","",0,"","",0,"","",0,0,null,null,null,"1-","1-"]
[null,"",null,{"$f":"IF(C892=\"\",\"\",(VLOOKUP(C892,code2!$A$4:$B$30,2)))","v":""},null,null,null,null,null,"","",0,"","",0,"","",0,0,null,null,null,"1-","1-"]
[null,"",null,{"$f":"IF(C893=\"\",\"\",(VLOOKUP(C893,code2!$A$4:$B$30,2)))","v":""},null,null,null,null,null,"","",0,"","",0,"","",0,0,null,null,null,"1-","1-"]
[null,"",null,{"$f":"IF(C894=\"\",\"\",(VLOOKUP(C894,code2!$A$4:$B$30,2)))","v":""},null,null,null,null,null,"","",0,"","",0,"","",0,0,null,null,null,"1-","1-"]
[null,"",null,{"$f":"IF(C895=\"\",\"\",(VLOOKUP(C895,code2!$A$4:$B$30,2)))","v":""},null,null,null,null,null,"","",0,"","",0,"","",0,0,null,null,null,"1-","1-"]
[null,"",null,{"$f":"IF(C896=\"\",\"\",(VLOOKUP(C896,code2!$A$4:$B$30,2)))","v":""},null,null,null,null,null,"","",0,"","",0,"","",0,0,null,null,null,"1-","1-"]
[null,"",null,{"$f":"IF(C897=\"\",\"\",(VLOOKUP(C897,code2!$A$4:$B$30,2)))","v":""},null,null,null,null,null,"","",0,"","",0,"","",0,0,null,null,null,"1-","1-"]
[null,"",null,{"$f":"IF(C898=\"\",\"\",(VLOOKUP(C898,code2!$A$4:$B$30,2)))","v":""},null,null,null,null,null,"","",0,"","",0,"","",0,0,null,null,null,"1-","1-"]
[null,"",null,{"$f":"IF(C899=\"\",\"\",(VLOOKUP(C899,code2!$A$4:$B$30,2)))","v":""},null,null,null,null,null,"","",0,"","",0,"","",0,0,null,null,null,"1-","1-"]
[null,"",null,{"$f":"IF(C900=\"\",\"\",(VLOOKUP(C900,code2!$A$4:$B$30,2)))","v":""},null,null,null,null,null,"","",0,"","",0,"","",0,0,null,null,null,"1-","1-"]
[null,{"$f":"IF(A901=\"\",\"\",A901)","v":""},null,{"$f":"IF(C901=\"\",\"\",(VLOOKUP(C901,code2!$A$4:$B$30,2)))","v":""},null,null,null,null,null,"","",0,"","",0,"","",0,0,null,null,null,"1-","1-"]
[null,"",null,{"$f":"IF(C902=\"\",\"\",(VLOOKUP(C902,code2!$A$4:$B$30,2)))","v":""},null,null,null,null,null,"","",0,"","",0,"","",{"$f":"IF(P902&Q902=\"\",R901,R901+P902-Q902)","v":0},0,null,null,null,"1-","1-"]
[null,"",null,{"$f":"IF(C903=\"\",\"\",(VLOOKUP(C903,code2!$A$4:$B$30,2)))","v":""},null,null,null,null,null,{"$f":"IF(I903=\"現金\",G903,\"\")","v":""},{"$f":"IF(I903=\"現金\",H903,\"\")","v":""},{"$f":"IF(J903&K903=\"\",L902,L902+J903-K903)","v":0},{"$f":"IF(I903=\"通帳\",G903,\"\")","v":""},{"$f":"IF(I903=\"通帳\",H903,\"\")","v":""},{"$f":"IF(M903&N903=\"\",O902,O902+M903-N903)","v":0},{"$f":"IF(I903=\"郵便振替\",G903,\"\")","v":""},{"$f":"IF(I903=\"郵便振替\",H903,\"\")","v":""},0,0,null,null,null,"1-","1-"]
[null,"",null,{"$f":"IF(C904=\"\",\"\",(VLOOKUP(C904,code2!$A$4:$B$30,2)))","v":""},null,null,null,null,null,"","",0,"","",0,"","",0,{"$f":"L904+O904+R904","v":0},null,null,null,"1-","1-"]
[null,"",null,{"$f":"IF(C905=\"\",\"\",(VLOOKUP(C905,code2!$A$4:$B$30,2)))","v":""},null,null,null,null,null,"","",0,"","",0,"","",0,0,null,null,null,"1-","1-"]
[null,"",null,{"$f":"IF(C906=\"\",\"\",(VLOOKUP(C906,code2!$A$4:$B$30,2)))","v":""},null,null,null,null,null,"","",0,"","",0,"","",0,0,null,null,null,"1-","1-"]
[null,"",null,{"$f":"IF(C907=\"\",\"\",(VLOOKUP(C907,code2!$A$4:$B$30,2)))","v":""},null,null,null,null,null,"","",0,"","",0,"","",0,0,null,null,null,"1-","1-"]
[null,"",null,{"$f":"IF(C908=\"\",\"\",(VLOOKUP(C908,code2!$A$4:$B$30,2)))","v":""},null,null,null,null,null,"","",0,"","",0,"","",0,0,null,null,null,"1-","1-"]
[null,"",null,{"$f":"IF(C909=\"\",\"\",(VLOOKUP(C909,code2!$A$4:$B$30,2)))","v":""},null,null,null,null,null,"","",0,"","",0,"","",0,0,null,null,null,"1-","1-"]
[null,"",null,{"$f":"IF(C910=\"\",\"\",(VLOOKUP(C910,code2!$A$4:$B$30,2)))","v":""},null,null,null,null,null,"","",0,"","",0,"","",0,0,null,null,null,"1-","1-"]
[null,"",null,{"$f":"IF(C911=\"\",\"\",(VLOOKUP(C911,code2!$A$4:$B$30,2)))","v":""},null,null,null,null,null,"","",0,"","",0,"","",0,0,null,null,null,"1-","1-"]
[null,"",null,{"$f":"IF(C912=\"\",\"\",(VLOOKUP(C912,code2!$A$4:$B$30,2)))","v":""},null,null,null,null,null,"","",0,"","",0,"","",0,0,null,null,null,"1-","1-"]
[null,"",null,{"$f":"IF(C913=\"\",\"\",(VLOOKUP(C913,code2!$A$4:$B$30,2)))","v":""},null,null,null,null,null,"","",0,"","",0,"","",0,0,null,null,null,"1-","1-"]
[null,"",null,{"$f":"IF(C914=\"\",\"\",(VLOOKUP(C914,code2!$A$4:$B$30,2)))","v":""},null,null,null,null,null,"","",0,"","",0,"","",0,0,null,null,null,"1-","1-"]
[null,"",null,{"$f":"IF(C915=\"\",\"\",(VLOOKUP(C915,code2!$A$4:$B$30,2)))","v":""},null,null,null,null,null,"","",0,"","",0,"","",0,0,null,null,null,"1-","1-"]
[null,"",null,{"$f":"IF(C916=\"\",\"\",(VLOOKUP(C916,code2!$A$4:$B$30,2)))","v":""},null,null,null,null,null,"","",0,"","",0,"","",0,0,null,null,null,"1-","1-"]
[null,"",null,{"$f":"IF(C917=\"\",\"\",(VLOOKUP(C917,code2!$A$4:$B$30,2)))","v":""},null,null,null,null,null,"","",0,"","",0,"","",0,0,null,null,null,"1-","1-"]
[null,"",null,{"$f":"IF(C918=\"\",\"\",(VLOOKUP(C918,code2!$A$4:$B$30,2)))","v":""},null,null,null,null,null,"","",0,"","",0,"","",0,0,null,null,null,"1-","1-"]
[null,"",null,{"$f":"IF(C919=\"\",\"\",(VLOOKUP(C919,code2!$A$4:$B$30,2)))","v":""},null,null,null,null,null,"","",0,"","",0,"","",0,0,null,null,null,"1-","1-"]
[null,"",null,{"$f":"IF(C920=\"\",\"\",(VLOOKUP(C920,code2!$A$4:$B$30,2)))","v":""},null,null,null,null,null,"","",0,"","",0,"","",0,0,null,null,null,"1-","1-"]
[null,"",null,{"$f":"IF(C921=\"\",\"\",(VLOOKUP(C921,code2!$A$4:$B$30,2)))","v":""},null,null,null,null,null,"","",0,"","",0,"","",0,0,null,null,null,"1-","1-"]
[null,"",null,{"$f":"IF(C922=\"\",\"\",(VLOOKUP(C922,code2!$A$4:$B$30,2)))","v":""},null,null,null,null,null,"","",0,"","",0,"","",0,0,null,null,null,"1-","1-"]
[null,"",null,{"$f":"IF(C923=\"\",\"\",(VLOOKUP(C923,code2!$A$4:$B$30,2)))","v":""},null,null,null,null,null,"","",0,"","",0,"","",0,0,null,null,null,"1-","1-"]
[null,"",null,{"$f":"IF(C924=\"\",\"\",(VLOOKUP(C924,code2!$A$4:$B$30,2)))","v":""},null,null,null,null,null,"","",0,"","",0,"","",0,0,null,null,null,"1-","1-"]
[null,"",null,{"$f":"IF(C925=\"\",\"\",(VLOOKUP(C925,code2!$A$4:$B$30,2)))","v":""},null,null,null,null,null,"","",0,"","",0,"","",0,0,null,null,null,"1-","1-"]
[null,"",null,{"$f":"IF(C926=\"\",\"\",(VLOOKUP(C926,code2!$A$4:$B$30,2)))","v":""},null,null,null,null,null,"","",0,"","",0,"","",0,0,null,null,null,"1-","1-"]
[null,"",null,{"$f":"IF(C927=\"\",\"\",(VLOOKUP(C927,code2!$A$4:$B$30,2)))","v":""},null,null,null,null,null,"","",0,"","",0,"","",0,0,null,null,null,"1-","1-"]
[null,"",null,{"$f":"IF(C928=\"\",\"\",(VLOOKUP(C928,code2!$A$4:$B$30,2)))","v":""},null,null,null,null,null,"","",0,"","",0,"","",0,0,null,null,null,"1-","1-"]
[null,"",null,{"$f":"IF(C929=\"\",\"\",(VLOOKUP(C929,code2!$A$4:$B$30,2)))","v":""},null,null,null,null,null,"","",0,"","",0,"","",0,0,null,null,null,"1-","1-"]
[null,"",null,{"$f":"IF(C930=\"\",\"\",(VLOOKUP(C930,code2!$A$4:$B$30,2)))","v":""},null,null,null,null,null,"","",0,"","",0,"","",0,0,null,null,null,"1-","1-"]
[null,"",null,{"$f":"IF(C931=\"\",\"\",(VLOOKUP(C931,code2!$A$4:$B$30,2)))","v":""},null,null,null,null,null,"","",0,"","",0,"","",0,0,null,null,null,"1-","1-"]
[null,"",null,{"$f":"IF(C932=\"\",\"\",(VLOOKUP(C932,code2!$A$4:$B$30,2)))","v":""},null,null,null,null,null,"","",0,"","",0,"","",0,0,null,null,null,"1-","1-"]
[null,"",null,{"$f":"IF(C933=\"\",\"\",(VLOOKUP(C933,code2!$A$4:$B$30,2)))","v":""},null,null,null,null,null,"","",0,"","",0,"","",0,0,null,null,null,"1-","1-"]
[null,"",null,{"$f":"IF(C934=\"\",\"\",(VLOOKUP(C934,code2!$A$4:$B$30,2)))","v":""},null,null,null,null,null,"","",0,"","",0,"","",0,0,null,null,null,"1-","1-"]
[null,"",null,{"$f":"IF(C935=\"\",\"\",(VLOOKUP(C935,code2!$A$4:$B$30,2)))","v":""},null,null,null,null,null,"","",0,"","",0,"","",0,0,null,null,null,"1-","1-"]
[null,"",null,{"$f":"IF(C936=\"\",\"\",(VLOOKUP(C936,code2!$A$4:$B$30,2)))","v":""},null,null,null,null,null,"","",0,"","",0,"","",0,0,null,null,null,"1-","1-"]
[null,"",null,{"$f":"IF(C937=\"\",\"\",(VLOOKUP(C937,code2!$A$4:$B$30,2)))","v":""},null,null,null,null,null,"","",0,"","",0,"","",0,0,null,null,null,"1-","1-"]
[null,"",null,{"$f":"IF(C938=\"\",\"\",(VLOOKUP(C938,code2!$A$4:$B$30,2)))","v":""},null,null,null,null,null,"","",0,"","",0,"","",0,0,null,null,null,"1-","1-"]
[null,"",null,{"$f":"IF(C939=\"\",\"\",(VLOOKUP(C939,code2!$A$4:$B$30,2)))","v":""},null,null,null,null,null,"","",0,"","",0,"","",0,0,null,null,null,"1-","1-"]
[null,"",null,{"$f":"IF(C940=\"\",\"\",(VLOOKUP(C940,code2!$A$4:$B$30,2)))","v":""},null,null,null,null,null,"","",0,"","",0,"","",0,0,null,null,null,"1-","1-"]
[null,"",null,{"$f":"IF(C941=\"\",\"\",(VLOOKUP(C941,code2!$A$4:$B$30,2)))","v":""},null,null,null,null,null,"","",0,"","",0,"","",0,0,null,null,null,"1-","1-"]
[null,"",null,{"$f":"IF(C942=\"\",\"\",(VLOOKUP(C942,code2!$A$4:$B$30,2)))","v":""},null,null,null,null,null,"","",0,"","",0,"","",0,0,null,null,null,"1-","1-"]
[null,"",null,{"$f":"IF(C943=\"\",\"\",(VLOOKUP(C943,code2!$A$4:$B$30,2)))","v":""},null,null,null,null,null,"","",0,"","",0,"","",0,0,null,null,null,"1-","1-"]
[null,"",null,{"$f":"IF(C944=\"\",\"\",(VLOOKUP(C944,code2!$A$4:$B$30,2)))","v":""},null,null,null,null,null,"","",0,"","",0,"","",0,0,null,null,null,"1-","1-"]
[null,"",null,{"$f":"IF(C945=\"\",\"\",(VLOOKUP(C945,code2!$A$4:$B$30,2)))","v":""},null,null,null,null,null,"","",0,"","",0,"","",0,0,null,null,null,"1-","1-"]
[null,"",null,{"$f":"IF(C946=\"\",\"\",(VLOOKUP(C946,code2!$A$4:$B$30,2)))","v":""},null,null,null,null,null,"","",0,"","",0,"","",0,0,null,null,null,"1-","1-"]
[null,"",null,{"$f":"IF(C947=\"\",\"\",(VLOOKUP(C947,code2!$A$4:$B$30,2)))","v":""},null,null,null,null,null,"","",0,"","",0,"","",0,0,null,null,null,{"$f":"MONTH(A947)&\"-\"&D947","v":"1-"},{"$f":"MONTH(A947)&\"-\"&D947&E947","v":"1-"}]
[null,"",null,{"$f":"IF(C948=\"\",\"\",(VLOOKUP(C948,code2!$A$4:$B$30,2)))","v":""},null,null,null,null,null,"","",0,"","",0,"","",0,0,null,null,null,"1-","1-"]
[null,"",null,{"$f":"IF(C949=\"\",\"\",(VLOOKUP(C949,code2!$A$4:$B$30,2)))","v":""},null,null,null,null,null,"","",0,"","",0,"","",0,0,null,null,null,"1-","1-"]
[null,"",null,{"$f":"IF(C950=\"\",\"\",(VLOOKUP(C950,code2!$A$4:$B$30,2)))","v":""},null,null,null,null,null,"","",0,"","",0,"","",0,0,null,null,null,"1-","1-"]
[null,"",null,{"$f":"IF(C951=\"\",\"\",(VLOOKUP(C951,code2!$A$4:$B$30,2)))","v":""},null,null,null,null,null,"","",0,"","",0,"","",0,0,null,null,null,"1-","1-"]
[null,"",null,{"$f":"IF(C952=\"\",\"\",(VLOOKUP(C952,code2!$A$4:$B$30,2)))","v":""},null,null,null,null,null,"","",0,"","",0,"","",0,0,null,null,null,"1-","1-"]
[null,"",null,{"$f":"IF(C953=\"\",\"\",(VLOOKUP(C953,code2!$A$4:$B$30,2)))","v":""},null,null,null,null,null,"","",0,"","",0,"","",0,0,null,null,null,"1-","1-"]
[null,"",null,{"$f":"IF(C954=\"\",\"\",(VLOOKUP(C954,code2!$A$4:$B$30,2)))","v":""},null,null,null,null,null,"","",0,"","",0,"","",0,0,null,null,null,"1-","1-"]
[null,"",null,{"$f":"IF(C955=\"\",\"\",(VLOOKUP(C955,code2!$A$4:$B$30,2)))","v":""},null,null,null,null,null,"","",0,"","",0,"","",0,0,null,null,null,"1-","1-"]
[null,"",null,{"$f":"IF(C956=\"\",\"\",(VLOOKUP(C956,code2!$A$4:$B$30,2)))","v":""},null,null,null,null,null,"","",0,"","",0,"","",0,0,null,null,null,"1-","1-"]
[null,"",null,{"$f":"IF(C957=\"\",\"\",(VLOOKUP(C957,code2!$A$4:$B$30,2)))","v":""},null,null,null,null,null,"","",0,"","",0,"","",0,0,null,null,null,"1-","1-"]
[null,"",null,{"$f":"IF(C958=\"\",\"\",(VLOOKUP(C958,code2!$A$4:$B$30,2)))","v":""},null,null,null,null,null,"","",0,"","",0,"","",0,0,null,null,null,"1-","1-"]
[null,"",null,{"$f":"IF(C959=\"\",\"\",(VLOOKUP(C959,code2!$A$4:$B$30,2)))","v":""},null,null,null,null,null,"","",0,"","",0,"","",0,0,null,null,null,"1-","1-"]
[null,"",null,{"$f":"IF(C960=\"\",\"\",(VLOOKUP(C960,code2!$A$4:$B$30,2)))","v":""},null,null,null,null,null,"","",0,"","",0,"","",0,0,null,null,null,"1-","1-"]
[null,"",null,{"$f":"IF(C961=\"\",\"\",(VLOOKUP(C961,code2!$A$4:$B$30,2)))","v":""},null,null,null,null,null,"","",0,"","",0,"","",0,0,null,null,null,"1-","1-"]
[null,"",null,{"$f":"IF(C962=\"\",\"\",(VLOOKUP(C962,code2!$A$4:$B$30,2)))","v":""},null,null,null,null,null,"","",0,"","",0,"","",0,0,null,null,null,"1-","1-"]
[null,"",null,{"$f":"IF(C963=\"\",\"\",(VLOOKUP(C963,code2!$A$4:$B$30,2)))","v":""},null,null,null,null,null,"","",0,"","",0,"","",0,0,null,null,null,"1-","1-"]
[null,"",null,{"$f":"IF(C964=\"\",\"\",(VLOOKUP(C964,code2!$A$4:$B$30,2)))","v":""},null,null,null,null,null,"","",0,"","",0,"","",0,0,null,null,null,"1-","1-"]
[null,{"$f":"IF(A965=\"\",\"\",A965)","v":""},null,{"$f":"IF(C965=\"\",\"\",(VLOOKUP(C965,code2!$A$4:$B$30,2)))","v":""},null,null,null,null,null,"","",0,"","",0,"","",0,0,null,null,null,"1-","1-"]
[null,"",null,{"$f":"IF(C966=\"\",\"\",(VLOOKUP(C966,code2!$A$4:$B$30,2)))","v":""},null,null,null,null,null,"","",0,"","",0,"","",{"$f":"IF(P966&Q966=\"\",R965,R965+P966-Q966)","v":0},0,null,null,null,"1-","1-"]
[null,"",null,{"$f":"IF(C967=\"\",\"\",(VLOOKUP(C967,code2!$A$4:$B$30,2)))","v":""},null,null,null,null,null,{"$f":"IF(I967=\"現金\",G967,\"\")","v":""},{"$f":"IF(I967=\"現金\",H967,\"\")","v":""},{"$f":"IF(J967&K967=\"\",L966,L966+J967-K967)","v":0},{"$f":"IF(I967=\"通帳\",G967,\"\")","v":""},{"$f":"IF(I967=\"通帳\",H967,\"\")","v":""},{"$f":"IF(M967&N967=\"\",O966,O966+M967-N967)","v":0},{"$f":"IF(I967=\"郵便振替\",G967,\"\")","v":""},{"$f":"IF(I967=\"郵便振替\",H967,\"\")","v":""},0,0,null,null,null,"1-","1-"]
[null,"",null,{"$f":"IF(C968=\"\",\"\",(VLOOKUP(C968,code2!$A$4:$B$30,2)))","v":""},null,null,null,null,null,"","",0,"","",0,"","",0,{"$f":"L968+O968+R968","v":0},null,null,null,"1-","1-"]
[null,"",null,{"$f":"IF(C969=\"\",\"\",(VLOOKUP(C969,code2!$A$4:$B$30,2)))","v":""},null,null,null,null,null,"","",0,"","",0,"","",0,0,null,null,null,"1-","1-"]
[null,"",null,{"$f":"IF(C970=\"\",\"\",(VLOOKUP(C970,code2!$A$4:$B$30,2)))","v":""},null,null,null,null,null,"","",0,"","",0,"","",0,0,null,null,null,"1-","1-"]
[null,"",null,{"$f":"IF(C971=\"\",\"\",(VLOOKUP(C971,code2!$A$4:$B$30,2)))","v":""},null,null,null,null,null,"","",0,"","",0,"","",0,0,null,null,null,"1-","1-"]
[null,"",null,{"$f":"IF(C972=\"\",\"\",(VLOOKUP(C972,code2!$A$4:$B$30,2)))","v":""},null,null,null,null,null,"","",0,"","",0,"","",0,0,null,null,null,"1-","1-"]
[null,42629,null,{"$f":"IF(C973=\"\",\"\",(VLOOKUP(C973,code2!$A$4:$B$30,2)))","v":""},null,null,null,null,null,"","",0,"","",0,"","",0,0,null,null,null,"1-","1-"]
[null,"",null,{"$f":"IF(C974=\"\",\"\",(VLOOKUP(C974,code2!$A$4:$B$30,2)))","v":""},null,null,null,null,null,"","",0,"","",0,"","",0,0,null,null,null,"1-","1-"]
[null,"",null,{"$f":"IF(C975=\"\",\"\",(VLOOKUP(C975,code2!$A$4:$B$30,2)))","v":""},null,null,null,null,null,"","",0,"","",0,"","",0,0,null,null,null,"1-","1-"]
[null,"",null,{"$f":"IF(C976=\"\",\"\",(VLOOKUP(C976,code2!$A$4:$B$30,2)))","v":""},null,null,null,null,null,"","",0,"","",0,"","",0,0,null,null,null,"1-","1-"]
[null,"",null,{"$f":"IF(C977=\"\",\"\",(VLOOKUP(C977,code2!$A$4:$B$30,2)))","v":""},null,null,null,null,null,"","",0,"","",0,"","",0,0,null,null,null,"1-","1-"]
[null,"",null,{"$f":"IF(C978=\"\",\"\",(VLOOKUP(C978,code2!$A$4:$B$30,2)))","v":""},null,null,null,null,null,"","",0,"","",0,"","",0,0,null,null,null,"1-","1-"]
[null,"",null,{"$f":"IF(C979=\"\",\"\",(VLOOKUP(C979,code2!$A$4:$B$30,2)))","v":""},null,null,null,null,null,"","",0,"","",0,"","",0,0,null,null,null,"1-","1-"]
[null,"",null,{"$f":"IF(C980=\"\",\"\",(VLOOKUP(C980,code2!$A$4:$B$30,2)))","v":""},null,null,null,null,null,"","",0,"","",0,"","",0,0,null,null,null,"1-","1-"]
[null,"",null,{"$f":"IF(C981=\"\",\"\",(VLOOKUP(C981,code2!$A$4:$B$30,2)))","v":""},null,null,null,null,null,"","",0,"","",0,"","",0,0,null,null,null,"1-","1-"]
[null,"",null,{"$f":"IF(C982=\"\",\"\",(VLOOKUP(C982,code2!$A$4:$B$30,2)))","v":""},null,null,null,null,null,"","",0,"","",0,"","",0,0,null,null,null,"1-","1-"]
[null,"",null,{"$f":"IF(C983=\"\",\"\",(VLOOKUP(C983,code2!$A$4:$B$30,2)))","v":""},null,null,null,null,null,"","",0,"","",0,"","",0,0,null,null,null,"1-","1-"]
[null,"",null,{"$f":"IF(C984=\"\",\"\",(VLOOKUP(C984,code2!$A$4:$B$30,2)))","v":""},null,null,null,null,null,"","",0,"","",0,"","",0,0,null,null,null,"1-","1-"]
[null,"",null,{"$f":"IF(C985=\"\",\"\",(VLOOKUP(C985,code2!$A$4:$B$30,2)))","v":""},null,null,null,null,null,"","",0,"","",0,"","",0,0,null,null,null,"1-","1-"]
[null,"",null,{"$f":"IF(C986=\"\",\"\",(VLOOKUP(C986,code2!$A$4:$B$30,2)))","v":""},null,null,null,null,null,"","",0,"","",0,"","",0,0,null,null,null,"1-","1-"]
[null,"",null,{"$f":"IF(C987=\"\",\"\",(VLOOKUP(C987,code2!$A$4:$B$30,2)))","v":""},null,null,null,null,null,"","",0,"","",0,"","",0,0,null,null,null,"1-","1-"]
[null,"",null,{"$f":"IF(C988=\"\",\"\",(VLOOKUP(C988,code2!$A$4:$B$30,2)))","v":""},null,null,null,null,null,"","",0,"","",0,"","",0,0,null,null,null,"1-","1-"]
[null,"",null,{"$f":"IF(C989=\"\",\"\",(VLOOKUP(C989,code2!$A$4:$B$30,2)))","v":""},null,null,null,null,null,"","",0,"","",0,"","",0,0,null,null,null,"1-","1-"]
[null,"",null,{"$f":"IF(C990=\"\",\"\",(VLOOKUP(C990,code2!$A$4:$B$30,2)))","v":""},null,null,null,null,null,"","",0,"","",0,"","",0,0,null,null,null,"1-","1-"]
[null,"",null,{"$f":"IF(C991=\"\",\"\",(VLOOKUP(C991,code2!$A$4:$B$30,2)))","v":""},null,null,null,null,null,"","",0,"","",0,"","",0,0,null,null,null,"1-","1-"]
[null,"",null,{"$f":"IF(C992=\"\",\"\",(VLOOKUP(C992,code2!$A$4:$B$30,2)))","v":""},null,null,null,null,null,"","",0,"","",0,"","",0,0,null,null,null,"1-","1-"]
[null,"",null,{"$f":"IF(C993=\"\",\"\",(VLOOKUP(C993,code2!$A$4:$B$30,2)))","v":""},null,null,null,null,null,"","",0,"","",0,"","",0,0,null,null,null,"1-","1-"]
[null,"",null,{"$f":"IF(C994=\"\",\"\",(VLOOKUP(C994,code2!$A$4:$B$30,2)))","v":""},null,null,null,null,null,"","",0,"","",0,"","",0,0,null,null,null,"1-","1-"]
[null,{"$f":"IF(A995=\"\",\"\",A995)","v":""},null,{"$f":"IF(C995=\"\",\"\",(VLOOKUP(C995,code2!$A$4:$B$30,2)))","v":""},null,null,null,null,null,"","",0,"","",0,"","",0,0,null,null,null,"1-","1-"]
[null,"",null,{"$f":"IF(C996=\"\",\"\",(VLOOKUP(C996,code2!$A$4:$B$30,2)))","v":""},null,null,null,null,null,"","",0,"","",0,"","",0,0,null,null,null,"1-","1-"]
[null,"",null,{"$f":"IF(C997=\"\",\"\",(VLOOKUP(C997,code2!$A$4:$B$30,2)))","v":""},null,null,null,null,null,"","",0,"","",0,"","",0,0,null,null,null,"1-","1-"]
[null,"",null,{"$f":"IF(C998=\"\",\"\",(VLOOKUP(C998,code2!$A$4:$B$30,2)))","v":""},null,null,null,null,null,"","",0,"","",0,"","",0,0,null,null,null,"1-","1-"]
[null,"",null,{"$f":"IF(C999=\"\",\"\",(VLOOKUP(C999,code2!$A$4:$B$30,2)))","v":""},null,null,null,null,null,"","",0,"","",0,"","",0,0,null,null,null,"1-","1-"]
[null,"",null,{"$f":"IF(C1000=\"\",\"\",(VLOOKUP(C1000,code2!$A$4:$B$30,2)))","v":""},null,null,null,null,null,"","",0,"","",0,"","",0,0,null,null,null,"1-","1-"]
[null,"",null,{"$f":"IF(C1001=\"\",\"\",(VLOOKUP(C1001,code2!$A$4:$B$30,2)))","v":""},null,null,null,null,null,"","",0,"","",0,"","",0,0,null,null,null,"1-","1-"]
[null,"",null,{"$f":"IF(C1002=\"\",\"\",(VLOOKUP(C1002,code2!$A$4:$B$30,2)))","v":""},null,null,null,null,null,"","",0,"","",0,"","",0,0,null,null,null,"1-","1-"]
[null,"",null,{"$f":"IF(C1003=\"\",\"\",(VLOOKUP(C1003,code2!$A$4:$B$30,2)))","v":""},null,null,null,null,null,"","",0,"","",0,"","",0,0,null,null,null,"1-","1-"]
[null,"",null,{"$f":"IF(C1004=\"\",\"\",(VLOOKUP(C1004,code2!$A$4:$B$30,2)))","v":""},null,null,null,null,null,"","",0,"","",0,"","",0,0,null,null,null,"1-","1-"]
[null,"",null,{"$f":"IF(C1005=\"\",\"\",(VLOOKUP(C1005,code2!$A$4:$B$30,2)))","v":""},null,null,null,null,null,"","",0,"","",0,"","",0,0,null,null,null,"1-","1-"]
[null,"",null,{"$f":"IF(C1006=\"\",\"\",(VLOOKUP(C1006,code2!$A$4:$B$30,2)))","v":""},null,null,null,null,null,"","",0,"","",0,"","",0,0,null,null,null,"1-","1-"]
[null,{"$f":"IF(A1007=\"\",\"\",A1007)","v":""},null,{"$f":"IF(C1007=\"\",\"\",(VLOOKUP(C1007,code2!$A$4:$B$30,2)))","v":""},null,null,null,null,null,"","",0,"","",0,"","",0,0,null,null,null,"1-","1-"]
[null,"",null,{"$f":"IF(C1008=\"\",\"\",(VLOOKUP(C1008,code2!$A$4:$B$30,2)))","v":""},null,null,null,null,null,"","",0,"","",0,"","",0,0,null,null,null,"1-","1-"]
[null,"",null,{"$f":"IF(C1009=\"\",\"\",(VLOOKUP(C1009,code2!$A$4:$B$30,2)))","v":""},null,null,null,null,null,"","",0,"","",0,"","",0,0,null,null,null,"1-","1-"]
[null,"",null,{"$f":"IF(C1010=\"\",\"\",(VLOOKUP(C1010,code2!$A$4:$B$30,2)))","v":""},null,null,null,null,null,"","",0,"","",0,"","",0,0,null,null,null,"1-","1-"]
[null,"",null,{"$f":"IF(C1011=\"\",\"\",(VLOOKUP(C1011,code2!$A$4:$B$30,2)))","v":""},null,null,null,null,null,"","",0,"","",0,"","",0,0,null,null,null,{"$f":"MONTH(A1011)&\"-\"&D1011","v":"1-"},{"$f":"MONTH(A1011)&\"-\"&D1011&E1011","v":"1-"}]
[null,"",null,{"$f":"IF(C1012=\"\",\"\",(VLOOKUP(C1012,code2!$A$4:$B$30,2)))","v":""},null,null,null,null,null,"","",0,"","",0,"","",0,0,null,null,null,"1-","1-"]
[null,"",null,{"$f":"IF(C1013=\"\",\"\",(VLOOKUP(C1013,code2!$A$4:$B$30,2)))","v":""},null,null,null,null,null,"","",0,"","",0,"","",0,0,null,null,null,"1-","1-"]
[null,"",null,{"$f":"IF(C1014=\"\",\"\",(VLOOKUP(C1014,code2!$A$4:$B$30,2)))","v":""},null,null,null,null,null,"","",0,"","",0,"","",0,0,null,null,null,"1-","1-"]
[null,"",null,{"$f":"IF(C1015=\"\",\"\",(VLOOKUP(C1015,code2!$A$4:$B$30,2)))","v":""},null,null,null,null,null,"","",0,"","",0,"","",0,0,null,null,null,"1-","1-"]
[null,"",null,{"$f":"IF(C1016=\"\",\"\",(VLOOKUP(C1016,code2!$A$4:$B$30,2)))","v":""},null,null,null,null,null,"","",0,"","",0,"","",0,0,null,null,null,"1-","1-"]
[null,"",null,{"$f":"IF(C1017=\"\",\"\",(VLOOKUP(C1017,code2!$A$4:$B$30,2)))","v":""},null,null,null,null,null,"","",0,"","",0,"","",0,0,null,null,null,"1-","1-"]
[null,"",null,{"$f":"IF(C1018=\"\",\"\",(VLOOKUP(C1018,code2!$A$4:$B$30,2)))","v":""},null,null,null,null,null,"","",0,"","",0,"","",0,0,null,null,null,"1-","1-"]
[null,"",null,{"$f":"IF(C1019=\"\",\"\",(VLOOKUP(C1019,code2!$A$4:$B$30,2)))","v":""},null,null,null,null,null,"","",0,"","",0,"","",0,0,null,null,null,"1-","1-"]
[null,"",null,{"$f":"IF(C1020=\"\",\"\",(VLOOKUP(C1020,code2!$A$4:$B$30,2)))","v":""},null,null,null,null,null,"","",0,"","",0,"","",0,0,null,null,null,"1-","1-"]
[null,"",null,{"$f":"IF(C1021=\"\",\"\",(VLOOKUP(C1021,code2!$A$4:$B$30,2)))","v":""},null,null,null,null,null,"","",0,"","",0,"","",0,0,null,null,null,"1-","1-"]
[null,"",null,{"$f":"IF(C1022=\"\",\"\",(VLOOKUP(C1022,code2!$A$4:$B$30,2)))","v":""},null,null,null,null,null,"","",0,"","",0,"","",0,0,null,null,null,"1-","1-"]
[null,"",null,{"$f":"IF(C1023=\"\",\"\",(VLOOKUP(C1023,code2!$A$4:$B$30,2)))","v":""},null,null,null,null,null,"","",0,"","",0,"","",0,0,null,null,null,"1-","1-"]
[null,"",null,{"$f":"IF(C1024=\"\",\"\",(VLOOKUP(C1024,code2!$A$4:$B$30,2)))","v":""},null,null,null,null,null,"","",0,"","",0,"","",0,0,null,null,null,"1-","1-"]
[null,"",null,{"$f":"IF(C1025=\"\",\"\",(VLOOKUP(C1025,code2!$A$4:$B$30,2)))","v":""},null,null,null,null,null,"","",0,"","",0,"","",0,0,null,null,null,"1-","1-"]
[null,"",null,{"$f":"IF(C1026=\"\",\"\",(VLOOKUP(C1026,code2!$A$4:$B$30,2)))","v":""},null,null,null,null,null,"","",0,"","",0,"","",0,0,null,null,null,"1-","1-"]
[null,"",null,{"$f":"IF(C1027=\"\",\"\",(VLOOKUP(C1027,code2!$A$4:$B$30,2)))","v":""},null,null,null,null,null,"","",0,"","",0,"","",0,0,null,null,null,"1-","1-"]
[null,"",null,{"$f":"IF(C1028=\"\",\"\",(VLOOKUP(C1028,code2!$A$4:$B$30,2)))","v":""},null,null,null,null,null,"","",0,"","",0,"","",0,0,null,null,null,"1-","1-"]
[null,{"$f":"IF(A1029=\"\",\"\",A1029)","v":""},null,{"$f":"IF(C1029=\"\",\"\",(VLOOKUP(C1029,code2!$A$4:$B$30,2)))","v":""},null,null,null,null,null,"","",0,"","",0,"","",0,0,null,null,null,"1-","1-"]
[null,"",null,{"$f":"IF(C1030=\"\",\"\",(VLOOKUP(C1030,code2!$A$4:$B$30,2)))","v":""},null,null,null,null,null,"","",0,"","",0,"","",{"$f":"IF(P1030&Q1030=\"\",R1029,R1029+P1030-Q1030)","v":0},0,null,null,null,"1-","1-"]
[null,"",null,{"$f":"IF(C1031=\"\",\"\",(VLOOKUP(C1031,code2!$A$4:$B$30,2)))","v":""},null,null,null,null,null,{"$f":"IF(I1031=\"現金\",G1031,\"\")","v":""},{"$f":"IF(I1031=\"現金\",H1031,\"\")","v":""},{"$f":"IF(J1031&K1031=\"\",L1030,L1030+J1031-K1031)","v":0},{"$f":"IF(I1031=\"通帳\",G1031,\"\")","v":""},{"$f":"IF(I1031=\"通帳\",H1031,\"\")","v":""},{"$f":"IF(M1031&N1031=\"\",O1030,O1030+M1031-N1031)","v":0},{"$f":"IF(I1031=\"郵便振替\",G1031,\"\")","v":""},{"$f":"IF(I1031=\"郵便振替\",H1031,\"\")","v":""},0,0,null,null,null,"1-","1-"]
[null,"",null,{"$f":"IF(C1032=\"\",\"\",(VLOOKUP(C1032,code2!$A$4:$B$30,2)))","v":""},null,null,null,null,null,"","",0,"","",0,"","",0,{"$f":"L1032+O1032+R1032","v":0},null,null,null,"1-","1-"]
[null,{"$f":"IF(A1033=\"\",\"\",A1033)","v":""},null,{"$f":"IF(C1033=\"\",\"\",(VLOOKUP(C1033,code2!$A$4:$B$30,2)))","v":""},null,null,null,null,null,"","",0,"","",0,"","",0,0,null,null,null,"1-","1-"]
[null,"",null,{"$f":"IF(C1034=\"\",\"\",(VLOOKUP(C1034,code2!$A$4:$B$30,2)))","v":""},null,null,null,null,null,"","",0,"","",0,"","",0,0,null,null,null,"1-","1-"]
[null,"",null,{"$f":"IF(C1035=\"\",\"\",(VLOOKUP(C1035,code2!$A$4:$B$30,2)))","v":""},null,null,null,null,null,"","",0,"","",0,"","",0,0,null,null,null,"1-","1-"]
[null,"",null,{"$f":"IF(C1036=\"\",\"\",(VLOOKUP(C1036,code2!$A$4:$B$30,2)))","v":""},null,null,null,null,null,"","",0,"","",0,"","",0,0,null,null,null,"1-","1-"]
[null,"",null,{"$f":"IF(C1037=\"\",\"\",(VLOOKUP(C1037,code2!$A$4:$B$30,2)))","v":""},null,null,null,null,null,"","",0,"","",0,"","",0,0,null,null,null,"1-","1-"]
[null,"",null,{"$f":"IF(C1038=\"\",\"\",(VLOOKUP(C1038,code2!$A$4:$B$30,2)))","v":""},null,null,null,null,null,"","",0,"","",0,"","",0,0,null,null,null,"1-","1-"]
[null,"",null,{"$f":"IF(C1039=\"\",\"\",(VLOOKUP(C1039,code2!$A$4:$B$30,2)))","v":""},null,null,null,null,null,"","",0,"","",0,"","",0,0,null,null,null,"1-","1-"]
[null,"",null,{"$f":"IF(C1040=\"\",\"\",(VLOOKUP(C1040,code2!$A$4:$B$30,2)))","v":""},null,null,null,null,null,"","",0,"","",0,"","",0,0,null,null,null,"1-","1-"]
[null,"",null,{"$f":"IF(C1041=\"\",\"\",(VLOOKUP(C1041,code2!$A$4:$B$30,2)))","v":""},null,null,null,null,null,"","",0,"","",0,"","",0,0,null,null,null,"1-","1-"]
[null,"",null,{"$f":"IF(C1042=\"\",\"\",(VLOOKUP(C1042,code2!$A$4:$B$30,2)))","v":""},null,null,null,null,null,"","",0,"","",0,"","",0,0,null,null,null,"1-","1-"]
[null,"",null,{"$f":"IF(C1043=\"\",\"\",(VLOOKUP(C1043,code2!$A$4:$B$30,2)))","v":""},null,null,null,null,null,"","",0,"","",0,"","",0,0,null,null,null,"1-","1-"]
[null,"",null,{"$f":"IF(C1044=\"\",\"\",(VLOOKUP(C1044,code2!$A$4:$B$30,2)))","v":""},null,null,null,null,null,"","",0,"","",0,"","",0,0,null,null,null,"1-","1-"]
[null,"",null,{"$f":"IF(C1045=\"\",\"\",(VLOOKUP(C1045,code2!$A$4:$B$30,2)))","v":""},null,null,null,null,null,"","",0,"","",0,"","",0,0,null,null,null,"1-","1-"]
[null,"",null,{"$f":"IF(C1046=\"\",\"\",(VLOOKUP(C1046,code2!$A$4:$B$30,2)))","v":""},null,null,null,null,null,"","",0,"","",0,"","",0,0,null,null,null,"1-","1-"]
[null,"",null,{"$f":"IF(C1047=\"\",\"\",(VLOOKUP(C1047,code2!$A$4:$B$30,2)))","v":""},null,null,null,null,null,"","",0,"","",0,"","",0,0,null,null,null,"1-","1-"]
[null,"",null,{"$f":"IF(C1048=\"\",\"\",(VLOOKUP(C1048,code2!$A$4:$B$30,2)))","v":""},null,null,null,null,null,"","",0,"","",0,"","",0,0,null,null,null,"1-","1-"]
[null,{"$f":"IF(A1049=\"\",\"\",A1049)","v":""},null,{"$f":"IF(C1049=\"\",\"\",(VLOOKUP(C1049,code2!$A$4:$B$30,2)))","v":""},null,null,null,null,null,"","",0,"","",0,"","",0,0,null,null,null,"1-","1-"]
[null,"",null,{"$f":"IF(C1050=\"\",\"\",(VLOOKUP(C1050,code2!$A$4:$B$30,2)))","v":""},null,null,null,null,null,"","",0,"","",0,"","",0,0,null,null,null,"1-","1-"]
[null,"",null,{"$f":"IF(C1051=\"\",\"\",(VLOOKUP(C1051,code2!$A$4:$B$30,2)))","v":""},null,null,null,null,null,"","",0,"","",0,"","",0,0,null,null,null,"1-","1-"]
[null,"",null,{"$f":"IF(C1052=\"\",\"\",(VLOOKUP(C1052,code2!$A$4:$B$30,2)))","v":""},null,null,null,null,null,"","",0,"","",0,"","",0,0,null,null,null,"1-","1-"]
[null,"",null,{"$f":"IF(C1053=\"\",\"\",(VLOOKUP(C1053,code2!$A$4:$B$30,2)))","v":""},null,null,null,null,null,"","",0,"","",0,"","",0,0,null,null,null,"1-","1-"]
[null,"",null,{"$f":"IF(C1054=\"\",\"\",(VLOOKUP(C1054,code2!$A$4:$B$30,2)))","v":""},null,null,null,null,null,"","",0,"","",0,"","",0,0,null,null,null,"1-","1-"]
[null,"",null,{"$f":"IF(C1055=\"\",\"\",(VLOOKUP(C1055,code2!$A$4:$B$30,2)))","v":""},null,null,null,null,null,"","",0,"","",0,"","",0,0,null,null,null,"1-","1-"]
[null,{"$f":"IF(A1056=\"\",\"\",A1056)","v":""},null,{"$f":"IF(C1056=\"\",\"\",(VLOOKUP(C1056,code2!$A$4:$B$30,2)))","v":""},null,null,null,null,null,"","",0,"","",0,"","",0,0,null,null,null,"1-","1-"]
[null,"",null,{"$f":"IF(C1057=\"\",\"\",(VLOOKUP(C1057,code2!$A$4:$B$30,2)))","v":""},null,null,null,null,null,"","",0,"","",0,"","",{"$f":"IF(P1057&Q1057=\"\",R1056,R1056+P1057-Q1057)","v":0},0,null,null,null,"1-","1-"]
[null,{"$f":"IF(A1061=\"\",\"\",A1061)","v":""},null,{"$f":"IF(C1058=\"\",\"\",(VLOOKUP(C1058,code2!$A$4:$B$30,2)))","v":""},null,null,null,null,null,"","",0,"","",0,"","",0,0,null,null,null,{"$f":"MONTH(A1061)&\"-\"&D1058","v":"1-"},{"$f":"MONTH(A1061)&\"-\"&D1058&E1058","v":"1-"}]
[null,"",null,{"$f":"IF(C1059=\"\",\"\",(VLOOKUP(C1059,code2!$A$4:$B$30,2)))","v":""},null,null,null,null,null,"","",0,"","",0,"","",0,0,null,null,null,"1-","1-"]
[null,"",null,{"$f":"IF(C1060=\"\",\"\",(VLOOKUP(C1060,code2!$A$4:$B$30,2)))","v":""},null,null,null,null,null,"","",0,"","",0,"","",0,0,null,null,null,"1-","1-"]
[null,"",null,{"$f":"IF(C1061=\"\",\"\",(VLOOKUP(C1061,code2!$A$4:$B$30,2)))","v":""},null,null,null,null,null,"","",0,"","",0,"","",0,0,null,null,null,{"$f":"MONTH(#REF!)&\"-\"&D1061","v":{"$error":"#REF!"}},{"$f":"MONTH(#REF!)&\"-\"&D1061&E1061","v":{"$error":"#REF!"}}]
[null,"",null,{"$f":"IF(C1062=\"\",\"\",(VLOOKUP(C1062,code2!$A$4:$B$30,2)))","v":""},null,null,null,null,null,"","",0,"","",0,"","",0,0,null,null,null,"1-","1-"]
[null,"",null,{"$f":"IF(C1063=\"\",\"\",(VLOOKUP(C1063,code2!$A$4:$B$30,2)))","v":""},null,null,null,null,null,"","",0,"","",0,"","",0,0,null,null,null,"1-","1-"]
[null,"",null,{"$f":"IF(C1064=\"\",\"\",(VLOOKUP(C1064,code2!$A$4:$B$30,2)))","v":""},null,null,null,null,null,"","",0,"","",0,"","",0,0,null,null,null,"1-","1-"]
[null,"",null,{"$f":"IF(C1065=\"\",\"\",(VLOOKUP(C1065,code2!$A$4:$B$30,2)))","v":""},null,null,null,null,null,"","",0,"","",0,"","",0,0,null,null,null,"1-","1-"]
[null,"",null,{"$f":"IF(C1066=\"\",\"\",(VLOOKUP(C1066,code2!$A$4:$B$30,2)))","v":""},null,null,null,null,null,"","",0,"","",0,"","",0,0,null,null,null,"1-","1-"]
[null,"",null,{"$f":"IF(C1067=\"\",\"\",(VLOOKUP(C1067,code2!$A$4:$B$30,2)))","v":""},null,null,null,null,null,"","",0,"","",0,"","",0,0,null,null,null,"1-","1-"]
[null,"",null,{"$f":"IF(C1068=\"\",\"\",(VLOOKUP(C1068,code2!$A$4:$B$30,2)))","v":""},null,null,null,null,null,"","",0,"","",0,"","",0,0,null,null,null,"1-","1-"]
[null,"",null,{"$f":"IF(C1069=\"\",\"\",(VLOOKUP(C1069,code2!$A$4:$B$30,2)))","v":""},null,null,null,null,null,"","",0,"","",0,"","",0,0,null,null,null,"1-","1-"]
[null,"",null,{"$f":"IF(C1070=\"\",\"\",(VLOOKUP(C1070,code2!$A$4:$B$30,2)))","v":""},null,null,null,null,null,"","",0,"","",0,"","",0,0,null,null,null,"1-","1-"]
[null,"",null,{"$f":"IF(C1071=\"\",\"\",(VLOOKUP(C1071,code2!$A$4:$B$30,2)))","v":""},null,null,null,null,null,"","",0,"","",0,"","",0,0,null,null,null,"1-","1-"]
[null,"",null,{"$f":"IF(C1072=\"\",\"\",(VLOOKUP(C1072,code2!$A$4:$B$30,2)))","v":""},null,null,null,null,null,"","",0,"","",0,"","",0,0,null,null,null,"1-","1-"]
[null,"",null,{"$f":"IF(C1073=\"\",\"\",(VLOOKUP(C1073,code2!$A$4:$B$30,2)))","v":""},null,null,null,null,null,"","",0,"","",0,"","",0,0,null,null,null,"1-","1-"]
[null,"",null,{"$f":"IF(C1074=\"\",\"\",(VLOOKUP(C1074,code2!$A$4:$B$30,2)))","v":""},null,null,null,null,null,"","",0,"","",0,"","",0,0,null,null,null,"1-","1-"]
[null,"",null,{"$f":"IF(C1075=\"\",\"\",(VLOOKUP(C1075,code2!$A$4:$B$30,2)))","v":""},null,null,null,null,null,"","",0,"","",0,"","",0,0,null,null,null,{"$f":"MONTH(A1075)&\"-\"&D1075","v":"1-"},{"$f":"MONTH(A1075)&\"-\"&D1075&E1075","v":"1-"}]
[null,"",null,{"$f":"IF(C1076=\"\",\"\",(VLOOKUP(C1076,code2!$A$4:$B$30,2)))","v":""},null,null,null,null,null,"","",0,"","",0,"","",0,0,null,null,null,"1-","1-"]
[null,"",null,{"$f":"IF(C1077=\"\",\"\",(VLOOKUP(C1077,code2!$A$4:$B$30,2)))","v":""},null,null,null,null,null,"","",0,"","",0,"","",0,0,null,null,null,"1-","1-"]
[null,"",null,{"$f":"IF(C1078=\"\",\"\",(VLOOKUP(C1078,code2!$A$4:$B$30,2)))","v":""},null,null,null,null,null,"","",0,"","",0,"","",0,0,null,null,null,"1-","1-"]
[null,"",null,{"$f":"IF(C1079=\"\",\"\",(VLOOKUP(C1079,code2!$A$4:$B$30,2)))","v":""},null,null,null,null,null,"","",0,"","",0,"","",0,0,null,null,null,"1-","1-"]
[null,"",null,{"$f":"IF(C1080=\"\",\"\",(VLOOKUP(C1080,code2!$A$4:$B$30,2)))","v":""},null,null,null,null,null,"","",0,"","",0,"","",0,0,null,null,null,"1-","1-"]
[null,"",null,{"$f":"IF(C1081=\"\",\"\",(VLOOKUP(C1081,code2!$A$4:$B$30,2)))","v":""},null,null,null,null,null,"","",0,"","",0,"","",0,0,null,null,null,"1-","1-"]
[null,"",null,{"$f":"IF(C1082=\"\",\"\",(VLOOKUP(C1082,code2!$A$4:$B$30,2)))","v":""},null,null,null,null,null,"","",0,"","",0,"","",0,0,null,null,null,"1-","1-"]
[null,"",null,{"$f":"IF(C1083=\"\",\"\",(VLOOKUP(C1083,code2!$A$4:$B$30,2)))","v":""},null,null,null,null,null,"","",0,"","",0,"","",0,0,null,null,null,"1-","1-"]
[null,"",null,{"$f":"IF(C1084=\"\",\"\",(VLOOKUP(C1084,code2!$A$4:$B$30,2)))","v":""},null,null,null,null,null,"","",0,"","",0,"","",0,0,null,null,null,"1-","1-"]
[null,"",null,{"$f":"IF(C1085=\"\",\"\",(VLOOKUP(C1085,code2!$A$4:$B$30,2)))","v":""},null,null,null,null,null,"","",0,"","",0,"","",0,0,null,null,null,"1-","1-"]
[null,"",null,{"$f":"IF(C1086=\"\",\"\",(VLOOKUP(C1086,code2!$A$4:$B$30,2)))","v":""},null,null,null,null,null,"","",0,"","",0,"","",0,0,null,null,null,"1-","1-"]
[null,"",null,{"$f":"IF(C1087=\"\",\"\",(VLOOKUP(C1087,code2!$A$4:$B$30,2)))","v":""},null,null,null,null,null,"","",0,"","",0,"","",0,0,null,null,null,"1-","1-"]
[null,"",null,{"$f":"IF(C1088=\"\",\"\",(VLOOKUP(C1088,code2!$A$4:$B$30,2)))","v":""},null,null,null,null,null,"","",0,"","",0,"","",0,0,null,null,null,"1-","1-"]
[null,"",null,{"$f":"IF(C1089=\"\",\"\",(VLOOKUP(C1089,code2!$A$4:$B$30,2)))","v":""},null,null,null,null,null,"","",0,"","",0,"","",0,0,null,null,null,"1-","1-"]
[null,"",null,{"$f":"IF(C1090=\"\",\"\",(VLOOKUP(C1090,code2!$A$4:$B$30,2)))","v":""},null,null,null,null,null,"","",0,"","",0,"","",0,0,null,null,null,"1-","1-"]
[null,"",null,{"$f":"IF(C1091=\"\",\"\",(VLOOKUP(C1091,code2!$A$4:$B$30,2)))","v":""},null,null,null,null,null,"","",0,"","",0,"","",0,0,null,null,null,"1-","1-"]
[null,"",null,{"$f":"IF(C1092=\"\",\"\",(VLOOKUP(C1092,code2!$A$4:$B$30,2)))","v":""},null,null,null,null,null,"","",0,"","",0,"","",0,0,null,null,null,"1-","1-"]
[null,{"$f":"IF(A1093=\"\",\"\",A1093)","v":""},null,{"$f":"IF(C1093=\"\",\"\",(VLOOKUP(C1093,code2!$A$4:$B$30,2)))","v":""},null,null,null,null,null,"","",0,"","",0,"","",0,0,null,null,null,"1-","1-"]
[null,"",null,{"$f":"IF(C1094=\"\",\"\",(VLOOKUP(C1094,code2!$A$4:$B$30,2)))","v":""},null,null,null,null,null,"","",0,"","",0,"","",{"$f":"IF(P1094&Q1094=\"\",R1093,R1093+P1094-Q1094)","v":0},0,null,null,null,"1-","1-"]
[null,"",null,{"$f":"IF(C1095=\"\",\"\",(VLOOKUP(C1095,code2!$A$4:$B$30,2)))","v":""},null,null,null,null,null,{"$f":"IF(I1095=\"現金\",G1095,\"\")","v":""},{"$f":"IF(I1095=\"現金\",H1095,\"\")","v":""},{"$f":"IF(J1095&K1095=\"\",L1094,L1094+J1095-K1095)","v":0},{"$f":"IF(I1095=\"通帳\",G1095,\"\")","v":""},{"$f":"IF(I1095=\"通帳\",H1095,\"\")","v":""},{"$f":"IF(M1095&N1095=\"\",O1094,O1094+M1095-N1095)","v":0},{"$f":"IF(I1095=\"郵便振替\",G1095,\"\")","v":""},{"$f":"IF(I1095=\"郵便振替\",H1095,\"\")","v":""},0,0,null,null,null,"1-","1-"]
[null,"",null,{"$f":"IF(C1096=\"\",\"\",(VLOOKUP(C1096,code2!$A$4:$B$30,2)))","v":""},null,null,null,null,null,"","",0,"","",0,"","",0,{"$f":"L1096+O1096+R1096","v":0},null,null,null,"1-","1-"]
[null,"",null,{"$f":"IF(C1097=\"\",\"\",(VLOOKUP(C1097,code2!$A$4:$B$30,2)))","v":""},null,null,null,null,null,"","",0,"","",0,"","",0,0,null,null,null,"1-","1-"]
[null,"",null,{"$f":"IF(C1098=\"\",\"\",(VLOOKUP(C1098,code2!$A$4:$B$30,2)))","v":""},null,null,null,null,null,"","",0,"","",0,"","",0,0,null,null,null,"1-","1-"]
[null,"",null,{"$f":"IF(C1099=\"\",\"\",(VLOOKUP(C1099,code2!$A$4:$B$30,2)))","v":""},null,null,null,null,null,"","",0,"","",0,"","",0,0,null,null,null,"1-","1-"]
[null,"",null,{"$f":"IF(C1100=\"\",\"\",(VLOOKUP(C1100,code2!$A$4:$B$30,2)))","v":""},null,null,null,null,null,"","",0,"","",0,"","",0,0,null,null,null,"1-","1-"]
[null,"",null,{"$f":"IF(C1101=\"\",\"\",(VLOOKUP(C1101,code2!$A$4:$B$30,2)))","v":""},null,null,null,null,null,"","",0,"","",0,"","",0,0,null,null,null,"1-","1-"]
[null,"",null,{"$f":"IF(C1102=\"\",\"\",(VLOOKUP(C1102,code2!$A$4:$B$30,2)))","v":""},null,null,null,null,null,"","",0,"","",0,"","",0,0,null,null,null,"1-","1-"]
[null,"",null,{"$f":"IF(C1103=\"\",\"\",(VLOOKUP(C1103,code2!$A$4:$B$30,2)))","v":""},null,null,null,null,null,"","",0,"","",0,"",""]
[null,"",null,{"$f":"IF(C1104=\"\",\"\",(VLOOKUP(C1104,code2!$A$4:$B$30,2)))","v":""},null,null,null,null,null,"","",0,"","",0,"",""]
[null,"",null,{"$f":"IF(C1105=\"\",\"\",(VLOOKUP(C1105,code2!$A$4:$B$30,2)))","v":""},null,null,null,null,null,"","",0,"","",0,"","",{"$f":"IF(P1105&Q1105=\"\",R1102,R1102+P1105-Q1105)","v":0},0,null,null,null,"1-","1-"]
[null,"",null,{"$f":"IF(C1106=\"\",\"\",(VLOOKUP(C1106,code2!$A$4:$B$30,2)))","v":""},null,null,null,null,null,"","",0,"","",0,"","",0,0,null,null,null,"1-","1-"]
[null,"",null,{"$f":"IF(C1107=\"\",\"\",(VLOOKUP(C1107,code2!$A$4:$B$30,2)))","v":""},null,null,null,null,null,"","",0,"","",0,"","",0,0,null,null,null,"1-","1-"]
[null,"",null,{"$f":"IF(C1108=\"\",\"\",(VLOOKUP(C1108,code2!$A$4:$B$30,2)))","v":""},null,null,null,null,null,"","",0,"","",0,"","",0,0,null,null,null,"1-","1-"]
[null,"",null,{"$f":"IF(C1109=\"\",\"\",(VLOOKUP(C1109,code2!$A$4:$B$30,2)))","v":""},null,null,null,null,null,"","",0,"","",0,"","",0,0,null,null,null,"1-","1-"]
[null,"",null,{"$f":"IF(C1110=\"\",\"\",(VLOOKUP(C1110,code2!$A$4:$B$30,2)))","v":""},null,null,null,null,null,"","",0,"","",0,"","",0,0,null,null,null,"1-","1-"]
[null,"",null,{"$f":"IF(C1111=\"\",\"\",(VLOOKUP(C1111,code2!$A$4:$B$30,2)))","v":""},null,null,null,null,null,"","",0,"","",0,"","",0,0,null,null,null,"1-","1-"]
[null,"",null,{"$f":"IF(C1112=\"\",\"\",(VLOOKUP(C1112,code2!$A$4:$B$30,2)))","v":""},null,null,null,null,null,"","",0,"","",0,"","",0,0,null,null,null,"1-","1-"]
[null,"",null,{"$f":"IF(C1113=\"\",\"\",(VLOOKUP(C1113,code2!$A$4:$B$30,2)))","v":""},null,null,null,null,null,"","",0,"","",0,"","",0,0,null,null,null,"1-","1-"]
[null,"",null,{"$f":"IF(C1114=\"\",\"\",(VLOOKUP(C1114,code2!$A$4:$B$30,2)))","v":""},null,null,null,null,null,"","",0,"","",0,"","",0,0,null,null,null,"1-","1-"]
[null,"",null,{"$f":"IF(C1115=\"\",\"\",(VLOOKUP(C1115,code2!$A$4:$B$30,2)))","v":""},null,null,null,null,null,"","",0,"","",0,"","",0,0,null,null,null,"1-","1-"]
[null,"",null,{"$f":"IF(C1116=\"\",\"\",(VLOOKUP(C1116,code2!$A$4:$B$30,2)))","v":""},null,null,null,null,null,"","",0,"","",0,"","",0,0,null,null,null,"1-","1-"]
[null,"",null,{"$f":"IF(C1117=\"\",\"\",(VLOOKUP(C1117,code2!$A$4:$B$30,2)))","v":""},null,null,null,null,null,"","",0,"","",0,"","",0,0,null,null,null,"1-","1-"]
[null,"",null,{"$f":"IF(C1118=\"\",\"\",(VLOOKUP(C1118,code2!$A$4:$B$30,2)))","v":""},null,null,null,null,null,"","",0,"","",0,"","",0,0,null,null,null,"1-","1-"]
[null,"",null,{"$f":"IF(C1119=\"\",\"\",(VLOOKUP(C1119,code2!$A$4:$B$30,2)))","v":""},null,null,null,null,null,"","",0,"","",0,"","",0,0,null,null,null,"1-","1-"]
[null,"",null,{"$f":"IF(C1120=\"\",\"\",(VLOOKUP(C1120,code2!$A$4:$B$30,2)))","v":""},null,null,null,null,null,"","",0,"","",0,"","",0,0,null,null,null,"1-","1-"]
[null,"",null,{"$f":"IF(C1121=\"\",\"\",(VLOOKUP(C1121,code2!$A$4:$B$30,2)))","v":""},null,null,null,null,null,"","",0,"","",0,"","",0,0,null,null,null,"1-","1-"]
[null,"",null,{"$f":"IF(C1122=\"\",\"\",(VLOOKUP(C1122,code2!$A$4:$B$30,2)))","v":""},null,null,null,null,null,"","",0,"","",0,"","",0,0,null,null,null,"1-","1-"]
[null,"",null,{"$f":"IF(C1123=\"\",\"\",(VLOOKUP(C1123,code2!$A$4:$B$30,2)))","v":""},null,null,null,null,null,"","",0,"","",0,"","",0,0,null,null,null,"1-","1-"]
[null,"",null,{"$f":"IF(C1124=\"\",\"\",(VLOOKUP(C1124,code2!$A$4:$B$30,2)))","v":""},null,null,null,null,null,"","",0,"","",0,"","",0,0,null,null,null,"1-","1-"]
[null,"",null,{"$f":"IF(C1125=\"\",\"\",(VLOOKUP(C1125,code2!$A$4:$B$30,2)))","v":""},null,null,null,null,null,"","",0,"","",0,"","",0,0,null,null,null,"1-","1-"]
[null,"",null,{"$f":"IF(C1126=\"\",\"\",(VLOOKUP(C1126,code2!$A$4:$B$30,2)))","v":""},null,null,null,null,null,"","",0,"","",0,"","",0,0,null,null,null,"1-","1-"]
[null,"",null,{"$f":"IF(C1127=\"\",\"\",(VLOOKUP(C1127,code2!$A$4:$B$30,2)))","v":""},null,null,null,null,null,"","",0,"","",0,"","",0,0,null,null,null,"1-","1-"]
[null,"",null,{"$f":"IF(C1128=\"\",\"\",(VLOOKUP(C1128,code2!$A$4:$B$30,2)))","v":""},null,null,null,null,null,"","",0,"","",0,"","",0,0,null,null,null,"1-","1-"]
[null,"",null,{"$f":"IF(C1129=\"\",\"\",(VLOOKUP(C1129,code2!$A$4:$B$30,2)))","v":""},null,null,null,null,null,"","",0,"","",0,"","",0,0,null,null,null,"1-","1-"]
[null,"",null,{"$f":"IF(C1130=\"\",\"\",(VLOOKUP(C1130,code2!$A$4:$B$30,2)))","v":""},null,null,null,null,null,"","",0,"","",0,"","",0,0,null,null,null,"1-","1-"]
[null,"",null,{"$f":"IF(C1131=\"\",\"\",(VLOOKUP(C1131,code2!$A$4:$B$30,2)))","v":""},null,null,null,null,null,"","",0,"","",0,"","",0,0,null,null,null,"1-","1-"]
[null,"",null,{"$f":"IF(C1132=\"\",\"\",(VLOOKUP(C1132,code2!$A$4:$B$30,2)))","v":""},null,null,null,null,null,"","",0,"","",0,"","",0,0,null,null,null,"1-","1-"]
[null,"",null,{"$f":"IF(C1133=\"\",\"\",(VLOOKUP(C1133,code2!$A$4:$B$30,2)))","v":""},null,null,null,null,null,"","",0,"","",0,"","",0,0,null,null,null,"1-","1-"]
[null,"",null,{"$f":"IF(C1134=\"\",\"\",(VLOOKUP(C1134,code2!$A$4:$B$30,2)))","v":""},null,null,null,null,null,"","",0,"","",0,"","",0,0,null,null,null,"1-","1-"]
[null,"",null,{"$f":"IF(C1135=\"\",\"\",(VLOOKUP(C1135,code2!$A$4:$B$30,2)))","v":""},null,null,null,null,null,"","",0,"","",0,"","",0,0,null,null,null,"1-","1-"]
[null,"",null,{"$f":"IF(C1136=\"\",\"\",(VLOOKUP(C1136,code2!$A$4:$B$30,2)))","v":""},null,null,null,null,null,"","",0,"","",0,"","",0,0,null,null,null,"1-","1-"]
[null,"",null,{"$f":"IF(C1137=\"\",\"\",(VLOOKUP(C1137,code2!$A$4:$B$30,2)))","v":""},null,null,null,null,null,"","",0,"","",0,"","",0,0,null,null,null,"1-","1-"]
[null,"",null,{"$f":"IF(C1138=\"\",\"\",(VLOOKUP(C1138,code2!$A$4:$B$30,2)))","v":""},null,null,null,null,null,"","",0,"","",0,"","",0,0,null,null,null,"1-","1-"]
[null,"",null,{"$f":"IF(C1139=\"\",\"\",(VLOOKUP(C1139,code2!$A$4:$B$30,2)))","v":""},null,null,null,null,null,"","",0,"","",0,"","",0,0,null,null,null,"1-","1-"]
[null,"",null,{"$f":"IF(C1140=\"\",\"\",(VLOOKUP(C1140,code2!$A$4:$B$30,2)))","v":""},null,null,null,null,null,"","",0,"","",0,"","",0,0,null,null,null,"1-","1-"]
[null,"",null,{"$f":"IF(C1141=\"\",\"\",(VLOOKUP(C1141,code2!$A$4:$B$30,2)))","v":""},null,null,null,null,null,"","",0,"","",0,"","",0,0,null,null,null,{"$f":"MONTH(A1141)&\"-\"&D1141","v":"1-"},{"$f":"MONTH(A1141)&\"-\"&D1141&E1141","v":"1-"}]
[null,"",null,{"$f":"IF(C1142=\"\",\"\",(VLOOKUP(C1142,code2!$A$4:$B$30,2)))","v":""},null,null,null,null,null,"","",0,"","",0,"","",0,0,null,null,null,"1-","1-"]
[null,"",null,{"$f":"IF(C1143=\"\",\"\",(VLOOKUP(C1143,code2!$A$4:$B$30,2)))","v":""},null,null,null,null,null,"","",0,"","",0,"","",0,0,null,null,null,"1-","1-"]
[null,"",null,{"$f":"IF(C1144=\"\",\"\",(VLOOKUP(C1144,code2!$A$4:$B$30,2)))","v":""},null,null,null,null,null,"","",0,"","",0,"","",0,0,null,null,null,"1-","1-"]
[null,"",null,{"$f":"IF(C1145=\"\",\"\",(VLOOKUP(C1145,code2!$A$4:$B$30,2)))","v":""},null,null,null,null,null,"","",0,"","",0,"","",0,0,null,null,null,"1-","1-"]
[null,"",null,{"$f":"IF(C1146=\"\",\"\",(VLOOKUP(C1146,code2!$A$4:$B$30,2)))","v":""},null,null,null,null,null,"","",0,"","",0,"","",0,0,null,null,null,"1-","1-"]
[null,"",null,{"$f":"IF(C1147=\"\",\"\",(VLOOKUP(C1147,code2!$A$4:$B$30,2)))","v":""},null,null,null,null,null,"","",0,"","",0,"","",0,0,null,null,null,"1-","1-"]
[null,"",null,{"$f":"IF(C1148=\"\",\"\",(VLOOKUP(C1148,code2!$A$4:$B$30,2)))","v":""},null,null,null,null,null,"","",0,"","",0,"","",0,0,null,null,null,"1-","1-"]
[null,"",null,{"$f":"IF(C1149=\"\",\"\",(VLOOKUP(C1149,code2!$A$4:$B$30,2)))","v":""},null,null,null,null,null,"","",0,"","",0,"","",0,0,null,null,null,"1-","1-"]
[null,"",null,{"$f":"IF(C1150=\"\",\"\",(VLOOKUP(C1150,code2!$A$4:$B$30,2)))","v":""},null,null,null,null,null,"","",0,"","",0,"","",0,0,null,null,null,"1-","1-"]
[null,"",null,{"$f":"IF(C1151=\"\",\"\",(VLOOKUP(C1151,code2!$A$4:$B$30,2)))","v":""},null,null,null,null,null,"","",0,"","",0,"","",0,0,null,null,null,"1-","1-"]
[null,"",null,{"$f":"IF(C1152=\"\",\"\",(VLOOKUP(C1152,code2!$A$4:$B$30,2)))","v":""},null,null,null,null,null,"","",0,"","",0,"","",0,0,null,null,null,"1-","1-"]
[null,"",null,{"$f":"IF(C1153=\"\",\"\",(VLOOKUP(C1153,code2!$A$4:$B$30,2)))","v":""},null,null,null,null,null,"","",0,"","",0,"","",0,0,null,null,null,"1-","1-"]
[null,"",null,{"$f":"IF(C1154=\"\",\"\",(VLOOKUP(C1154,code2!$A$4:$B$30,2)))","v":""},null,null,null,null,null,"","",0,"","",0,"","",0,0,null,null,null,"1-","1-"]
[null,"",null,{"$f":"IF(C1155=\"\",\"\",(VLOOKUP(C1155,code2!$A$4:$B$30,2)))","v":""},null,null,null,null,null,"","",0,"","",0,"","",0,0,null,null,null,"1-","1-"]
[null,"",null,{"$f":"IF(C1156=\"\",\"\",(VLOOKUP(C1156,code2!$A$4:$B$30,2)))","v":""},null,null,null,null,null,"","",0,"","",0,"","",0,0,null,null,null,"1-","1-"]
[null,"",null,{"$f":"IF(C1157=\"\",\"\",(VLOOKUP(C1157,code2!$A$4:$B$30,2)))","v":""},null,null,null,null,null,"","",0,"","",0,"","",0,0,null,null,null,"1-","1-"]
[null,"",null,{"$f":"IF(C1158=\"\",\"\",(VLOOKUP(C1158,code2!$A$4:$B$30,2)))","v":""},null,null,null,null,null,"","",0,"","",0,"","",0,0,null,null,null,"1-","1-"]
[null,{"$f":"IF(A1159=\"\",\"\",A1159)","v":""},null,{"$f":"IF(C1159=\"\",\"\",(VLOOKUP(C1159,code2!$A$4:$B$30,2)))","v":""},null,null,null,null,null,{"$f":"IF(I1159=\"現金\",G1159,\"\")","v":""},{"$f":"IF(I1159=\"現金\",H1159,\"\")","v":""},{"$f":"IF(J1159&K1159=\"\",L1158,L1158+J1159-K1159)","v":0},{"$f":"IF(I1159=\"通帳\",G1159,\"\")","v":""},{"$f":"IF(I1159=\"通帳\",H1159,\"\")","v":""},{"$f":"IF(M1159&N1159=\"\",O1158,O1158+M1159-N1159)","v":0},{"$f":"IF(I1159=\"郵便振替\",G1159,\"\")","v":""},{"$f":"IF(I1159=\"郵便振替\",H1159,\"\")","v":""},0,0,null,null,null,"1-","1-"]
[null,"",null,{"$f":"IF(C1160=\"\",\"\",(VLOOKUP(C1160,code2!$A$4:$B$30,2)))","v":""},null,null,null,null,null,"","",0,"","",0,"","",{"$f":"IF(P1160&Q1160=\"\",R1159,R1159+P1160-Q1160)","v":0},0,null,null,null,"1-","1-"]
[null,"",null,{"$f":"IF(C1161=\"\",\"\",(VLOOKUP(C1161,code2!$A$4:$B$30,2)))","v":""},null,null,null,null,null,"","",0,"","",0,"","",0,0,null,null,null,"1-","1-"]
[null,"",null,{"$f":"IF(C1162=\"\",\"\",(VLOOKUP(C1162,code2!$A$4:$B$30,2)))","v":""},null,null,null,null,null,"","",0,"","",0,"","",0,{"$f":"L1162+O1162+R1162","v":0},null,null,null,"1-","1-"]
[null,"",null,{"$f":"IF(C1163=\"\",\"\",(VLOOKUP(C1163,code2!$A$4:$B$30,2)))","v":""},null,null,null,null,null,"","",0,"","",0,"","",0,0,null,null,null,{"$f":"MONTH(A1163)&\"-\"&D1163","v":"1-"},{"$f":"MONTH(A1163)&\"-\"&D1163&E1163","v":"1-"}]
[null,"",null,{"$f":"IF(C1164=\"\",\"\",(VLOOKUP(C1164,code2!$A$4:$B$30,2)))","v":""},null,null,null,null,null,"","",0,"","",0,"","",0,0,null,null,null,"1-","1-"]
[null,"",null,{"$f":"IF(C1165=\"\",\"\",(VLOOKUP(C1165,code2!$A$4:$B$30,2)))","v":""},null,null,null,null,null,"","",0,"","",0,"","",0,0,null,null,null,"1-","1-"]
[null,"",null,{"$f":"IF(C1166=\"\",\"\",(VLOOKUP(C1166,code2!$A$4:$B$30,2)))","v":""},null,null,null,null,null,"","",0,"","",0,"","",0,0,null,null,null,"1-","1-"]
[null,"",null,{"$f":"IF(C1167=\"\",\"\",(VLOOKUP(C1167,code2!$A$4:$B$30,2)))","v":""},null,null,null,null,null,"","",0,"","",0,"","",0,0,null,null,null,"1-","1-"]
[null,"",null,{"$f":"IF(C1168=\"\",\"\",(VLOOKUP(C1168,code2!$A$4:$B$30,2)))","v":""},null,null,null,null,null,"","",0,"","",0,"","",0,0,null,null,null,"1-","1-"]
[null,"",null,{"$f":"IF(C1169=\"\",\"\",(VLOOKUP(C1169,code2!$A$4:$B$30,2)))","v":""},null,null,null,null,null,"","",0,"","",0,"","",0,0,null,null,null,"1-","1-"]
[null,"",null,{"$f":"IF(C1170=\"\",\"\",(VLOOKUP(C1170,code2!$A$4:$B$30,2)))","v":""},null,null,null,null,null,"","",0,"","",0,"","",0,0,null,null,null,"1-","1-"]
[null,"",null,{"$f":"IF(C1171=\"\",\"\",(VLOOKUP(C1171,code2!$A$4:$B$30,2)))","v":""},null,null,null,null,null,"","",0,"","",0,"","",0,0,null,null,null,"1-","1-"]
[null,"",null,{"$f":"IF(C1172=\"\",\"\",(VLOOKUP(C1172,code2!$A$4:$B$30,2)))","v":""},null,null,null,null,null,"","",0,"","",0,"","",0,0,null,null,null,"1-","1-"]
[null,"",null,{"$f":"IF(C1173=\"\",\"\",(VLOOKUP(C1173,code2!$A$4:$B$30,2)))","v":""},null,null,null,null,null,"","",0,"","",0,"","",0,0,null,null,null,"1-","1-"]
[null,"",null,{"$f":"IF(C1174=\"\",\"\",(VLOOKUP(C1174,code2!$A$4:$B$30,2)))","v":""},null,null,null,null,null,"","",0,"","",0,"","",0,0,null,null,null,"1-","1-"]
[null,"",null,{"$f":"IF(C1175=\"\",\"\",(VLOOKUP(C1175,code2!$A$4:$B$30,2)))","v":""},null,null,null,null,null,"","",0,"","",0,"","",0,0,null,null,null,"1-","1-"]
[null,"",null,{"$f":"IF(C1176=\"\",\"\",(VLOOKUP(C1176,code2!$A$4:$B$30,2)))","v":""},null,null,null,null,null,"","",0,"","",0,"","",0,0,null,null,null,"1-","1-"]
[null,"",null,{"$f":"IF(C1177=\"\",\"\",(VLOOKUP(C1177,code2!$A$4:$B$30,2)))","v":""},null,null,null,null,null,"","",0,"","",0,"","",0,0,null,null,null,"1-","1-"]
[null,"",null,{"$f":"IF(C1178=\"\",\"\",(VLOOKUP(C1178,code2!$A$4:$B$30,2)))","v":""},null,null,null,null,null,"","",0,"","",0,"","",0,0,null,null,null,"1-","1-"]
[null,"",null,{"$f":"IF(C1179=\"\",\"\",(VLOOKUP(C1179,code2!$A$4:$B$30,2)))","v":""},null,null,null,null,null,"","",0,"","",0,"","",0,0,null,null,null,"1-","1-"]
[null,"",null,{"$f":"IF(C1180=\"\",\"\",(VLOOKUP(C1180,code2!$A$4:$B$30,2)))","v":""},null,null,null,null,null,"","",0,"","",0,"","",0,0,null,null,null,"1-","1-"]
[null,"",null,{"$f":"IF(C1181=\"\",\"\",(VLOOKUP(C1181,code2!$A$4:$B$30,2)))","v":""},null,null,null,null,null,"","",0,"","",0,"","",0,0,null,null,null,"1-","1-"]
[null,"",null,{"$f":"IF(C1182=\"\",\"\",(VLOOKUP(C1182,code2!$A$4:$B$30,2)))","v":""},null,null,null,null,null,"","",0,"","",0,"","",0,0,null,null,null,"1-","1-"]
[null,"",null,{"$f":"IF(C1183=\"\",\"\",(VLOOKUP(C1183,code2!$A$4:$B$30,2)))","v":""},null,null,null,null,null,"","",0,"","",0,"","",0,0,null,null,null,"1-","1-"]
[null,"",null,{"$f":"IF(C1184=\"\",\"\",(VLOOKUP(C1184,code2!$A$4:$B$30,2)))","v":""},null,null,null,null,null,"","",0,"","",0,"","",0,0,null,null,null,"1-","1-"]
[null,"",null,{"$f":"IF(C1185=\"\",\"\",(VLOOKUP(C1185,code2!$A$4:$B$30,2)))","v":""},null,null,null,null,null,"","",0,"","",0,"","",0,0,null,null,null,"1-","1-"]
[null,"",null,{"$f":"IF(C1186=\"\",\"\",(VLOOKUP(C1186,code2!$A$4:$B$30,2)))","v":""},null,null,null,null,null,"","",0,"","",0,"","",0,0,null,null,null,"1-","1-"]
[null,"",null,{"$f":"IF(C1187=\"\",\"\",(VLOOKUP(C1187,code2!$A$4:$B$30,2)))","v":""},null,null,null,null,null,"","",0,"","",0,"","",0,0,null,null,null,"1-","1-"]
[null,"",null,{"$f":"IF(C1188=\"\",\"\",(VLOOKUP(C1188,code2!$A$4:$B$30,2)))","v":""},null,null,null,null,null,"","",0,"","",0,"","",0,0,null,null,null,"1-","1-"]
[null,"",null,{"$f":"IF(C1189=\"\",\"\",(VLOOKUP(C1189,code2!$A$4:$B$30,2)))","v":""},null,null,null,null,null,"","",0,"","",0,"","",0,0,null,null,null,"1-","1-"]
[null,"",null,{"$f":"IF(C1190=\"\",\"\",(VLOOKUP(C1190,code2!$A$4:$B$30,2)))","v":""},null,null,null,null,null,"","",0,"","",0,"","",0,0,null,null,null,"1-","1-"]
[null,"",null,{"$f":"IF(C1191=\"\",\"\",(VLOOKUP(C1191,code2!$A$4:$B$30,2)))","v":""},null,null,null,null,null,"","",0,"","",0,"","",0,0,null,null,null,"1-","1-"]
[null,"",null,{"$f":"IF(C1192=\"\",\"\",(VLOOKUP(C1192,code2!$A$4:$B$30,2)))","v":""},null,null,null,null,null,"","",0,"","",0,"","",0,0,null,null,null,"1-","1-"]
[null,"",null,{"$f":"IF(C1193=\"\",\"\",(VLOOKUP(C1193,code2!$A$4:$B$30,2)))","v":""},null,null,null,null,null,"","",0,"","",0,"","",0,0,null,null,null,"1-","1-"]
[null,"",null,{"$f":"IF(C1194=\"\",\"\",(VLOOKUP(C1194,code2!$A$4:$B$30,2)))","v":""},null,null,null,null,null,"","",0,"","",0,"","",0,0,null,null,null,"1-","1-"]
[null,"",null,{"$f":"IF(C1195=\"\",\"\",(VLOOKUP(C1195,code2!$A$4:$B$30,2)))","v":""},null,null,null,null,null,"","",0,"","",0,"","",0,0,null,null,null,"1-","1-"]
[null,"",null,{"$f":"IF(C1196=\"\",\"\",(VLOOKUP(C1196,code2!$A$4:$B$30,2)))","v":""},null,null,null,null,null,"","",0,"","",0,"","",0,0,null,null,null,"1-","1-"]
[null,"",null,{"$f":"IF(C1197=\"\",\"\",(VLOOKUP(C1197,code2!$A$4:$B$30,2)))","v":""},null,null,null,null,null,"","",0,"","",0,"","",0,0,null,null,null,"1-","1-"]
[null,"",null,{"$f":"IF(C1198=\"\",\"\",(VLOOKUP(C1198,code2!$A$4:$B$30,2)))","v":""},null,null,null,null,null,"","",0,"","",0,"","",0,0,null,null,null,"1-","1-"]
[null,"",null,{"$f":"IF(C1199=\"\",\"\",(VLOOKUP(C1199,code2!$A$4:$B$30,2)))","v":""},null,null,null,null,null,"","",0,"","",0,"","",0,0,null,null,null,"1-","1-"]
[null,"",null,{"$f":"IF(C1200=\"\",\"\",(VLOOKUP(C1200,code2!$A$4:$B$30,2)))","v":""},null,null,null,null,null,"","",0,"","",0,"","",0,0,null,null,null,{"$f":"MONTH(A1200)&\"-\"&D1200","v":"1-"},{"$f":"MONTH(A1200)&\"-\"&D1200&E1200","v":"1-"}]
[null,"",null,{"$f":"IF(C1201=\"\",\"\",(VLOOKUP(C1201,code2!$A$4:$B$30,2)))","v":""},null,null,null,null,null,"","",0,"","",0,"","",0,0,null,null,null,"1-","1-"]
[null,"",null,{"$f":"IF(C1202=\"\",\"\",(VLOOKUP(C1202,code2!$A$4:$B$30,2)))","v":""},null,null,null,null,null,"","",0,"","",0,"","",0,0,null,null,null,"1-","1-"]
[null,"",null,{"$f":"IF(C1203=\"\",\"\",(VLOOKUP(C1203,code2!$A$4:$B$30,2)))","v":""},null,null,null,null,null,"","",0,"","",0,"","",0,0,null,null,null,"1-","1-"]
[null,"",null,{"$f":"IF(C1204=\"\",\"\",(VLOOKUP(C1204,code2!$A$4:$B$30,2)))","v":""},null,null,null,null,null,"","",0,"","",0,"","",0,0,null,null,null,"1-","1-"]
[null,"",null,{"$f":"IF(C1205=\"\",\"\",(VLOOKUP(C1205,code2!$A$4:$B$30,2)))","v":""},null,null,null,null,null,"","",0,"","",0,"","",0,0,null,null,null,"1-","1-"]
[null,"",null,{"$f":"IF(C1206=\"\",\"\",(VLOOKUP(C1206,code2!$A$4:$B$30,2)))","v":""},null,null,null,null,null,"","",0,"","",0,"","",0,0,null,null,null,"1-","1-"]
[null,"",null,{"$f":"IF(C1207=\"\",\"\",(VLOOKUP(C1207,code2!$A$4:$B$30,2)))","v":""},null,null,null,null,null,"","",0,"","",0,"","",0,0,null,null,null,"1-","1-"]
[null,"",null,{"$f":"IF(C1208=\"\",\"\",(VLOOKUP(C1208,code2!$A$4:$B$30,2)))","v":""},null,null,null,null,null,"","",0,"","",0,"","",0,0,null,null,null,"1-","1-"]
[null,"",null,{"$f":"IF(C1209=\"\",\"\",(VLOOKUP(C1209,code2!$A$4:$B$30,2)))","v":""},null,null,null,null,null,"","",0,"","",0,"","",0,0,null,null,null,"1-","1-"]
[null,"",null,{"$f":"IF(C1210=\"\",\"\",(VLOOKUP(C1210,code2!$A$4:$B$30,2)))","v":""},null,null,null,null,null,"","",0,"","",0,"","",0,0,null,null,null,"1-","1-"]
[null,"",null,{"$f":"IF(C1211=\"\",\"\",(VLOOKUP(C1211,code2!$A$4:$B$30,2)))","v":""},null,null,null,null,null,"","",0,"","",0,"","",0,0,null,null,null,"1-","1-"]
[null,"",null,{"$f":"IF(C1212=\"\",\"\",(VLOOKUP(C1212,code2!$A$4:$B$30,2)))","v":""},null,null,null,null,null,"","",0,"","",0,"","",0,0,null,null,null,"1-","1-"]
[null,"",null,{"$f":"IF(C1213=\"\",\"\",(VLOOKUP(C1213,code2!$A$4:$B$30,2)))","v":""},null,null,null,null,null,"","",0,"","",0,"","",0,0,null,null,null,"1-","1-"]
[null,"",null,{"$f":"IF(C1214=\"\",\"\",(VLOOKUP(C1214,code2!$A$4:$B$30,2)))","v":""},null,null,null,null,null,"","",0,"","",0,"","",0,0,null,null,null,"1-","1-"]
[null,"",null,{"$f":"IF(C1215=\"\",\"\",(VLOOKUP(C1215,code2!$A$4:$B$30,2)))","v":""},null,null,null,null,null,"","",0,"","",0,"","",0,0,null,null,null,"1-","1-"]
[null,"",null,{"$f":"IF(C1216=\"\",\"\",(VLOOKUP(C1216,code2!$A$4:$B$30,2)))","v":""},null,null,null,null,null,"","",0,"","",0,"","",0,0,null,null,null,"1-","1-"]
[null,"",null,{"$f":"IF(C1217=\"\",\"\",(VLOOKUP(C1217,code2!$A$4:$B$30,2)))","v":""},null,null,null,null,null,"","",0,"","",0,"","",0,0,null,null,null,"1-","1-"]
[null,"",null,{"$f":"IF(C1218=\"\",\"\",(VLOOKUP(C1218,code2!$A$4:$B$30,2)))","v":""},null,null,null,null,null,"","",0,"","",0,"","",0,0,null,null,null,"1-","1-"]
[null,"",null,{"$f":"IF(C1219=\"\",\"\",(VLOOKUP(C1219,code2!$A$4:$B$30,2)))","v":""},null,null,null,null,null,"","",0,"","",0,"","",0,0,null,null,null,"1-","1-"]
[null,"",null,{"$f":"IF(C1220=\"\",\"\",(VLOOKUP(C1220,code2!$A$4:$B$30,2)))","v":""},null,null,null,null,null,"","",0,"","",0,"","",0,0,null,null,null,"1-","1-"]
[null,"",null,{"$f":"IF(C1221=\"\",\"\",(VLOOKUP(C1221,code2!$A$4:$B$30,2)))","v":""},null,null,null,null,null,"","",0,"","",0,"","",0,0,null,null,null,"1-","1-"]
[null,"",null,{"$f":"IF(C1222=\"\",\"\",(VLOOKUP(C1222,code2!$A$4:$B$30,2)))","v":""},null,null,null,null,null,"","",0,"","",0,"","",0,0,null,null,null,"1-","1-"]
[null,{"$f":"IF(A1223=\"\",\"\",A1223)","v":""},null,{"$f":"IF(C1223=\"\",\"\",(VLOOKUP(C1223,code2!$A$4:$B$30,2)))","v":""},null,null,null,null,null,{"$f":"IF(I1223=\"現金\",G1223,\"\")","v":""},{"$f":"IF(I1223=\"現金\",H1223,\"\")","v":""},{"$f":"IF(J1223&K1223=\"\",L1222,L1222+J1223-K1223)","v":0},{"$f":"IF(I1223=\"通帳\",G1223,\"\")","v":""},{"$f":"IF(I1223=\"通帳\",H1223,\"\")","v":""},{"$f":"IF(M1223&N1223=\"\",O1222,O1222+M1223-N1223)","v":0},{"$f":"IF(I1223=\"郵便振替\",G1223,\"\")","v":""},{"$f":"IF(I1223=\"郵便振替\",H1223,\"\")","v":""},0,0,null,null,null,"1-","1-"]
[null,"",null,{"$f":"IF(C1224=\"\",\"\",(VLOOKUP(C1224,code2!$A$4:$B$30,2)))","v":""},null,null,null,null,null,"","",0,"","",0,"","",{"$f":"IF(P1224&Q1224=\"\",R1223,R1223+P1224-Q1224)","v":0},0,null,null,null,"1-","1-"]
[null,"",null,{"$f":"IF(C1225=\"\",\"\",(VLOOKUP(C1225,code2!$A$4:$B$30,2)))","v":""},null,null,null,null,null,"","",0,"","",0,"","",0,0,null,null,null,"1-","1-"]
[null,"",null,{"$f":"IF(C1226=\"\",\"\",(VLOOKUP(C1226,code2!$A$4:$B$30,2)))","v":""},null,null,null,null,null,"","",0,"","",0,"","",0,{"$f":"L1226+O1226+R1226","v":0},null,null,null,"1-","1-"]
[null,"",null,{"$f":"IF(C1227=\"\",\"\",(VLOOKUP(C1227,code2!$A$4:$B$30,2)))","v":""},null,null,null,null,null,"","",0,"","",0,"","",0,0,null,null,null,"1-","1-"]
[null,"",null,{"$f":"IF(C1228=\"\",\"\",(VLOOKUP(C1228,code2!$A$4:$B$30,2)))","v":""},null,null,null,null,null,"","",0,"","",0,"","",0,0,null,null,null,"1-","1-"]
[null,"",null,{"$f":"IF(C1229=\"\",\"\",(VLOOKUP(C1229,code2!$A$4:$B$30,2)))","v":""},null,null,null,null,null,"","",0,"","",0,"","",0,0,null,null,null,"1-","1-"]
[null,"",null,{"$f":"IF(C1230=\"\",\"\",(VLOOKUP(C1230,code2!$A$4:$B$30,2)))","v":""},null,null,null,null,null,"","",0,"","",0,"","",0,0,null,null,null,"1-","1-"]
[null,"",null,{"$f":"IF(C1231=\"\",\"\",(VLOOKUP(C1231,code2!$A$4:$B$30,2)))","v":""},null,null,null,null,null,"","",0,"","",0,"","",0,0,null,null,null,"1-","1-"]
[null,"",null,{"$f":"IF(C1232=\"\",\"\",(VLOOKUP(C1232,code2!$A$4:$B$30,2)))","v":""},null,null,null,null,null,"","",0,"","",0,"","",0,0,null,null,null,"1-","1-"]
[null,"",null,{"$f":"IF(C1233=\"\",\"\",(VLOOKUP(C1233,code2!$A$4:$B$30,2)))","v":""},null,null,null,null,null,"","",0,"","",0,"","",0,0,null,null,null,"1-","1-"]
[null,"",null,{"$f":"IF(C1234=\"\",\"\",(VLOOKUP(C1234,code2!$A$4:$B$30,2)))","v":""},null,null,null,null,null,"","",0,"","",0,"","",0,0,null,null,null,"1-","1-"]
[null,"",null,{"$f":"IF(C1235=\"\",\"\",(VLOOKUP(C1235,code2!$A$4:$B$30,2)))","v":""},null,null,null,null,null,"","",0,"","",0,"","",0,0,null,null,null,"1-","1-"]
[null,"",null,{"$f":"IF(C1236=\"\",\"\",(VLOOKUP(C1236,code2!$A$4:$B$30,2)))","v":""},null,null,null,null,null,"","",0,"","",0,"","",0,0,null,null,null,"1-","1-"]
[null,"",null,{"$f":"IF(C1237=\"\",\"\",(VLOOKUP(C1237,code2!$A$4:$B$30,2)))","v":""},null,null,null,null,null,"","",0,"","",0,"","",0,0,null,null,null,"1-","1-"]
[null,"",null,{"$f":"IF(C1238=\"\",\"\",(VLOOKUP(C1238,code2!$A$4:$B$30,2)))","v":""},null,null,null,null,null,"","",0,"","",0,"","",0,0,null,null,null,"1-","1-"]
[null,"",null,{"$f":"IF(C1239=\"\",\"\",(VLOOKUP(C1239,code2!$A$4:$B$30,2)))","v":""},null,null,null,null,null,"","",0,"","",0,"","",0,0,null,null,null,"1-","1-"]
[null,"",null,{"$f":"IF(C1240=\"\",\"\",(VLOOKUP(C1240,code2!$A$4:$B$30,2)))","v":""},null,null,null,null,null,"","",0,"","",0,"","",0,0,null,null,null,"1-","1-"]
[null,"",null,{"$f":"IF(C1241=\"\",\"\",(VLOOKUP(C1241,code2!$A$4:$B$30,2)))","v":""},null,null,null,null,null,"","",0,"","",0,"","",0,0,null,null,null,"1-","1-"]
[null,"",null,{"$f":"IF(C1242=\"\",\"\",(VLOOKUP(C1242,code2!$A$4:$B$30,2)))","v":""},null,null,null,null,null,"","",0,"","",0,"","",0,0,null,null,null,"1-","1-"]
[null,"",null,{"$f":"IF(C1243=\"\",\"\",(VLOOKUP(C1243,code2!$A$4:$B$30,2)))","v":""},null,null,null,null,null,"","",0,"","",0,"","",0,0,null,null,null,"1-","1-"]
[null,"",null,{"$f":"IF(C1244=\"\",\"\",(VLOOKUP(C1244,code2!$A$4:$B$30,2)))","v":""},null,null,null,null,null,"","",0,"","",0,"","",0,0,null,null,null,"1-","1-"]
[null,"",null,{"$f":"IF(C1245=\"\",\"\",(VLOOKUP(C1245,code2!$A$4:$B$30,2)))","v":""},null,null,null,null,null,"","",0,"","",0,"","",0,0,null,null,null,"1-","1-"]
[null,"",null,{"$f":"IF(C1246=\"\",\"\",(VLOOKUP(C1246,code2!$A$4:$B$30,2)))","v":""},null,null,null,null,null,"","",0,"","",0,"","",0,0,null,null,null,"1-","1-"]
[null,"",null,{"$f":"IF(C1247=\"\",\"\",(VLOOKUP(C1247,code2!$A$4:$B$30,2)))","v":""},null,null,null,null,null,"","",0,"","",0,"","",0,0,null,null,null,"1-","1-"]
[null,"",null,{"$f":"IF(C1248=\"\",\"\",(VLOOKUP(C1248,code2!$A$4:$B$30,2)))","v":""},null,null,null,null,null,"","",0,"","",0,"","",0,0,null,null,null,"1-","1-"]
[null,"",null,{"$f":"IF(C1249=\"\",\"\",(VLOOKUP(C1249,code2!$A$4:$B$30,2)))","v":""},null,null,null,null,null,"","",0,"","",0,"","",0,0,null,null,null,"1-","1-"]
[null,"",null,{"$f":"IF(C1250=\"\",\"\",(VLOOKUP(C1250,code2!$A$4:$B$30,2)))","v":""},null,null,null,null,null,"","",0,"","",0,"","",0,0,null,null,null,"1-","1-"]
[null,"",null,{"$f":"IF(C1251=\"\",\"\",(VLOOKUP(C1251,code2!$A$4:$B$30,2)))","v":""},null,null,null,null,null,"","",0,"","",0,"","",0,0,null,null,null,"1-","1-"]
[null,"",null,{"$f":"IF(C1252=\"\",\"\",(VLOOKUP(C1252,code2!$A$4:$B$30,2)))","v":""},null,null,null,null,null,"","",0,"","",0,"","",0,0,null,null,null,"1-","1-"]
[null,"",null,{"$f":"IF(C1253=\"\",\"\",(VLOOKUP(C1253,code2!$A$4:$B$30,2)))","v":""},null,null,null,null,null,"","",0,"","",0,"","",0,0,null,null,null,"1-","1-"]
[null,"",null,{"$f":"IF(C1254=\"\",\"\",(VLOOKUP(C1254,code2!$A$4:$B$30,2)))","v":""},null,null,null,null,null,"","",0,"","",0,"","",0,0,null,null,null,"1-","1-"]
[null,"",null,{"$f":"IF(C1255=\"\",\"\",(VLOOKUP(C1255,code2!$A$4:$B$30,2)))","v":""},null,null,null,null,null,"","",0,"","",0,"","",0,0,null,null,null,"1-","1-"]
[null,"",null,{"$f":"IF(C1256=\"\",\"\",(VLOOKUP(C1256,code2!$A$4:$B$30,2)))","v":""},null,null,null,null,null,"","",0,"","",0,"","",0,0,null,null,null,"1-","1-"]
[null,"",null,{"$f":"IF(C1257=\"\",\"\",(VLOOKUP(C1257,code2!$A$4:$B$30,2)))","v":""},null,null,null,null,null,"","",0,"","",0,"","",0,0,null,null,null,"1-","1-"]
[null,"",null,{"$f":"IF(C1258=\"\",\"\",(VLOOKUP(C1258,code2!$A$4:$B$30,2)))","v":""},null,null,null,null,null,"","",0,"","",0,"","",0,0,null,null,null,"1-","1-"]
[null,"",null,{"$f":"IF(C1259=\"\",\"\",(VLOOKUP(C1259,code2!$A$4:$B$30,2)))","v":""},null,null,null,null,null,"","",0,"","",0,"","",0,0,null,null,null,"1-","1-"]
[null,"",null,{"$f":"IF(C1260=\"\",\"\",(VLOOKUP(C1260,code2!$A$4:$B$30,2)))","v":""},null,null,null,null,null,"","",0,"","",0,"","",0,0,null,null,null,"1-","1-"]
[null,"",null,{"$f":"IF(C1261=\"\",\"\",(VLOOKUP(C1261,code2!$A$4:$B$30,2)))","v":""},null,null,null,null,null,"","",0,"","",0,"","",0,0,null,null,null,"1-","1-"]
[null,"",null,{"$f":"IF(C1262=\"\",\"\",(VLOOKUP(C1262,code2!$A$4:$B$30,2)))","v":""},null,null,null,null,null,"","",0,"","",0,"","",0,0,null,null,null,"1-","1-"]
[null,"",null,{"$f":"IF(C1263=\"\",\"\",(VLOOKUP(C1263,code2!$A$4:$B$30,2)))","v":""},null,null,null,null,null,"","",0,"","",0,"","",0,0,null,null,null,"1-","1-"]
[null,"",null,{"$f":"IF(C1264=\"\",\"\",(VLOOKUP(C1264,code2!$A$4:$B$30,2)))","v":""},null,null,null,null,null,"","",0,"","",0,"","",0,0,null,null,null,{"$f":"MONTH(A1264)&\"-\"&D1264","v":"1-"},{"$f":"MONTH(A1264)&\"-\"&D1264&E1264","v":"1-"}]
[null,"",null,{"$f":"IF(C1265=\"\",\"\",(VLOOKUP(C1265,code2!$A$4:$B$30,2)))","v":""},null,null,null,null,null,"","",0,"","",0,"","",0,0,null,null,null,"1-","1-"]
[null,"",null,{"$f":"IF(C1266=\"\",\"\",(VLOOKUP(C1266,code2!$A$4:$B$30,2)))","v":""},null,null,null,null,null,"","",0,"","",0,"","",0,0,null,null,null,"1-","1-"]
[null,"",null,{"$f":"IF(C1267=\"\",\"\",(VLOOKUP(C1267,code2!$A$4:$B$30,2)))","v":""},null,null,null,null,null,"","",0,"","",0,"","",0,0,null,null,null,"1-","1-"]
[null,"",null,{"$f":"IF(C1268=\"\",\"\",(VLOOKUP(C1268,code2!$A$4:$B$30,2)))","v":""},null,null,null,null,null,"","",0,"","",0,"","",0,0,null,null,null,"1-","1-"]
[null,"",null,{"$f":"IF(C1269=\"\",\"\",(VLOOKUP(C1269,code2!$A$4:$B$30,2)))","v":""},null,null,null,null,null,"","",0,"","",0,"","",0,0,null,null,null,"1-","1-"]
[null,"",null,{"$f":"IF(C1270=\"\",\"\",(VLOOKUP(C1270,code2!$A$4:$B$30,2)))","v":""},null,null,null,null,null,"","",0,"","",0,"","",0,0,null,null,null,"1-","1-"]
[null,"",null,{"$f":"IF(C1271=\"\",\"\",(VLOOKUP(C1271,code2!$A$4:$B$30,2)))","v":""},null,null,null,null,null,"","",0,"","",0,"","",0,0,null,null,null,"1-","1-"]
[null,"",null,{"$f":"IF(C1272=\"\",\"\",(VLOOKUP(C1272,code2!$A$4:$B$30,2)))","v":""},null,null,null,null,null,"","",0,"","",0,"","",0,0,null,null,null,"1-","1-"]
[null,"",null,{"$f":"IF(C1273=\"\",\"\",(VLOOKUP(C1273,code2!$A$4:$B$30,2)))","v":""},null,null,null,null,null,"","",0,"","",0,"","",0,0,null,null,null,"1-","1-"]
[null,"",null,{"$f":"IF(C1274=\"\",\"\",(VLOOKUP(C1274,code2!$A$4:$B$30,2)))","v":""},null,null,null,null,null,"","",0,"","",0,"","",0,0,null,null,null,"1-","1-"]
[null,"",null,{"$f":"IF(C1275=\"\",\"\",(VLOOKUP(C1275,code2!$A$4:$B$30,2)))","v":""},null,null,null,null,null,"","",0,"","",0,"","",0,0,null,null,null,"1-","1-"]
[null,"",null,{"$f":"IF(C1276=\"\",\"\",(VLOOKUP(C1276,code2!$A$4:$B$30,2)))","v":""},null,null,null,null,null,"","",0,"","",0,"","",0,0,null,null,null,"1-","1-"]
[null,"",null,{"$f":"IF(C1277=\"\",\"\",(VLOOKUP(C1277,code2!$A$4:$B$30,2)))","v":""},null,null,null,null,null,"","",0,"","",0,"","",0,0,null,null,null,"1-","1-"]
[null,"",null,{"$f":"IF(C1278=\"\",\"\",(VLOOKUP(C1278,code2!$A$4:$B$30,2)))","v":""},null,null,null,null,null,"","",0,"","",0,"","",0,0,null,null,null,"1-","1-"]
[null,"",null,{"$f":"IF(C1279=\"\",\"\",(VLOOKUP(C1279,code2!$A$4:$B$30,2)))","v":""},null,null,null,null,null,"","",0,"","",0,"","",0,0,null,null,null,"1-","1-"]
[null,"",null,{"$f":"IF(C1280=\"\",\"\",(VLOOKUP(C1280,code2!$A$4:$B$30,2)))","v":""},null,null,null,null,null,"","",0,"","",0,"","",0,0,null,null,null,"1-","1-"]
[null,"",null,{"$f":"IF(C1281=\"\",\"\",(VLOOKUP(C1281,code2!$A$4:$B$30,2)))","v":""},null,null,null,null,null,"","",0,"","",0,"","",0,0,null,null,null,"1-","1-"]
[null,"",null,{"$f":"IF(C1282=\"\",\"\",(VLOOKUP(C1282,code2!$A$4:$B$30,2)))","v":""},null,null,null,null,null,"","",0,"","",0,"","",0,0,null,null,null,"1-","1-"]
[null,"",null,{"$f":"IF(C1283=\"\",\"\",(VLOOKUP(C1283,code2!$A$4:$B$30,2)))","v":""},null,null,null,null,null,"","",0,"","",0,"","",0,0,null,null,null,"1-","1-"]
[null,"",null,{"$f":"IF(C1284=\"\",\"\",(VLOOKUP(C1284,code2!$A$4:$B$30,2)))","v":""},null,null,null,null,null,"","",0,"","",0,"","",0,0,null,null,null,"1-","1-"]
[null,"",null,{"$f":"IF(C1285=\"\",\"\",(VLOOKUP(C1285,code2!$A$4:$B$30,2)))","v":""},null,null,null,null,null,"","",0,"","",0,"","",0,0,null,null,null,"1-","1-"]
[null,"",null,{"$f":"IF(C1286=\"\",\"\",(VLOOKUP(C1286,code2!$A$4:$B$30,2)))","v":""},null,null,null,null,null,"","",0,"","",0,"","",0,0,null,null,null,"1-","1-"]
[null,{"$f":"IF(A1287=\"\",\"\",A1287)","v":""},null,{"$f":"IF(C1287=\"\",\"\",(VLOOKUP(C1287,code2!$A$4:$B$30,2)))","v":""},null,null,null,null,null,{"$f":"IF(I1287=\"現金\",G1287,\"\")","v":""},{"$f":"IF(I1287=\"現金\",H1287,\"\")","v":""},{"$f":"IF(J1287&K1287=\"\",L1286,L1286+J1287-K1287)","v":0},{"$f":"IF(I1287=\"通帳\",G1287,\"\")","v":""},{"$f":"IF(I1287=\"通帳\",H1287,\"\")","v":""},{"$f":"IF(M1287&N1287=\"\",O1286,O1286+M1287-N1287)","v":0},{"$f":"IF(I1287=\"郵便振替\",G1287,\"\")","v":""},{"$f":"IF(I1287=\"郵便振替\",H1287,\"\")","v":""},0,0,null,null,null,"1-","1-"]
[null,"",null,{"$f":"IF(C1288=\"\",\"\",(VLOOKUP(C1288,code2!$A$4:$B$30,2)))","v":""},null,null,null,null,null,"","",0,"","",0,"","",{"$f":"IF(P1288&Q1288=\"\",R1287,R1287+P1288-Q1288)","v":0},0,null,null,null,"1-","1-"]
[null,"",null,{"$f":"IF(C1289=\"\",\"\",(VLOOKUP(C1289,code2!$A$4:$B$30,2)))","v":""},null,null,null,null,null,"","",0,"","",0,"","",0,0,null,null,null,"1-","1-"]
[null,"",null,{"$f":"IF(C1290=\"\",\"\",(VLOOKUP(C1290,code2!$A$4:$B$30,2)))","v":""},null,null,null,null,null,"","",0,"","",0,"","",0,{"$f":"L1290+O1290+R1290","v":0},null,null,null,"1-","1-"]
[null,"",null,{"$f":"IF(C1291=\"\",\"\",(VLOOKUP(C1291,code2!$A$4:$B$30,2)))","v":""},null,null,null,null,null,"","",0,"","",0,"","",0,0,null,null,null,"1-","1-"]
[null,"",null,{"$f":"IF(C1292=\"\",\"\",(VLOOKUP(C1292,code2!$A$4:$B$30,2)))","v":""},null,null,null,null,null,"","",0,"","",0,"","",0,0,null,null,null,"1-","1-"]
[null,"",null,{"$f":"IF(C1293=\"\",\"\",(VLOOKUP(C1293,code2!$A$4:$B$30,2)))","v":""},null,null,null,null,null,"","",0,"","",0,"","",0,0,null,null,null,"1-","1-"]
[null,"",null,{"$f":"IF(C1294=\"\",\"\",(VLOOKUP(C1294,code2!$A$4:$B$30,2)))","v":""},null,null,null,null,null,"","",0,"","",0,"","",0,0,null,null,null,"1-","1-"]
[null,"",null,{"$f":"IF(C1295=\"\",\"\",(VLOOKUP(C1295,code2!$A$4:$B$30,2)))","v":""},null,null,null,null,null,"","",0,"","",0,"","",0,0,null,null,null,"1-","1-"]
[null,"",null,{"$f":"IF(C1296=\"\",\"\",(VLOOKUP(C1296,code2!$A$4:$B$30,2)))","v":""},null,null,null,null,null,"","",0,"","",0,"","",0,0,null,null,null,"1-","1-"]
[null,"",null,{"$f":"IF(C1297=\"\",\"\",(VLOOKUP(C1297,code2!$A$4:$B$30,2)))","v":""},null,null,null,null,null,"","",0,"","",0,"","",0,0,null,null,null,"1-","1-"]
[null,"",null,{"$f":"IF(C1298=\"\",\"\",(VLOOKUP(C1298,code2!$A$4:$B$30,2)))","v":""},null,null,null,null,null,"","",0,"","",0,"","",0,0,null,null,null,"1-","1-"]
[null,"",null,{"$f":"IF(C1299=\"\",\"\",(VLOOKUP(C1299,code2!$A$4:$B$30,2)))","v":""},null,null,null,null,null,"","",0,"","",0,"","",0,0,null,null,null,"1-","1-"]
[null,"",null,{"$f":"IF(C1300=\"\",\"\",(VLOOKUP(C1300,code2!$A$4:$B$30,2)))","v":""},null,null,null,null,null,"","",0,"","",0,"","",0,0,null,null,null,"1-","1-"]
[null,"",null,{"$f":"IF(C1301=\"\",\"\",(VLOOKUP(C1301,code2!$A$4:$B$30,2)))","v":""},null,null,null,null,null,"","",0,"","",0,"","",0,0,null,null,null,"1-","1-"]
[null,"",null,{"$f":"IF(C1302=\"\",\"\",(VLOOKUP(C1302,code2!$A$4:$B$30,2)))","v":""},null,null,null,null,null,"","",0,"","",0,"","",0,0,null,null,null,"1-","1-"]
[null,"",null,{"$f":"IF(C1303=\"\",\"\",(VLOOKUP(C1303,code2!$A$4:$B$30,2)))","v":""},null,null,null,null,null,"","",0,"","",0,"","",0,0,null,null,null,"1-","1-"]
[null,"",null,{"$f":"IF(C1304=\"\",\"\",(VLOOKUP(C1304,code2!$A$4:$B$30,2)))","v":""},null,null,null,null,null,"","",0,"","",0,"","",0,0,null,null,null,"1-","1-"]
[null,"",null,{"$f":"IF(C1305=\"\",\"\",(VLOOKUP(C1305,code2!$A$4:$B$30,2)))","v":""},null,null,null,null,null,"","",0,"","",0,"","",0,0,null,null,null,"1-","1-"]
[null,"",null,{"$f":"IF(C1306=\"\",\"\",(VLOOKUP(C1306,code2!$A$4:$B$30,2)))","v":""},null,null,null,null,null,"","",0,"","",0,"","",0,0,null,null,null,"1-","1-"]
[null,"",null,{"$f":"IF(C1307=\"\",\"\",(VLOOKUP(C1307,code2!$A$4:$B$30,2)))","v":""},null,null,null,null,null,"","",0,"","",0,"","",0,0,null,null,null,"1-","1-"]
[null,"",null,{"$f":"IF(C1308=\"\",\"\",(VLOOKUP(C1308,code2!$A$4:$B$30,2)))","v":""},null,null,null,null,null,"","",0,"","",0,"","",0,0,null,null,null,"1-","1-"]
[null,"",null,{"$f":"IF(C1309=\"\",\"\",(VLOOKUP(C1309,code2!$A$4:$B$30,2)))","v":""},null,null,null,null,null,"","",0,"","",0,"","",0,0,null,null,null,"1-","1-"]
[null,"",null,{"$f":"IF(C1310=\"\",\"\",(VLOOKUP(C1310,code2!$A$4:$B$30,2)))","v":""},null,null,null,null,null,"","",0,"","",0,"","",0,0,null,null,null,"1-","1-"]
[null,"",null,{"$f":"IF(C1311=\"\",\"\",(VLOOKUP(C1311,code2!$A$4:$B$30,2)))","v":""},null,null,null,null,null,"","",0,"","",0,"","",0,0,null,null,null,"1-","1-"]
[null,"",null,{"$f":"IF(C1312=\"\",\"\",(VLOOKUP(C1312,code2!$A$4:$B$30,2)))","v":""},null,null,null,null,null,"","",0,"","",0,"","",0,0,null,null,null,"1-","1-"]
[null,"",null,{"$f":"IF(C1313=\"\",\"\",(VLOOKUP(C1313,code2!$A$4:$B$30,2)))","v":""},null,null,null,null,null,"","",0,"","",0,"","",0,0,null,null,null,"1-","1-"]
[null,"",null,{"$f":"IF(C1314=\"\",\"\",(VLOOKUP(C1314,code2!$A$4:$B$30,2)))","v":""},null,null,null,null,null,"","",0,"","",0,"","",0,0,null,null,null,"1-","1-"]
[null,"",null,{"$f":"IF(C1315=\"\",\"\",(VLOOKUP(C1315,code2!$A$4:$B$30,2)))","v":""},null,null,null,null,null,"","",0,"","",0,"","",0,0,null,null,null,"1-","1-"]
[null,"",null,{"$f":"IF(C1316=\"\",\"\",(VLOOKUP(C1316,code2!$A$4:$B$30,2)))","v":""},null,null,null,null,null,"","",0,"","",0,"","",0,0,null,null,null,"1-","1-"]
[null,"",null,{"$f":"IF(C1317=\"\",\"\",(VLOOKUP(C1317,code2!$A$4:$B$30,2)))","v":""},null,null,null,null,null,"","",0,"","",0,"","",0,0,null,null,null,"1-","1-"]
[null,"",null,{"$f":"IF(C1318=\"\",\"\",(VLOOKUP(C1318,code2!$A$4:$B$30,2)))","v":""},null,null,null,null,null,"","",0,"","",0,"","",0,0,null,null,null,"1-","1-"]
[null,"",null,{"$f":"IF(C1319=\"\",\"\",(VLOOKUP(C1319,code2!$A$4:$B$30,2)))","v":""},null,null,null,null,null,"","",0,"","",0,"","",0,0,null,null,null,"1-","1-"]
[null,"",null,{"$f":"IF(C1320=\"\",\"\",(VLOOKUP(C1320,code2!$A$4:$B$30,2)))","v":""},null,null,null,null,null,"","",0,"","",0,"","",0,0,null,null,null,"1-","1-"]
[null,"",null,{"$f":"IF(C1321=\"\",\"\",(VLOOKUP(C1321,code2!$A$4:$B$30,2)))","v":""},null,null,null,null,null,"","",0,"","",0,"","",0,0,null,null,null,"1-","1-"]
[null,"",null,{"$f":"IF(C1322=\"\",\"\",(VLOOKUP(C1322,code2!$A$4:$B$30,2)))","v":""},null,null,null,null,null,"","",0,"","",0,"","",0,0,null,null,null,"1-","1-"]
[null,"",null,{"$f":"IF(C1323=\"\",\"\",(VLOOKUP(C1323,code2!$A$4:$B$30,2)))","v":""},null,null,null,null,null,"","",0,"","",0,"","",0,0,null,null,null,"1-","1-"]
[null,"",null,{"$f":"IF(C1324=\"\",\"\",(VLOOKUP(C1324,code2!$A$4:$B$30,2)))","v":""},null,null,null,null,null,"","",0,"","",0,"","",0,0,null,null,null,"1-","1-"]
[null,"",null,{"$f":"IF(C1325=\"\",\"\",(VLOOKUP(C1325,code2!$A$4:$B$30,2)))","v":""},null,null,null,null,null,"","",0,"","",0,"","",0,0,null,null,null,"1-","1-"]
[null,"",null,{"$f":"IF(C1326=\"\",\"\",(VLOOKUP(C1326,code2!$A$4:$B$30,2)))","v":""},null,null,null,null,null,"","",0,"","",0,"","",0,0,null,null,null,"1-","1-"]
[null,"",null,{"$f":"IF(C1327=\"\",\"\",(VLOOKUP(C1327,code2!$A$4:$B$30,2)))","v":""},null,null,null,null,null,"","",0,"","",0,"","",0,0,null,null,null,"1-","1-"]
[null,"",null,{"$f":"IF(C1328=\"\",\"\",(VLOOKUP(C1328,code2!$A$4:$B$30,2)))","v":""},null,null,null,null,null,"","",0,"","",0,"","",0,0,null,null,null,{"$f":"MONTH(A1328)&\"-\"&D1328","v":"1-"},{"$f":"MONTH(A1328)&\"-\"&D1328&E1328","v":"1-"}]
[null,"",null,{"$f":"IF(C1329=\"\",\"\",(VLOOKUP(C1329,code2!$A$4:$B$30,2)))","v":""},null,null,null,null,null,"","",0,"","",0,"","",0,0,null,null,null,"1-","1-"]
[null,"",null,{"$f":"IF(C1330=\"\",\"\",(VLOOKUP(C1330,code2!$A$4:$B$30,2)))","v":""},null,null,null,null,null,"","",0,"","",0,"","",0,0,null,null,null,"1-","1-"]
[null,"",null,{"$f":"IF(C1331=\"\",\"\",(VLOOKUP(C1331,code2!$A$4:$B$30,2)))","v":""},null,null,null,null,null,"","",0,"","",0,"","",0,0,null,null,null,"1-","1-"]
[null,"",null,{"$f":"IF(C1332=\"\",\"\",(VLOOKUP(C1332,code2!$A$4:$B$30,2)))","v":""},null,null,null,null,null,"","",0,"","",0,"","",0,0,null,null,null,"1-","1-"]
[null,"",null,{"$f":"IF(C1333=\"\",\"\",(VLOOKUP(C1333,code2!$A$4:$B$30,2)))","v":""},null,null,null,null,null,"","",0,"","",0,"","",0,0,null,null,null,"1-","1-"]
[null,"",null,{"$f":"IF(C1334=\"\",\"\",(VLOOKUP(C1334,code2!$A$4:$B$30,2)))","v":""},null,null,null,null,null,"","",0,"","",0,"","",0,0,null,null,null,"1-","1-"]
[null,"",null,{"$f":"IF(C1335=\"\",\"\",(VLOOKUP(C1335,code2!$A$4:$B$30,2)))","v":""},null,null,null,null,null,"","",0,"","",0,"","",0,0,null,null,null,"1-","1-"]
[null,"",null,{"$f":"IF(C1336=\"\",\"\",(VLOOKUP(C1336,code2!$A$4:$B$30,2)))","v":""},null,null,null,null,null,"","",0,"","",0,"","",0,0,null,null,null,"1-","1-"]
[null,"",null,{"$f":"IF(C1337=\"\",\"\",(VLOOKUP(C1337,code2!$A$4:$B$30,2)))","v":""},null,null,null,null,null,"","",0,"","",0,"","",0,0,null,null,null,"1-","1-"]
[null,"",null,{"$f":"IF(C1338=\"\",\"\",(VLOOKUP(C1338,code2!$A$4:$B$30,2)))","v":""},null,null,null,null,null,"","",0,"","",0,"","",0,0,null,null,null,"1-","1-"]
[null,"",null,{"$f":"IF(C1339=\"\",\"\",(VLOOKUP(C1339,code2!$A$4:$B$30,2)))","v":""},null,null,null,null,null,"","",0,"","",0,"","",0,0,null,null,null,"1-","1-"]
[null,"",null,{"$f":"IF(C1340=\"\",\"\",(VLOOKUP(C1340,code2!$A$4:$B$30,2)))","v":""},null,null,null,null,null,"","",0,"","",0,"","",0,0,null,null,null,"1-","1-"]
[null,"",null,{"$f":"IF(C1341=\"\",\"\",(VLOOKUP(C1341,code2!$A$4:$B$30,2)))","v":""},null,null,null,null,null,"","",0,"","",0,"","",0,0,null,null,null,"1-","1-"]
[null,"",null,{"$f":"IF(C1342=\"\",\"\",(VLOOKUP(C1342,code2!$A$4:$B$30,2)))","v":""},null,null,null,null,null,"","",0,"","",0,"","",0,0,null,null,null,"1-","1-"]
[null,"",null,{"$f":"IF(C1343=\"\",\"\",(VLOOKUP(C1343,code2!$A$4:$B$30,2)))","v":""},null,null,null,null,null,"","",0,"","",0,"","",0,0,null,null,null,"1-","1-"]
[null,"",null,{"$f":"IF(C1344=\"\",\"\",(VLOOKUP(C1344,code2!$A$4:$B$30,2)))","v":""},null,null,null,null,null,"","",0,"","",0,"","",0,0,null,null,null,"1-","1-"]
[null,"",null,{"$f":"IF(C1345=\"\",\"\",(VLOOKUP(C1345,code2!$A$4:$B$30,2)))","v":""},null,null,null,null,null,"","",0,"","",0,"","",0,0,null,null,null,"1-","1-"]
[null,"",null,{"$f":"IF(C1346=\"\",\"\",(VLOOKUP(C1346,code2!$A$4:$B$30,2)))","v":""},null,null,null,null,null,"","",0,"","",0,"","",0,0,null,null,null,"1-","1-"]
[null,"",null,{"$f":"IF(C1347=\"\",\"\",(VLOOKUP(C1347,code2!$A$4:$B$30,2)))","v":""},null,null,null,null,null,"","",0,"","",0,"","",0,0,null,null,null,"1-","1-"]
[null,"",null,{"$f":"IF(C1348=\"\",\"\",(VLOOKUP(C1348,code2!$A$4:$B$30,2)))","v":""},null,null,null,null,null,"","",0,"","",0,"","",0,0,null,null,null,"1-","1-"]
[null,"",null,{"$f":"IF(C1349=\"\",\"\",(VLOOKUP(C1349,code2!$A$4:$B$30,2)))","v":""},null,null,null,null,null,"","",0,"","",0,"","",0,0,null,null,null,"1-","1-"]
[null,"",null,{"$f":"IF(C1350=\"\",\"\",(VLOOKUP(C1350,code2!$A$4:$B$30,2)))","v":""},null,null,null,null,null,"","",0,"","",0,"","",0,0,null,null,null,"1-","1-"]
[null,{"$f":"IF(A1351=\"\",\"\",A1351)","v":""},null,{"$f":"IF(C1351=\"\",\"\",(VLOOKUP(C1351,code2!$A$4:$B$30,2)))","v":""},null,null,null,null,null,{"$f":"IF(I1351=\"現金\",G1351,\"\")","v":""},{"$f":"IF(I1351=\"現金\",H1351,\"\")","v":""},{"$f":"IF(J1351&K1351=\"\",L1350,L1350+J1351-K1351)","v":0},{"$f":"IF(I1351=\"通帳\",G1351,\"\")","v":""},{"$f":"IF(I1351=\"通帳\",H1351,\"\")","v":""},{"$f":"IF(M1351&N1351=\"\",O1350,O1350+M1351-N1351)","v":0},{"$f":"IF(I1351=\"郵便振替\",G1351,\"\")","v":""},{"$f":"IF(I1351=\"郵便振替\",H1351,\"\")","v":""},0,0,null,null,null,"1-","1-"]
[null,"",null,{"$f":"IF(C1352=\"\",\"\",(VLOOKUP(C1352,code2!$A$4:$B$30,2)))","v":""},null,null,null,null,null,"","",0,"","",0,"","",{"$f":"IF(P1352&Q1352=\"\",R1351,R1351+P1352-Q1352)","v":0},0,null,null,null,"1-","1-"]
[null,"",null,{"$f":"IF(C1353=\"\",\"\",(VLOOKUP(C1353,code2!$A$4:$B$30,2)))","v":""},null,null,null,null,null,"","",0,"","",0,"","",0,0,null,null,null,"1-","1-"]
[null,"",null,{"$f":"IF(C1354=\"\",\"\",(VLOOKUP(C1354,code2!$A$4:$B$30,2)))","v":""},null,null,null,null,null,"","",0,"","",0,"","",0,{"$f":"L1354+O1354+R1354","v":0},null,null,null,"1-","1-"]
[null,"",null,{"$f":"IF(C1355=\"\",\"\",(VLOOKUP(C1355,code2!$A$4:$B$30,2)))","v":""},null,null,null,null,null,"","",0,"","",0,"","",0,0,null,null,null,"1-","1-"]
[null,"",null,{"$f":"IF(C1356=\"\",\"\",(VLOOKUP(C1356,code2!$A$4:$B$30,2)))","v":""},null,null,null,null,null,"","",0,"","",0,"","",0,0,null,null,null,"1-","1-"]
[null,"",null,{"$f":"IF(C1357=\"\",\"\",(VLOOKUP(C1357,code2!$A$4:$B$30,2)))","v":""},null,null,null,null,null,"","",0,"","",0,"","",0,0,null,null,null,"1-","1-"]
[null,"",null,{"$f":"IF(C1358=\"\",\"\",(VLOOKUP(C1358,code2!$A$4:$B$30,2)))","v":""},null,null,null,null,null,"","",0,"","",0,"","",0,0,null,null,null,"1-","1-"]
[null,"",null,{"$f":"IF(C1359=\"\",\"\",(VLOOKUP(C1359,code2!$A$4:$B$30,2)))","v":""},null,null,null,null,null,"","",0,"","",0,"","",0,0,null,null,null,"1-","1-"]
[null,"",null,{"$f":"IF(C1360=\"\",\"\",(VLOOKUP(C1360,code2!$A$4:$B$30,2)))","v":""},null,null,null,null,null,"","",0,"","",0,"","",0,0,null,null,null,"1-","1-"]
[null,"",null,{"$f":"IF(C1361=\"\",\"\",(VLOOKUP(C1361,code2!$A$4:$B$30,2)))","v":""},null,null,null,null,null,"","",0,"","",0,"","",0,0,null,null,null,"1-","1-"]
[null,"",null,{"$f":"IF(C1362=\"\",\"\",(VLOOKUP(C1362,code2!$A$4:$B$30,2)))","v":""},null,null,null,null,null,"","",0,"","",0,"","",0,0,null,null,null,"1-","1-"]
[null,"",null,{"$f":"IF(C1363=\"\",\"\",(VLOOKUP(C1363,code2!$A$4:$B$30,2)))","v":""},null,null,null,null,null,"","",0,"","",0,"","",0,0,null,null,null,"1-","1-"]
[null,"",null,{"$f":"IF(C1364=\"\",\"\",(VLOOKUP(C1364,code2!$A$4:$B$30,2)))","v":""},null,null,null,null,null,"","",0,"","",0,"","",0,0,null,null,null,"1-","1-"]
[null,"",null,{"$f":"IF(C1365=\"\",\"\",(VLOOKUP(C1365,code2!$A$4:$B$30,2)))","v":""},null,null,null,null,null,"","",0,"","",0,"","",0,0,null,null,null,"1-","1-"]
[null,"",null,{"$f":"IF(C1366=\"\",\"\",(VLOOKUP(C1366,code2!$A$4:$B$30,2)))","v":""},null,null,null,null,null,"","",0,"","",0,"","",0,0,null,null,null,"1-","1-"]
[null,"",null,{"$f":"IF(C1367=\"\",\"\",(VLOOKUP(C1367,code2!$A$4:$B$30,2)))","v":""},null,null,null,null,null,"","",0,"","",0,"","",0,0,null,null,null,"1-","1-"]
[null,"",null,{"$f":"IF(C1368=\"\",\"\",(VLOOKUP(C1368,code2!$A$4:$B$30,2)))","v":""},null,null,null,null,null,"","",0,"","",0,"","",0,0,null,null,null,"1-","1-"]
[null,"",null,{"$f":"IF(C1369=\"\",\"\",(VLOOKUP(C1369,code2!$A$4:$B$30,2)))","v":""},null,null,null,null,null,"","",0,"","",0,"","",0,0,null,null,null,"1-","1-"]
[null,"",null,{"$f":"IF(C1370=\"\",\"\",(VLOOKUP(C1370,code2!$A$4:$B$30,2)))","v":""},null,null,null,null,null,"","",0,"","",0,"","",0,0,null,null,null,"1-","1-"]
[null,"",null,{"$f":"IF(C1371=\"\",\"\",(VLOOKUP(C1371,code2!$A$4:$B$30,2)))","v":""},null,null,null,null,null,"","",0,"","",0,"","",0,0,null,null,null,"1-","1-"]
[null,"",null,{"$f":"IF(C1372=\"\",\"\",(VLOOKUP(C1372,code2!$A$4:$B$30,2)))","v":""},null,null,null,null,null,"","",0,"","",0,"","",0,0,null,null,null,"1-","1-"]
[null,"",null,{"$f":"IF(C1373=\"\",\"\",(VLOOKUP(C1373,code2!$A$4:$B$30,2)))","v":""},null,null,null,null,null,"","",0,"","",0,"","",0,0,null,null,null,"1-","1-"]
[null,"",null,{"$f":"IF(C1374=\"\",\"\",(VLOOKUP(C1374,code2!$A$4:$B$30,2)))","v":""},null,null,null,null,null,"","",0,"","",0,"","",0,0,null,null,null,"1-","1-"]
[null,"",null,{"$f":"IF(C1375=\"\",\"\",(VLOOKUP(C1375,code2!$A$4:$B$30,2)))","v":""},null,null,null,null,null,"","",0,"","",0,"","",0,0,null,null,null,"1-","1-"]
[null,"",null,{"$f":"IF(C1376=\"\",\"\",(VLOOKUP(C1376,code2!$A$4:$B$30,2)))","v":""},null,null,null,null,null,"","",0,"","",0,"","",0,0,null,null,null,"1-","1-"]
[null,"",null,{"$f":"IF(C1377=\"\",\"\",(VLOOKUP(C1377,code2!$A$4:$B$30,2)))","v":""},null,null,null,null,null,"","",0,"","",0,"","",0,0,null,null,null,"1-","1-"]
[null,"",null,{"$f":"IF(C1378=\"\",\"\",(VLOOKUP(C1378,code2!$A$4:$B$30,2)))","v":""},null,null,null,null,null,"","",0,"","",0,"","",0,0,null,null,null,"1-","1-"]
[null,"",null,{"$f":"IF(C1379=\"\",\"\",(VLOOKUP(C1379,code2!$A$4:$B$30,2)))","v":""},null,null,null,null,null,"","",0,"","",0,"","",0,0,null,null,null,"1-","1-"]
[null,"",null,{"$f":"IF(C1380=\"\",\"\",(VLOOKUP(C1380,code2!$A$4:$B$30,2)))","v":""},null,null,null,null,null,"","",0,"","",0,"","",0,0,null,null,null,"1-","1-"]
[null,"",null,{"$f":"IF(C1381=\"\",\"\",(VLOOKUP(C1381,code2!$A$4:$B$30,2)))","v":""},null,null,null,null,null,"","",0,"","",0,"","",0,0,null,null,null,"1-","1-"]
[null,"",null,{"$f":"IF(C1382=\"\",\"\",(VLOOKUP(C1382,code2!$A$4:$B$30,2)))","v":""},null,null,null,null,null,"","",0,"","",0,"","",0,0,null,null,null,"1-","1-"]
[null,"",null,{"$f":"IF(C1383=\"\",\"\",(VLOOKUP(C1383,code2!$A$4:$B$30,2)))","v":""},null,null,null,null,null,"","",0,"","",0,"","",0,0,null,null,null,"1-","1-"]
[null,"",null,{"$f":"IF(C1384=\"\",\"\",(VLOOKUP(C1384,code2!$A$4:$B$30,2)))","v":""},null,null,null,null,null,"","",0,"","",0,"","",0,0,null,null,null,"1-","1-"]
[null,"",null,{"$f":"IF(C1385=\"\",\"\",(VLOOKUP(C1385,code2!$A$4:$B$30,2)))","v":""},null,null,null,null,null,"","",0,"","",0,"","",0,0,null,null,null,"1-","1-"]
[null,"",null,{"$f":"IF(C1386=\"\",\"\",(VLOOKUP(C1386,code2!$A$4:$B$30,2)))","v":""},null,null,null,null,null,"","",0,"","",0,"","",0,0,null,null,null,"1-","1-"]
[null,"",null,{"$f":"IF(C1387=\"\",\"\",(VLOOKUP(C1387,code2!$A$4:$B$30,2)))","v":""},null,null,null,null,null,"","",0,"","",0,"","",0,0,null,null,null,"1-","1-"]
[null,"",null,{"$f":"IF(C1388=\"\",\"\",(VLOOKUP(C1388,code2!$A$4:$B$30,2)))","v":""},null,null,null,null,null,"","",0,"","",0,"","",0,0,null,null,null,"1-","1-"]
[null,"",null,{"$f":"IF(C1389=\"\",\"\",(VLOOKUP(C1389,code2!$A$4:$B$30,2)))","v":""},null,null,null,null,null,"","",0,"","",0,"","",0,0,null,null,null,"1-","1-"]
[null,"",null,{"$f":"IF(C1390=\"\",\"\",(VLOOKUP(C1390,code2!$A$4:$B$30,2)))","v":""},null,null,null,null,null,"","",0,"","",0,"","",0,0,null,null,null,"1-","1-"]
[null,"",null,{"$f":"IF(C1391=\"\",\"\",(VLOOKUP(C1391,code2!$A$4:$B$30,2)))","v":""},null,null,null,null,null,"","",0,"","",0,"","",0,0,null,null,null,"1-","1-"]
[null,"",null,{"$f":"IF(C1392=\"\",\"\",(VLOOKUP(C1392,code2!$A$4:$B$30,2)))","v":""},null,null,null,null,null,"","",0,"","",0,"","",0,0,null,null,null,{"$f":"MONTH(A1392)&\"-\"&D1392","v":"1-"},{"$f":"MONTH(A1392)&\"-\"&D1392&E1392","v":"1-"}]
[null,"",null,{"$f":"IF(C1393=\"\",\"\",(VLOOKUP(C1393,code2!$A$4:$B$30,2)))","v":""},null,null,null,null,null,"","",0,"","",0,"","",0,0,null,null,null,"1-","1-"]
[null,"",null,{"$f":"IF(C1394=\"\",\"\",(VLOOKUP(C1394,code2!$A$4:$B$30,2)))","v":""},null,null,null,null,null,"","",0,"","",0,"","",0,0,null,null,null,"1-","1-"]
[null,"",null,{"$f":"IF(C1395=\"\",\"\",(VLOOKUP(C1395,code2!$A$4:$B$30,2)))","v":""},null,null,null,null,null,"","",0,"","",0,"","",0,0,null,null,null,"1-","1-"]
[null,"",null,{"$f":"IF(C1396=\"\",\"\",(VLOOKUP(C1396,code2!$A$4:$B$30,2)))","v":""},null,null,null,null,null,"","",0,"","",0,"","",0,0,null,null,null,"1-","1-"]
[null,"",null,{"$f":"IF(C1397=\"\",\"\",(VLOOKUP(C1397,code2!$A$4:$B$30,2)))","v":""},null,null,null,null,null,"","",0,"","",0,"","",0,0,null,null,null,"1-","1-"]
[null,"",null,{"$f":"IF(C1398=\"\",\"\",(VLOOKUP(C1398,code2!$A$4:$B$30,2)))","v":""},null,null,null,null,null,"","",0,"","",0,"","",0,0,null,null,null,"1-","1-"]
[null,"",null,{"$f":"IF(C1399=\"\",\"\",(VLOOKUP(C1399,code2!$A$4:$B$30,2)))","v":""},null,null,null,null,null,"","",0,"","",0,"","",0,0,null,null,null,"1-","1-"]
[null,"",null,{"$f":"IF(C1400=\"\",\"\",(VLOOKUP(C1400,code2!$A$4:$B$30,2)))","v":""},null,null,null,null,null,"","",0,"","",0,"","",0,0,null,null,null,"1-","1-"]
[null,"",null,{"$f":"IF(C1401=\"\",\"\",(VLOOKUP(C1401,code2!$A$4:$B$30,2)))","v":""},null,null,null,null,null,"","",0,"","",0,"","",0,0,null,null,null,"1-","1-"]
[null,"",null,{"$f":"IF(C1402=\"\",\"\",(VLOOKUP(C1402,code2!$A$4:$B$30,2)))","v":""},null,null,null,null,null,"","",0,"","",0,"","",0,0,null,null,null,"1-","1-"]
[null,"",null,{"$f":"IF(C1403=\"\",\"\",(VLOOKUP(C1403,code2!$A$4:$B$30,2)))","v":""},null,null,null,null,null,"","",0,"","",0,"","",0,0,null,null,null,"1-","1-"]
[null,"",null,{"$f":"IF(C1404=\"\",\"\",(VLOOKUP(C1404,code2!$A$4:$B$30,2)))","v":""},null,null,null,null,null,"","",0,"","",0,"","",0,0,null,null,null,"1-","1-"]
[null,"",null,{"$f":"IF(C1405=\"\",\"\",(VLOOKUP(C1405,code2!$A$4:$B$30,2)))","v":""},null,null,null,null,null,"","",0,"","",0,"","",0,0,null,null,null,"1-","1-"]
[null,"",null,{"$f":"IF(C1406=\"\",\"\",(VLOOKUP(C1406,code2!$A$4:$B$30,2)))","v":""},null,null,null,null,null,"","",0,"","",0,"","",0,0,null,null,null,"1-","1-"]
[null,"",null,{"$f":"IF(C1407=\"\",\"\",(VLOOKUP(C1407,code2!$A$4:$B$30,2)))","v":""},null,null,null,null,null,"","",0,"","",0,"","",0,0,null,null,null,"1-","1-"]
[null,"",null,{"$f":"IF(C1408=\"\",\"\",(VLOOKUP(C1408,code2!$A$4:$B$30,2)))","v":""},null,null,null,null,null,"","",0,"","",0,"","",0,0,null,null,null,"1-","1-"]
[null,"",null,{"$f":"IF(C1409=\"\",\"\",(VLOOKUP(C1409,code2!$A$4:$B$30,2)))","v":""},null,null,null,null,null,"","",0,"","",0,"","",0,0,null,null,null,"1-","1-"]
[null,"",null,{"$f":"IF(C1410=\"\",\"\",(VLOOKUP(C1410,code2!$A$4:$B$30,2)))","v":""},null,null,null,null,null,"","",0,"","",0,"","",0,0,null,null,null,"1-","1-"]
[null,"",null,{"$f":"IF(C1411=\"\",\"\",(VLOOKUP(C1411,code2!$A$4:$B$30,2)))","v":""},null,null,null,null,null,"","",0,"","",0,"","",0,0,null,null,null,"1-","1-"]
[null,"",null,{"$f":"IF(C1412=\"\",\"\",(VLOOKUP(C1412,code2!$A$4:$B$30,2)))","v":""},null,null,null,null,null,"","",0,"","",0,"","",0,0,null,null,null,"1-","1-"]
[null,"",null,{"$f":"IF(C1413=\"\",\"\",(VLOOKUP(C1413,code2!$A$4:$B$30,2)))","v":""},null,null,null,null,null,"","",0,"","",0,"","",0,0,null,null,null,"1-","1-"]
[null,"",null,{"$f":"IF(C1414=\"\",\"\",(VLOOKUP(C1414,code2!$A$4:$B$30,2)))","v":""},null,null,null,null,null,"","",0,"","",0,"","",0,0,null,null,null,"1-","1-"]
[null,{"$f":"IF(A1415=\"\",\"\",A1415)","v":""},null,{"$f":"IF(C1415=\"\",\"\",(VLOOKUP(C1415,code2!$A$4:$B$30,2)))","v":""},null,null,null,null,null,{"$f":"IF(I1415=\"現金\",G1415,\"\")","v":""},{"$f":"IF(I1415=\"現金\",H1415,\"\")","v":""},{"$f":"IF(J1415&K1415=\"\",L1414,L1414+J1415-K1415)","v":0},{"$f":"IF(I1415=\"通帳\",G1415,\"\")","v":""},{"$f":"IF(I1415=\"通帳\",H1415,\"\")","v":""},{"$f":"IF(M1415&N1415=\"\",O1414,O1414+M1415-N1415)","v":0},{"$f":"IF(I1415=\"郵便振替\",G1415,\"\")","v":""},{"$f":"IF(I1415=\"郵便振替\",H1415,\"\")","v":""},0,0,null,null,null,"1-","1-"]
[null,"",null,{"$f":"IF(C1416=\"\",\"\",(VLOOKUP(C1416,code2!$A$4:$B$30,2)))","v":""},null,null,null,null,null,"","",0,"","",0,"","",{"$f":"IF(P1416&Q1416=\"\",R1415,R1415+P1416-Q1416)","v":0},0,null,null,null,"1-","1-"]
[null,"",null,{"$f":"IF(C1417=\"\",\"\",(VLOOKUP(C1417,code2!$A$4:$B$30,2)))","v":""},null,null,null,null,null,"","",0,"","",0,"","",0,0,null,null,null,"1-","1-"]
[null,"",null,{"$f":"IF(C1418=\"\",\"\",(VLOOKUP(C1418,code2!$A$4:$B$30,2)))","v":""},null,null,null,null,null,"","",0,"","",0,"","",0,{"$f":"L1418+O1418+R1418","v":0},null,null,null,"1-","1-"]
[null,"",null,{"$f":"IF(C1419=\"\",\"\",(VLOOKUP(C1419,code2!$A$4:$B$30,2)))","v":""},null,null,null,null,null,"","",0,"","",0,"","",0,0,null,null,null,"1-","1-"]
[null,"",null,{"$f":"IF(C1420=\"\",\"\",(VLOOKUP(C1420,code2!$A$4:$B$30,2)))","v":""},null,null,null,null,null,"","",0,"","",0,"","",0,0,null,null,null,"1-","1-"]
[null,"",null,{"$f":"IF(C1421=\"\",\"\",(VLOOKUP(C1421,code2!$A$4:$B$30,2)))","v":""},null,null,null,null,null,"","",0,"","",0,"","",0,0,null,null,null,"1-","1-"]
[null,"",null,{"$f":"IF(C1422=\"\",\"\",(VLOOKUP(C1422,code2!$A$4:$B$30,2)))","v":""},null,null,null,null,null,"","",0,"","",0,"","",0,0,null,null,null,"1-","1-"]
[null,"",null,{"$f":"IF(C1423=\"\",\"\",(VLOOKUP(C1423,code2!$A$4:$B$30,2)))","v":""},null,null,null,null,null,"","",0,"","",0,"","",0,0,null,null,null,"1-","1-"]
[null,"",null,{"$f":"IF(C1424=\"\",\"\",(VLOOKUP(C1424,code2!$A$4:$B$30,2)))","v":""},null,null,null,null,null,"","",0,"","",0,"","",0,0,null,null,null,"1-","1-"]
[null,"",null,{"$f":"IF(C1425=\"\",\"\",(VLOOKUP(C1425,code2!$A$4:$B$30,2)))","v":""},null,null,null,null,null,"","",0,"","",0,"","",0,0,null,null,null,"1-","1-"]
[null,"",null,{"$f":"IF(C1426=\"\",\"\",(VLOOKUP(C1426,code2!$A$4:$B$30,2)))","v":""},null,null,null,null,null,"","",0,"","",0,"","",0,0,null,null,null,"1-","1-"]
[null,"",null,{"$f":"IF(C1427=\"\",\"\",(VLOOKUP(C1427,code2!$A$4:$B$30,2)))","v":""},null,null,null,null,null,"","",0,"","",0,"","",0,0,null,null,null,"1-","1-"]
[null,"",null,{"$f":"IF(C1428=\"\",\"\",(VLOOKUP(C1428,code2!$A$4:$B$30,2)))","v":""},null,null,null,null,null,"","",0,"","",0,"","",0,0,null,null,null,"1-","1-"]
[null,"",null,{"$f":"IF(C1429=\"\",\"\",(VLOOKUP(C1429,code2!$A$4:$B$30,2)))","v":""},null,null,null,null,null,"","",0,"","",0,"","",0,0,null,null,null,"1-","1-"]
[null,"",null,{"$f":"IF(C1430=\"\",\"\",(VLOOKUP(C1430,code2!$A$4:$B$30,2)))","v":""},null,null,null,null,null,"","",0,"","",0,"","",0,0,null,null,null,"1-","1-"]
[null,"",null,{"$f":"IF(C1431=\"\",\"\",(VLOOKUP(C1431,code2!$A$4:$B$30,2)))","v":""},null,null,null,null,null,"","",0,"","",0,"","",0,0,null,null,null,"1-","1-"]
[null,"",null,{"$f":"IF(C1432=\"\",\"\",(VLOOKUP(C1432,code2!$A$4:$B$30,2)))","v":""},null,null,null,null,null,"","",0,"","",0,"","",0,0,null,null,null,"1-","1-"]
[null,"",null,{"$f":"IF(C1433=\"\",\"\",(VLOOKUP(C1433,code2!$A$4:$B$30,2)))","v":""},null,null,null,null,null,"","",0,"","",0,"","",0,0,null,null,null,"1-","1-"]
[null,"",null,{"$f":"IF(C1434=\"\",\"\",(VLOOKUP(C1434,code2!$A$4:$B$30,2)))","v":""},null,null,null,null,null,"","",0,"","",0,"","",0,0,null,null,null,"1-","1-"]
[null,"",null,{"$f":"IF(C1435=\"\",\"\",(VLOOKUP(C1435,code2!$A$4:$B$30,2)))","v":""},null,null,null,null,null,"","",0,"","",0,"","",0,0,null,null,null,"1-","1-"]
[null,"",null,{"$f":"IF(C1436=\"\",\"\",(VLOOKUP(C1436,code2!$A$4:$B$30,2)))","v":""},null,null,null,null,null,"","",0,"","",0,"","",0,0,null,null,null,"1-","1-"]
[null,"",null,{"$f":"IF(C1437=\"\",\"\",(VLOOKUP(C1437,code2!$A$4:$B$30,2)))","v":""},null,null,null,null,null,"","",0,"","",0,"","",0,0,null,null,null,"1-","1-"]
[null,"",null,{"$f":"IF(C1438=\"\",\"\",(VLOOKUP(C1438,code2!$A$4:$B$30,2)))","v":""},null,null,null,null,null,"","",0,"","",0,"","",0,0,null,null,null,"1-","1-"]
[null,"",null,{"$f":"IF(C1439=\"\",\"\",(VLOOKUP(C1439,code2!$A$4:$B$30,2)))","v":""},null,null,null,null,null,"","",0,"","",0,"","",0,0,null,null,null,"1-","1-"]
[null,"",null,{"$f":"IF(C1440=\"\",\"\",(VLOOKUP(C1440,code2!$A$4:$B$30,2)))","v":""},null,null,null,null,null,"","",0,"","",0,"","",0,0,null,null,null,"1-","1-"]
[null,"",null,{"$f":"IF(C1441=\"\",\"\",(VLOOKUP(C1441,code2!$A$4:$B$30,2)))","v":""},null,null,null,null,null,"","",0,"","",0,"","",0,0,null,null,null,"1-","1-"]
[null,"",null,{"$f":"IF(C1442=\"\",\"\",(VLOOKUP(C1442,code2!$A$4:$B$30,2)))","v":""},null,null,null,null,null,"","",0,"","",0,"","",0,0,null,null,null,"1-","1-"]
[null,"",null,{"$f":"IF(C1443=\"\",\"\",(VLOOKUP(C1443,code2!$A$4:$B$30,2)))","v":""},null,null,null,null,null,"","",0,"","",0,"","",0,0,null,null,null,"1-","1-"]
[null,"",null,{"$f":"IF(C1444=\"\",\"\",(VLOOKUP(C1444,code2!$A$4:$B$30,2)))","v":""},null,null,null,null,null,"","",0,"","",0,"","",0,0,null,null,null,"1-","1-"]
[null,"",null,{"$f":"IF(C1445=\"\",\"\",(VLOOKUP(C1445,code2!$A$4:$B$30,2)))","v":""},null,null,null,null,null,"","",0,"","",0,"","",0,0,null,null,null,"1-","1-"]
[null,"",null,{"$f":"IF(C1446=\"\",\"\",(VLOOKUP(C1446,code2!$A$4:$B$30,2)))","v":""},null,null,null,null,null,"","",0,"","",0,"","",0,0,null,null,null,"1-","1-"]
[null,"",null,{"$f":"IF(C1447=\"\",\"\",(VLOOKUP(C1447,code2!$A$4:$B$30,2)))","v":""},null,null,null,null,null,"","",0,"","",0,"","",0,0,null,null,null,"1-","1-"]
[null,"",null,{"$f":"IF(C1448=\"\",\"\",(VLOOKUP(C1448,code2!$A$4:$B$30,2)))","v":""},null,null,null,null,null,"","",0,"","",0,"","",0,0,null,null,null,"1-","1-"]
[null,"",null,{"$f":"IF(C1449=\"\",\"\",(VLOOKUP(C1449,code2!$A$4:$B$30,2)))","v":""},null,null,null,null,null,"","",0,"","",0,"","",0,0,null,null,null,"1-","1-"]
[null,"",null,{"$f":"IF(C1450=\"\",\"\",(VLOOKUP(C1450,code2!$A$4:$B$30,2)))","v":""},null,null,null,null,null,"","",0,"","",0,"","",0,0,null,null,null,"1-","1-"]
[null,"",null,{"$f":"IF(C1451=\"\",\"\",(VLOOKUP(C1451,code2!$A$4:$B$30,2)))","v":""},null,null,null,null,null,"","",0,"","",0,"","",0,0,null,null,null,"1-","1-"]
[null,"",null,{"$f":"IF(C1452=\"\",\"\",(VLOOKUP(C1452,code2!$A$4:$B$30,2)))","v":""},null,null,null,null,null,"","",0,"","",0,"","",0,0,null,null,null,"1-","1-"]
[null,"",null,{"$f":"IF(C1453=\"\",\"\",(VLOOKUP(C1453,code2!$A$4:$B$30,2)))","v":""},null,null,null,null,null,"","",0,"","",0,"","",0,0,null,null,null,"1-","1-"]
[null,"",null,{"$f":"IF(C1454=\"\",\"\",(VLOOKUP(C1454,code2!$A$4:$B$30,2)))","v":""},null,null,null,null,null,"","",0,"","",0,"","",0,0,null,null,null,"1-","1-"]
[null,"",null,{"$f":"IF(C1455=\"\",\"\",(VLOOKUP(C1455,code2!$A$4:$B$30,2)))","v":""},null,null,null,null,null,"","",0,"","",0,"","",0,0,null,null,null,"1-","1-"]
[null,"",null,{"$f":"IF(C1456=\"\",\"\",(VLOOKUP(C1456,code2!$A$4:$B$30,2)))","v":""},null,null,null,null,null,"","",0,"","",0,"","",0,0,null,null,null,{"$f":"MONTH(A1456)&\"-\"&D1456","v":"1-"},{"$f":"MONTH(A1456)&\"-\"&D1456&E1456","v":"1-"}]
[null,"",null,{"$f":"IF(C1457=\"\",\"\",(VLOOKUP(C1457,code2!$A$4:$B$30,2)))","v":""},null,null,null,null,null,"","",0,"","",0,"","",0,0,null,null,null,"1-","1-"]
[null,"",null,{"$f":"IF(C1458=\"\",\"\",(VLOOKUP(C1458,code2!$A$4:$B$30,2)))","v":""},null,null,null,null,null,"","",0,"","",0,"","",0,0,null,null,null,"1-","1-"]
[null,"",null,{"$f":"IF(C1459=\"\",\"\",(VLOOKUP(C1459,code2!$A$4:$B$30,2)))","v":""},null,null,null,null,null,"","",0,"","",0,"","",0,0,null,null,null,"1-","1-"]
[null,"",null,{"$f":"IF(C1460=\"\",\"\",(VLOOKUP(C1460,code2!$A$4:$B$30,2)))","v":""},null,null,null,null,null,"","",0,"","",0,"","",0,0,null,null,null,"1-","1-"]
[null,"",null,{"$f":"IF(C1461=\"\",\"\",(VLOOKUP(C1461,code2!$A$4:$B$30,2)))","v":""},null,null,null,null,null,"","",0,"","",0,"","",0,0,null,null,null,"1-","1-"]
[null,"",null,{"$f":"IF(C1462=\"\",\"\",(VLOOKUP(C1462,code2!$A$4:$B$30,2)))","v":""},null,null,null,null,null,"","",0,"","",0,"","",0,0,null,null,null,"1-","1-"]
[null,"",null,{"$f":"IF(C1463=\"\",\"\",(VLOOKUP(C1463,code2!$A$4:$B$30,2)))","v":""},null,null,null,null,null,"","",0,"","",0,"","",0,0,null,null,null,"1-","1-"]
[null,"",null,{"$f":"IF(C1464=\"\",\"\",(VLOOKUP(C1464,code2!$A$4:$B$30,2)))","v":""},null,null,null,null,null,"","",0,"","",0,"","",0,0,null,null,null,"1-","1-"]
[null,"",null,{"$f":"IF(C1465=\"\",\"\",(VLOOKUP(C1465,code2!$A$4:$B$30,2)))","v":""},null,null,null,null,null,"","",0,"","",0,"","",0,0,null,null,null,"1-","1-"]
[null,"",null,{"$f":"IF(C1466=\"\",\"\",(VLOOKUP(C1466,code2!$A$4:$B$30,2)))","v":""},null,null,null,null,null,"","",0,"","",0,"","",0,0,null,null,null,"1-","1-"]
[null,"",null,{"$f":"IF(C1467=\"\",\"\",(VLOOKUP(C1467,code2!$A$4:$B$30,2)))","v":""},null,null,null,null,null,"","",0,"","",0,"","",0,0,null,null,null,"1-","1-"]
[null,"",null,{"$f":"IF(C1468=\"\",\"\",(VLOOKUP(C1468,code2!$A$4:$B$30,2)))","v":""},null,null,null,null,null,"","",0,"","",0,"","",0,0,null,null,null,"1-","1-"]
[null,"",null,{"$f":"IF(C1469=\"\",\"\",(VLOOKUP(C1469,code2!$A$4:$B$30,2)))","v":""},null,null,null,null,null,"","",0,"","",0,"","",0,0,null,null,null,"1-","1-"]
[null,"",null,{"$f":"IF(C1470=\"\",\"\",(VLOOKUP(C1470,code2!$A$4:$B$30,2)))","v":""},null,null,null,null,null,"","",0,"","",0,"","",0,0,null,null,null,"1-","1-"]
[null,"",null,{"$f":"IF(C1471=\"\",\"\",(VLOOKUP(C1471,code2!$A$4:$B$30,2)))","v":""},null,null,null,null,null,"","",0,"","",0,"","",0,0,null,null,null,"1-","1-"]
[null,"",null,{"$f":"IF(C1472=\"\",\"\",(VLOOKUP(C1472,code2!$A$4:$B$30,2)))","v":""},null,null,null,null,null,"","",0,"","",0,"","",0,0,null,null,null,"1-","1-"]
[null,"",null,{"$f":"IF(C1473=\"\",\"\",(VLOOKUP(C1473,code2!$A$4:$B$30,2)))","v":""},null,null,null,null,null,"","",0,"","",0,"","",0,0,null,null,null,"1-","1-"]
[null,"",null,{"$f":"IF(C1474=\"\",\"\",(VLOOKUP(C1474,code2!$A$4:$B$30,2)))","v":""},null,null,null,null,null,"","",0,"","",0,"","",0,0,null,null,null,"1-","1-"]
[null,"",null,{"$f":"IF(C1475=\"\",\"\",(VLOOKUP(C1475,code2!$A$4:$B$30,2)))","v":""},null,null,null,null,null,"","",0,"","",0,"","",0,0,null,null,null,"1-","1-"]
[null,"",null,{"$f":"IF(C1476=\"\",\"\",(VLOOKUP(C1476,code2!$A$4:$B$30,2)))","v":""},null,null,null,null,null,"","",0,"","",0,"","",0,0,null,null,null,"1-","1-"]
[null,"",null,{"$f":"IF(C1477=\"\",\"\",(VLOOKUP(C1477,code2!$A$4:$B$30,2)))","v":""},null,null,null,null,null,"","",0,"","",0,"","",0,0,null,null,null,"1-","1-"]
[null,"",null,{"$f":"IF(C1478=\"\",\"\",(VLOOKUP(C1478,code2!$A$4:$B$30,2)))","v":""},null,null,null,null,null,"","",0,"","",0,"","",0,0,null,null,null,"1-","1-"]
[null,{"$f":"IF(A1479=\"\",\"\",A1479)","v":""},null,{"$f":"IF(C1479=\"\",\"\",(VLOOKUP(C1479,code2!$A$4:$B$30,2)))","v":""},null,null,null,null,null,{"$f":"IF(I1479=\"現金\",G1479,\"\")","v":""},{"$f":"IF(I1479=\"現金\",H1479,\"\")","v":""},{"$f":"IF(J1479&K1479=\"\",L1478,L1478+J1479-K1479)","v":0},{"$f":"IF(I1479=\"通帳\",G1479,\"\")","v":""},{"$f":"IF(I1479=\"通帳\",H1479,\"\")","v":""},{"$f":"IF(M1479&N1479=\"\",O1478,O1478+M1479-N1479)","v":0},{"$f":"IF(I1479=\"郵便振替\",G1479,\"\")","v":""},{"$f":"IF(I1479=\"郵便振替\",H1479,\"\")","v":""},0,0,null,null,null,"1-","1-"]
[null,"",null,{"$f":"IF(C1480=\"\",\"\",(VLOOKUP(C1480,code2!$A$4:$B$30,2)))","v":""},null,null,null,null,null,"","",0,"","",0,"","",{"$f":"IF(P1480&Q1480=\"\",R1479,R1479+P1480-Q1480)","v":0},0,null,null,null,"1-","1-"]
[null,"",null,{"$f":"IF(C1481=\"\",\"\",(VLOOKUP(C1481,code2!$A$4:$B$30,2)))","v":""},null,null,null,null,null,"","",0,"","",0,"","",0,0,null,null,null,"1-","1-"]
[null,"",null,{"$f":"IF(C1482=\"\",\"\",(VLOOKUP(C1482,code2!$A$4:$B$30,2)))","v":""},null,null,null,null,null,"","",0,"","",0,"","",0,{"$f":"L1482+O1482+R1482","v":0},null,null,null,"1-","1-"]
[null,"",null,{"$f":"IF(C1483=\"\",\"\",(VLOOKUP(C1483,code2!$A$4:$B$30,2)))","v":""},null,null,null,null,null,"","",0,"","",0,"","",0,0,null,null,null,"1-","1-"]
[null,"",null,{"$f":"IF(C1484=\"\",\"\",(VLOOKUP(C1484,code2!$A$4:$B$30,2)))","v":""},null,null,null,null,null,"","",0,"","",0,"","",0,0,null,null,null,"1-","1-"]
[null,"",null,{"$f":"IF(C1485=\"\",\"\",(VLOOKUP(C1485,code2!$A$4:$B$30,2)))","v":""},null,null,null,null,null,"","",0,"","",0,"","",0,0,null,null,null,"1-","1-"]
[null,"",null,{"$f":"IF(C1486=\"\",\"\",(VLOOKUP(C1486,code2!$A$4:$B$30,2)))","v":""},null,null,null,null,null,"","",0,"","",0,"","",0,0,null,null,null,"1-","1-"]
[null,"",null,{"$f":"IF(C1487=\"\",\"\",(VLOOKUP(C1487,code2!$A$4:$B$30,2)))","v":""},null,null,null,null,null,"","",0,"","",0,"","",0,0,null,null,null,"1-","1-"]
[null,"",null,{"$f":"IF(C1488=\"\",\"\",(VLOOKUP(C1488,code2!$A$4:$B$30,2)))","v":""},null,null,null,null,null,"","",0,"","",0,"","",0,0,null,null,null,"1-","1-"]
[null,"",null,{"$f":"IF(C1489=\"\",\"\",(VLOOKUP(C1489,code2!$A$4:$B$30,2)))","v":""},null,null,null,null,null,"","",0,"","",0,"","",0,0,null,null,null,{"$f":"MONTH(A1489)&\"-\"&D1489&E1489","v":"1-"}]
[null,"",null,{"$f":"IF(C1490=\"\",\"\",(VLOOKUP(C1490,code2!$A$4:$B$30,2)))","v":""},null,null,null,null,null,"","",0,"","",0,"","",0,0,null,null,null,"1-"]
[null,"",null,{"$f":"IF(C1491=\"\",\"\",(VLOOKUP(C1491,code2!$A$4:$B$30,2)))","v":""},null,null,null,null,null,"","",0,"","",0,"","",0,0,null,null,null,"1-"]
[null,"",null,{"$f":"IF(C1492=\"\",\"\",(VLOOKUP(C1492,code2!$A$4:$B$30,2)))","v":""},null,null,null,null,null,"","",0,"","",0,"","",0,0,null,null,null,"1-"]
[null,"",null,{"$f":"IF(C1493=\"\",\"\",(VLOOKUP(C1493,code2!$A$4:$B$30,2)))","v":""},null,null,null,null,null,"","",0,"","",0,"","",0,0,null,null,null,"1-"]
[null,"",null,{"$f":"IF(C1494=\"\",\"\",(VLOOKUP(C1494,code2!$A$4:$B$30,2)))","v":""},null,null,null,null,null,"","",0,"","",0,"","",0,0,null,null,null,"1-"]
[null,"",null,{"$f":"IF(C1495=\"\",\"\",(VLOOKUP(C1495,code2!$A$4:$B$30,2)))","v":""},null,null,null,null,null,"","",0,"","",0,"","",0,0,null,null,null,{"$f":"MONTH(A1495)&\"-\"&D1495&E1495","v":"1-"}]
[null,"",null,{"$f":"IF(C1496=\"\",\"\",(VLOOKUP(C1496,code2!$A$4:$B$30,2)))","v":""},null,null,null,null,null,"","",0,"","",0,"","",0,0,null,null,null,"1-"]
[null,"",null,{"$f":"IF(C1497=\"\",\"\",(VLOOKUP(C1497,code2!$A$4:$B$30,2)))","v":""},null,null,null,null,null,"","",0,"","",0,"","",0,0,null,null,null,"1-"]
[null,"",null,{"$f":"IF(C1498=\"\",\"\",(VLOOKUP(C1498,code2!$A$4:$B$30,2)))","v":""},null,null,null,null,null,"","",0,"","",0,"","",0,0,null,null,null,"1-"]
[null,"",null,{"$f":"IF(C1499=\"\",\"\",(VLOOKUP(C1499,code2!$A$4:$B$30,2)))","v":""},null,null,null,null,null,"","",0,"","",0,"","",0,0,null,null,null,"1-"]
[null,"",null,{"$f":"IF(C1500=\"\",\"\",(VLOOKUP(C1500,code2!$A$4:$B$30,2)))","v":""},null,null,null,null,null,"","",0,"","",0,"","",0,0,null,null,null,"1-"]
[null,"",null,{"$f":"IF(C1501=\"\",\"\",(VLOOKUP(C1501,code2!$A$4:$B$30,2)))","v":""},null,null,null,null,null,"","",0,"","",0,"","",0,0,null,null,null,"1-"]
[null,"",null,{"$f":"IF(C1502=\"\",\"\",(VLOOKUP(C1502,code2!$A$4:$B$30,2)))","v":""},null,null,null,null,null,"","",0,"","",0,"","",0,0,null,null,null,"1-"]
[null,"",null,{"$f":"IF(C1503=\"\",\"\",(VLOOKUP(C1503,code2!$A$4:$B$30,2)))","v":""},null,null,null,null,null,"","",0,"","",0,"","",0,0,null,null,null,"1-"]
[null,"",null,{"$f":"IF(C1504=\"\",\"\",(VLOOKUP(C1504,code2!$A$4:$B$30,2)))","v":""},null,null,null,null,null,"","",0,"","",0,"","",0,0,null,null,null,"1-"]
[null,"",null,{"$f":"IF(C1505=\"\",\"\",(VLOOKUP(C1505,code2!$A$4:$B$30,2)))","v":""},null,null,null,null,null,"","",0,"","",0,"","",0,0,null,null,null,"1-"]
[null,"",null,{"$f":"IF(C1506=\"\",\"\",(VLOOKUP(C1506,code2!$A$4:$B$30,2)))","v":""},null,null,null,null,null,"","",0,"","",0,"","",0,0,null,null,null,"1-"]
[null,"",null,{"$f":"IF(C1507=\"\",\"\",(VLOOKUP(C1507,code2!$A$4:$B$30,2)))","v":""},null,null,null,null,null,"","",0,"","",0,"","",0,0,null,null,null,"1-"]
[null,"",null,{"$f":"IF(C1508=\"\",\"\",(VLOOKUP(C1508,code2!$A$4:$B$30,2)))","v":""},null,null,null,null,null,"","",0,"","",0,"","",0,0,null,null,null,"1-"]
[null,"",null,{"$f":"IF(C1509=\"\",\"\",(VLOOKUP(C1509,code2!$A$4:$B$30,2)))","v":""},null,null,null,null,null,"","",0,"","",0,"","",0,0,null,null,null,"1-"]
[null,"",null,{"$f":"IF(C1510=\"\",\"\",(VLOOKUP(C1510,code2!$A$4:$B$30,2)))","v":""},null,null,null,null,null,"","",0,"","",0,"","",0,0,null,null,null,"1-"]
[null,"",null,{"$f":"IF(C1511=\"\",\"\",(VLOOKUP(C1511,code2!$A$4:$B$30,2)))","v":""},null,null,null,null,null,"","",0,"","",0,"","",0,0,null,null,null,"1-"]
[null,"",null,{"$f":"IF(C1512=\"\",\"\",(VLOOKUP(C1512,code2!$A$4:$B$30,2)))","v":""},null,null,null,null,null,"","",0,"","",0,"","",0,0,null,null,null,"1-"]
[null,"",null,{"$f":"IF(C1513=\"\",\"\",(VLOOKUP(C1513,code2!$A$4:$B$30,2)))","v":""},null,null,null,null,null,"","",0,"","",0,"","",0,0,null,null,null,"1-"]
[null,"",null,{"$f":"IF(C1514=\"\",\"\",(VLOOKUP(C1514,code2!$A$4:$B$30,2)))","v":""},null,null,null,null,null,"","",0,"","",0,"","",0,0,null,null,null,"1-"]
[null,"",null,{"$f":"IF(C1515=\"\",\"\",(VLOOKUP(C1515,code2!$A$4:$B$30,2)))","v":""},null,null,null,null,null,"","",0,"","",0,"","",0,0,null,null,null,"1-"]
[null,"",null,{"$f":"IF(C1516=\"\",\"\",(VLOOKUP(C1516,code2!$A$4:$B$30,2)))","v":""},null,null,null,null,null,"","",0,"","",0,"","",0,0,null,null,null,"1-"]
[null,"",null,{"$f":"IF(C1517=\"\",\"\",(VLOOKUP(C1517,code2!$A$4:$B$30,2)))","v":""},null,null,null,null,null,"","",0,"","",0,"","",0,0,null,null,null,"1-"]
[null,"",null,{"$f":"IF(C1518=\"\",\"\",(VLOOKUP(C1518,code2!$A$4:$B$30,2)))","v":""},null,null,null,null,null,"","",0,"","",0,"","",0,0,null,null,null,"1-"]
[null,"",null,{"$f":"IF(C1519=\"\",\"\",(VLOOKUP(C1519,code2!$A$4:$B$30,2)))","v":""},null,null,null,null,null,"","",0,"","",0,"","",0,0,null,null,null,"1-"]
[null,"",null,{"$f":"IF(C1520=\"\",\"\",(VLOOKUP(C1520,code2!$A$4:$B$30,2)))","v":""},null,null,null,null,null,"","",0,"","",0,"","",0,0,null,null,null,"1-"]
[null,"",null,{"$f":"IF(C1521=\"\",\"\",(VLOOKUP(C1521,code2!$A$4:$B$30,2)))","v":""},null,null,null,null,null,"","",0,"","",0,"","",0,0,null,null,null,"1-"]
[null,"",null,{"$f":"IF(C1522=\"\",\"\",(VLOOKUP(C1522,code2!$A$4:$B$30,2)))","v":""},null,null,null,null,null,"","",0,"","",0,"","",0,0,null,null,null,"1-"]
[null,"",null,{"$f":"IF(C1523=\"\",\"\",(VLOOKUP(C1523,code2!$A$4:$B$30,2)))","v":""},null,null,null,null,null,"","",0,"","",0,"","",0,0,null,null,null,"1-"]
[null,"",null,{"$f":"IF(C1524=\"\",\"\",(VLOOKUP(C1524,code2!$A$4:$B$30,2)))","v":""},null,null,null,null,null,"","",0,"","",0,"","",0,0,null,null,null,"1-"]
[null,"",null,{"$f":"IF(C1525=\"\",\"\",(VLOOKUP(C1525,code2!$A$4:$B$30,2)))","v":""},null,null,null,null,null,"","",0,"","",0,"","",0,0,null,null,null,"1-"]
[null,"",null,{"$f":"IF(C1526=\"\",\"\",(VLOOKUP(C1526,code2!$A$4:$B$30,2)))","v":""},null,null,null,null,null,"","",0,"","",0,"","",0,0,null,null,null,"1-"]
[null,"",null,{"$f":"IF(C1527=\"\",\"\",(VLOOKUP(C1527,code2!$A$4:$B$30,2)))","v":""},null,null,null,null,null,"","",0,"","",0,"","",0,0,null,null,null,"1-"]
[null,"",null,{"$f":"IF(C1528=\"\",\"\",(VLOOKUP(C1528,code2!$A$4:$B$30,2)))","v":""},null,null,null,null,null,"","",0,"","",0,"","",0,0,null,null,null,"1-"]
[null,"",null,{"$f":"IF(C1529=\"\",\"\",(VLOOKUP(C1529,code2!$A$4:$B$30,2)))","v":""},null,null,null,null,null,"","",0,"","",0,"","",0,0,null,null,null,"1-"]
[null,"",null,{"$f":"IF(C1530=\"\",\"\",(VLOOKUP(C1530,code2!$A$4:$B$30,2)))","v":""},null,null,null,null,null,"","",0,"","",0,"","",0,0,null,null,null,"1-"]
[null,"",null,{"$f":"IF(C1531=\"\",\"\",(VLOOKUP(C1531,code2!$A$4:$B$30,2)))","v":""},null,null,null,null,null,"","",0,"","",0,"","",0,0,null,null,null,"1-"]
[null,"",null,{"$f":"IF(C1532=\"\",\"\",(VLOOKUP(C1532,code2!$A$4:$B$30,2)))","v":""},null,null,null,null,null,"","",0,"","",0,"","",0,0,null,null,null,"1-"]
[null,"",null,{"$f":"IF(C1533=\"\",\"\",(VLOOKUP(C1533,code2!$A$4:$B$30,2)))","v":""},null,null,null,null,null,"","",0,"","",0,"","",0,0,null,null,null,"1-"]
[null,"",null,{"$f":"IF(C1534=\"\",\"\",(VLOOKUP(C1534,code2!$A$4:$B$30,2)))","v":""},null,null,null,null,null,"","",0,"","",0,"","",0,0,null,null,null,"1-"]
[null,"",null,{"$f":"IF(C1535=\"\",\"\",(VLOOKUP(C1535,code2!$A$4:$B$30,2)))","v":""},null,null,null,null,null,"","",0,"","",0,"","",0,0,null,null,null,"1-"]
[null,"",null,{"$f":"IF(C1536=\"\",\"\",(VLOOKUP(C1536,code2!$A$4:$B$30,2)))","v":""},null,null,null,null,null,"","",0,"","",0,"","",0,0,null,null,null,"1-"]
[null,"",null,{"$f":"IF(C1537=\"\",\"\",(VLOOKUP(C1537,code2!$A$4:$B$30,2)))","v":""},null,null,null,null,null,"","",0,"","",0,"","",0,0,null,null,null,"1-"]
[null,"",null,{"$f":"IF(C1538=\"\",\"\",(VLOOKUP(C1538,code2!$A$4:$B$30,2)))","v":""},null,null,null,null,null,"","",0,"","",0,"","",0,0,null,null,null,"1-"]
[null,"",null,{"$f":"IF(C1539=\"\",\"\",(VLOOKUP(C1539,code2!$A$4:$B$30,2)))","v":""},null,null,null,null,null,"","",0,"","",0,"","",0,0,null,null,null,"1-"]
[null,"",null,{"$f":"IF(C1540=\"\",\"\",(VLOOKUP(C1540,code2!$A$4:$B$30,2)))","v":""},null,null,null,null,null,"","",0,"","",0,"","",0,0,null,null,null,"1-"]
[null,"",null,{"$f":"IF(C1541=\"\",\"\",(VLOOKUP(C1541,code2!$A$4:$B$30,2)))","v":""},null,null,null,null,null,"","",0,"","",0,"","",0,0,null,null,null,"1-"]
[null,"",null,{"$f":"IF(C1542=\"\",\"\",(VLOOKUP(C1542,code2!$A$4:$B$30,2)))","v":""},null,null,null,null,null,"","",0,"","",0,"","",0,0,null,null,null,"1-"]
[null,{"$f":"IF(A1543=\"\",\"\",A1543)","v":""},null,{"$f":"IF(C1543=\"\",\"\",(VLOOKUP(C1543,code2!$A$4:$B$30,2)))","v":""},null,null,null,null,null,{"$f":"IF(I1543=\"現金\",G1543,\"\")","v":""},{"$f":"IF(I1543=\"現金\",H1543,\"\")","v":""},{"$f":"IF(J1543&K1543=\"\",L1542,L1542+J1543-K1543)","v":0},{"$f":"IF(I1543=\"通帳\",G1543,\"\")","v":""},{"$f":"IF(I1543=\"通帳\",H1543,\"\")","v":""},{"$f":"IF(M1543&N1543=\"\",O1542,O1542+M1543-N1543)","v":0},{"$f":"IF(I1543=\"郵便振替\",G1543,\"\")","v":""},{"$f":"IF(I1543=\"郵便振替\",H1543,\"\")","v":""},0,0,null,null,null,"1-"]
[null,"",null,{"$f":"IF(C1544=\"\",\"\",(VLOOKUP(C1544,code2!$A$4:$B$30,2)))","v":""},null,null,null,null,null,"","",0,"","",0,"","",{"$f":"IF(P1544&Q1544=\"\",R1543,R1543+P1544-Q1544)","v":0},0,null,null,null,"1-"]
[null,"",null,{"$f":"IF(C1545=\"\",\"\",(VLOOKUP(C1545,code2!$A$4:$B$30,2)))","v":""},null,null,null,null,null,"","",0,"","",0,"","",0,0,null,null,null,"1-"]
[null,"",null,{"$f":"IF(C1546=\"\",\"\",(VLOOKUP(C1546,code2!$A$4:$B$30,2)))","v":""},null,null,null,null,null,"","",0,"","",0,"","",0,{"$f":"L1546+O1546+R1546","v":0},null,null,null,"1-"]
[null,"",null,{"$f":"IF(C1547=\"\",\"\",(VLOOKUP(C1547,code2!$A$4:$B$30,2)))","v":""},null,null,null,null,null,"","",0,"","",0,"","",0,0,null,null,null,"1-"]
[null,"",null,{"$f":"IF(C1548=\"\",\"\",(VLOOKUP(C1548,code2!$A$4:$B$30,2)))","v":""},null,null,null,null,null,"","",0,"","",0,"","",0,0,null,null,null,"1-"]
[null,"",null,{"$f":"IF(C1549=\"\",\"\",(VLOOKUP(C1549,code2!$A$4:$B$30,2)))","v":""},null,null,null,null,null,"","",0,"","",0,"","",0,0,null,null,null,"1-"]
[null,"",null,{"$f":"IF(C1550=\"\",\"\",(VLOOKUP(C1550,code2!$A$4:$B$30,2)))","v":""},null,null,null,null,null,"","",0,"","",0,"","",0,0,null,null,null,"1-"]
[null,"",null,{"$f":"IF(C1551=\"\",\"\",(VLOOKUP(C1551,code2!$A$4:$B$30,2)))","v":""},null,null,null,null,null,"","",0,"","",0,"","",0,0,null,null,null,"1-"]
[null,"",null,{"$f":"IF(C1552=\"\",\"\",(VLOOKUP(C1552,code2!$A$4:$B$30,2)))","v":""},null,null,null,null,null,"","",0,"","",0,"","",0,0,null,null,null,"1-"]
[null,"",null,{"$f":"IF(C1553=\"\",\"\",(VLOOKUP(C1553,code2!$A$4:$B$30,2)))","v":""},null,null,null,null,null,"","",0,"","",0,"","",0,0,null,null,null,"1-"]
[null,"",null,{"$f":"IF(C1554=\"\",\"\",(VLOOKUP(C1554,code2!$A$4:$B$30,2)))","v":""},null,null,null,null,null,"","",0,"","",0,"","",0,0,null,null,null,"1-"]
[null,"",null,{"$f":"IF(C1555=\"\",\"\",(VLOOKUP(C1555,code2!$A$4:$B$30,2)))","v":""},null,null,null,null,null,"","",0,"","",0,"","",0,0,null,null,null,"1-"]
[null,"",null,{"$f":"IF(C1556=\"\",\"\",(VLOOKUP(C1556,code2!$A$4:$B$30,2)))","v":""},null,null,null,null,null,"","",0,"","",0,"","",0,0,null,null,null,"1-"]
[null,"",null,{"$f":"IF(C1557=\"\",\"\",(VLOOKUP(C1557,code2!$A$4:$B$30,2)))","v":""},null,null,null,null,null,"","",0,"","",0,"","",0,0,null,null,null,"1-"]
[null,"",null,{"$f":"IF(C1558=\"\",\"\",(VLOOKUP(C1558,code2!$A$4:$B$30,2)))","v":""},null,null,null,null,null,"","",0,"","",0,"","",0,0,null,null,null,"1-"]
[null,"",null,{"$f":"IF(C1559=\"\",\"\",(VLOOKUP(C1559,code2!$A$4:$B$30,2)))","v":""},null,null,null,null,null,"","",0,"","",0,"","",0,0,null,null,null,{"$f":"MONTH(A1559)&\"-\"&D1559&E1559","v":"1-"}]
[null,"",null,{"$f":"IF(C1560=\"\",\"\",(VLOOKUP(C1560,code2!$A$4:$B$30,2)))","v":""},null,null,null,null,null,"","",0,"","",0,"","",0,0,null,null,null,"1-"]
[null,"",null,{"$f":"IF(C1561=\"\",\"\",(VLOOKUP(C1561,code2!$A$4:$B$30,2)))","v":""},null,null,null,null,null,"","",0,"","",0,"","",0,0,null,null,null,"1-"]
[null,"",null,{"$f":"IF(C1562=\"\",\"\",(VLOOKUP(C1562,code2!$A$4:$B$30,2)))","v":""},null,null,null,null,null,"","",0,"","",0,"","",0,0,null,null,null,"1-"]
[null,"",null,{"$f":"IF(C1563=\"\",\"\",(VLOOKUP(C1563,code2!$A$4:$B$30,2)))","v":""},null,null,null,null,null,"","",0,"","",0,"","",0,0,null,null,null,"1-"]
[null,"",null,{"$f":"IF(C1564=\"\",\"\",(VLOOKUP(C1564,code2!$A$4:$B$30,2)))","v":""},null,null,null,null,null,"","",0,"","",0,"","",0,0,null,null,null,"1-"]
[null,"",null,{"$f":"IF(C1565=\"\",\"\",(VLOOKUP(C1565,code2!$A$4:$B$30,2)))","v":""},null,null,null,null,null,"","",0,"","",0,"","",0,0,null,null,null,"1-"]
[null,"",null,{"$f":"IF(C1566=\"\",\"\",(VLOOKUP(C1566,code2!$A$4:$B$30,2)))","v":""},null,null,null,null,null,"","",0,"","",0,"","",0,0,null,null,null,"1-"]
[null,"",null,{"$f":"IF(C1567=\"\",\"\",(VLOOKUP(C1567,code2!$A$4:$B$30,2)))","v":""},null,null,null,null,null,"","",0,"","",0,"","",0,0,null,null,null,"1-"]
[null,"",null,{"$f":"IF(C1568=\"\",\"\",(VLOOKUP(C1568,code2!$A$4:$B$30,2)))","v":""},null,null,null,null,null,"","",0,"","",0,"","",0,0,null,null,null,"1-"]
[null,"",null,{"$f":"IF(C1569=\"\",\"\",(VLOOKUP(C1569,code2!$A$4:$B$30,2)))","v":""},null,null,null,null,null,"","",0,"","",0,"","",0,0,null,null,null,"1-"]
[null,null,null,{"$f":"IF(C1570=\"\",\"\",(VLOOKUP(C1570,code2!$A$4:$B$30,2)))","v":""},null,null,null,null,null,"","",0,"","",0,"","",0,0,null,null,null,"1-"]
[null,null,null,{"$f":"IF(C1571=\"\",\"\",(VLOOKUP(C1571,code2!$A$4:$B$30,2)))","v":""},null,null,null,null,null,"","",0,"","",0,"","",0,0,null,null,null,"1-"]
[null,null,null,{"$f":"IF(C1572=\"\",\"\",(VLOOKUP(C1572,code2!$A$4:$B$30,2)))","v":""},null,null,null,null,null,"","",0,"","",0,"","",0,0,null,null,null,"1-"]
[null,null,null,{"$f":"IF(C1573=\"\",\"\",(VLOOKUP(C1573,code2!$A$4:$B$30,2)))","v":""},null,null,null,null,null,"","",0,"","",0,"","",0,0,null,null,null,"1-"]
[null,null,null,{"$f":"IF(C1574=\"\",\"\",(VLOOKUP(C1574,code2!$A$4:$B$30,2)))","v":""},null,null,null,null,null,"","",0,"","",0,"","",0,0,null,null,null,"1-"]
[null,null,null,{"$f":"IF(C1575=\"\",\"\",(VLOOKUP(C1575,code2!$A$4:$B$30,2)))","v":""},null,null,null,null,null,"","",0,"","",0,"","",0,0]
[null,null,null,{"$f":"IF(C1576=\"\",\"\",(VLOOKUP(C1576,code2!$A$4:$B$30,2)))","v":""},null,null,null,null,null,"","",0,"","",0,"","",0,0]
[null,null,null,null,null,null,null,null,null,"","",0,"","",0,"","",0,0]
[null,null,null,null,null,null,null,null,null,"","",0,"","",0,"","",0,0]
[null,null,null,null,null,null,null,null,null,"","",0,"","",0,"","",0,0]
[null,null,null,null,null,null,null,null,null,{"$f":"IF(I1580=\"小口現金\",G1580,\"\")","v":""},{"$f":"IF(I1580=\"小口現金\",H1580,\"\")","v":""},{"$f":"IF(J1580&K1580=\"\",L1579,L1579+J1580-K1580)","v":0},{"$f":"IF(I1580=\"現金\",G1580,\"\")","v":""},{"$f":"IF(I1580=\"現金\",H1580,\"\")","v":""},{"$f":"IF(M1580&N1580=\"\",O1579,O1579+M1580-N1580)","v":0},{"$f":"IF(I1580=\"通帳\",G1580,\"\")","v":""},{"$f":"IF(I1580=\"通帳\",H1580,\"\")","v":""},0,0]
[null,null,null,null,null,null,null,null,null,"","",0,"","",0,"","",0,0]
[null,null,null,null,null,null,null,null,null,null,null,null,""]
[null,null,null,null,null,null,null,null,null,null,null,null,""]
[null,null,null,null,null,null,null,null,null,null,null,null,""]
[null,null,null,null,null,null,null,null,null,null,null,null,""]
[null,null,null,null,null,null,null,null,null,null,null,null,""]
[null,null,null,null,null,null,null,null,null,null,null,null,""]
[null,null,null,null,null,null,null,null,null,null,null,null,""]
[null,null,null,null,null,null,null,null,null,null,null,null,""]
[null,null,null,null,null,null,null,null,null,null,null,null,""]
[null,null,null,null,null,null,null,null,null,null,null,null,""]
[null,null,null,null,null,null,null,null,null,null,null,null,""]
[null,null,null,null,null,null,null,null,null,null,null,null,""]
[null,null,null,null,null,null,null,null,null,null,null,null,""]
[null,null,null,null,null,null,null,null,null,null,null,null,""]
[null,null,null,null,null,null,null,null,null,null,null,null,""]
[null,null,null,null,null,null,null,null,null,null,null,null,""]
[null,null,null,null,null,null,null,null,null,null,null,null,""]
[null,null,null,null,null,null,null,null,null,null,null,null,""]
[null,null,null,null,null,null,null,null,null,null,null,null,""]
[null,null,null,null,null,null,null,null,null,null,null,null,""]
[null,null,null,null,null,null,null,null,null,null,null,null,""]
[null,null,null,null,null,null,null,null,null,null,null,null,""]
[null,null,null,null,null,null,null,null,null,null,null,null,""]
[null,null,null,null,null,null,null,null,null,null,null,null,""]
[null,null,null,null,null,null,null,null,null,null,null,null,""]
[null,null,null,null,null,null,null,null,null,null,null,null,""]
[null,null,null,null,null,null,null,null,null,null,null,null,""]
[null,null,null,null,null,null,null,null,null,null,null,null,""]
[null,null,null,null,null,null,null,null,null,null,null,null,""]
[null,null,null,null,null,null,null,null,null,null,null,null,""]
[null,null,null,null,null,null,null,null,null,null,null,null,""]
[null,null,null,null,null,null,null,null,null,null,null,null,""]
[null,null,null,null,null,null,null,null,null,null,null,null,""]
[null,null,null,null,null,null,null,null,null,null,null,null,""]
[null,null,null,null,null,null,null,null,null,null,null,null,""]
[null,null,null,null,null,null,null,null,null,null,null,null,""]
[null,null,null,null,null,null,null,null,null,null,null,null,""]
[null,null,null,null,null,null,null,null,null,null,null,null,""]
[null,null,null,null,null,null,null,null,null,null,null,null,""]
[null,null,null,null,null,null,null,null,null,null,null,null,""]
[null,null,null,null,null,null,null,null,null,null,null,null,""]
[null,null,null,null,null,null,null,null,null,null,null,null,{"$f":"IF(I1623=\"現金\",G1623,\"\")","v":""}]
[null,null,null,null,null,null,null,null,null,null,null,null,""]
[null,null,null,null,null,null,null,null,null,null,null,null,""]
[null,null,null,null,null,null,null,null,null,null,null,null,""]
[null,null,null,null,null,null,null,null,null,null,null,null,""]
[null,null,null,null,null,null,null,null,null,null,null,null,""]
[null,null,null,null,null,null,null,null,null,null,null,null,""]
[null,null,null,null,null,null,null,null,null,null,null,null,""]
[null,null,null,null,null,null,null,null,null,null,null,null,""]
[null,null,null,null,null,null,null,null,null,null,null,null,""]
[null,null,null,null,null,null,null,null,null,null,null,null,""]
[null,null,null,null,null,null,null,null,null,null,null,null,""]
[null,null,null,null,null,null,null,null,null,null,null,null,""]
[null,null,null,null,null,null,null,null,null,null,null,null,""]
[null,null,null,null,null,null,null,null,null,null,null,null,""]
[null,null,null,null,null,null,null,null,null,null,null,null,""]
[null,null,null,null,null,null,null,null,null,null,null,null,""]
[null,null,null,null,null,null,null,null,null,null,null,null,""]
[null,null,null,null,null,null,null,null,null,null,null,null,""]
[null,null,null,null,null,null,null,null,null,null,null,null,""]
[null,null,null,null,null,null,null,null,null,null,null,null,""]
[null,null,null,null,null,null,null,null,null,null,null,null,""]
[null,null,null,null,null,null,null,null,null,null,null,null,""]
[null,null,null,null,null,null,null,null,null,null,null,null,""]
[null,null,null,null,null,null,null,null,null,null,null,null,""]
[null,null,null,null,null,null,null,null,null,null,null,null,""]
[null,null,null,null,null,null,null,null,null,null,null,null,""]
[null,null,null,null,null,null,null,null,null,null,null,null,""]
[null,null,null,null,null,null,null,null,null,null,null,null,""]
[null,null,null,null,null,null,null,null,null,null,null,null,""]
[null,null,null,null,null,null,null,null,null,null,null,null,""]
[null,null,null,null,null,null,null,null,null,null,null,null,""]
[null,null,null,null,null,null,null,null,null,null,null,null,""]
[null,null,null,null,null,null,null,null,null,null,null,null,""]
[null,null,null,null,null,null,null,null,null,null,null,null,""]
[null,null,null,null,null,null,null,null,null,null,null,null,""]
[null,null,null,null,null,null,null,null,null,null,null,null,""]
["2016-05-05",null,null,null,null,null,null,10000]

{"sheet":"集計","index":2,"n_rows":44,"n_cols":15,"rows_kept":44,"cut":false,"hidden":false,"merged":[]}
[4,"月集計"]
[]
["収入の部",null,4,5,6,7,8,9,10,11,12,1,2,3,"年間計"]
[null,"寄付金",{"$f":"IF(B4=\"\",\"\",SUMIF(入力!$W$5:$W$1340,C$3&\"-\"&TRIM($B4),入力!$G$5:$G$1347))","v":0},{"$f":"IF(C4=\"\",\"\",SUMIF(入力!$W$5:$W$1340,D$3&\"-\"&TRIM($B4),入力!$G$5:$G$1347))","v":0},{"$f":"IF(D4=\"\",\"\",SUMIF(入力!$W$5:$W$1340,E$3&\"-\"&TRIM($B4),入力!$G$5:$G$1347))","v":0},{"$f":"IF(E4=\"\",\"\",SUMIF(入力!$W$5:$W$1340,F$3&\"-\"&TRIM($B4),入力!$G$5:$G$1347))","v":0},{"$f":"IF(F4=\"\",\"\",SUMIF(入力!$W$5:$W$1340,G$3&\"-\"&TRIM($B4),入力!$G$5:$G$1347))","v":0},{"$f":"IF(G4=\"\",\"\",SUMIF(入力!$W$5:$W$1340,H$3&\"-\"&TRIM($B4),入力!$G$5:$G$1347))","v":0},{"$f":"IF(H4=\"\",\"\",SUMIF(入力!$W$5:$W$1340,I$3&\"-\"&TRIM($B4),入力!$G$5:$G$1347))","v":0},{"$f":"IF(I4=\"\",\"\",SUMIF(入力!$W$5:$W$1340,J$3&\"-\"&TRIM($B4),入力!$G$5:$G$1347))","v":0},{"$f":"IF(J4=\"\",\"\",SUMIF(入力!$W$5:$W$1340,K$3&\"-\"&TRIM($B4),入力!$G$5:$G$1347))","v":0},{"$f":"IF(K4=\"\",\"\",SUMIF(入力!$W$5:$W$1340,L$3&\"-\"&TRIM($B4),入力!$G$5:$G$1347))","v":0},{"$f":"IF(L4=\"\",\"\",SUMIF(入力!$W$5:$W$1340,M$3&\"-\"&TRIM($B4),入力!$G$5:$G$1347))","v":0},{"$f":"IF(M4=\"\",\"\",SUMIF(入力!$W$5:$W$1340,N$3&\"-\"&TRIM($B4),入力!$G$5:$G$1347))","v":0},{"$f":"SUM(C4:N4)","v":0}]
[null,"助成金",{"$f":"IF(B5=\"\",\"\",SUMIF(入力!$W$5:$W$1340,C$3&\"-\"&TRIM($B5),入力!$G$5:$G$1347))","v":0},{"$f":"IF(C5=\"\",\"\",SUMIF(入力!$W$5:$W$1340,D$3&\"-\"&TRIM($B5),入力!$G$5:$G$1347))","v":0},{"$f":"IF(D5=\"\",\"\",SUMIF(入力!$W$5:$W$1340,E$3&\"-\"&TRIM($B5),入力!$G$5:$G$1347))","v":0},{"$f":"IF(E5=\"\",\"\",SUMIF(入力!$W$5:$W$1340,F$3&\"-\"&TRIM($B5),入力!$G$5:$G$1347))","v":0},{"$f":"IF(F5=\"\",\"\",SUMIF(入力!$W$5:$W$1340,G$3&\"-\"&TRIM($B5),入力!$G$5:$G$1347))","v":0},{"$f":"IF(G5=\"\",\"\",SUMIF(入力!$W$5:$W$1340,H$3&\"-\"&TRIM($B5),入力!$G$5:$G$1347))","v":0},{"$f":"IF(H5=\"\",\"\",SUMIF(入力!$W$5:$W$1340,I$3&\"-\"&TRIM($B5),入力!$G$5:$G$1347))","v":0},{"$f":"IF(I5=\"\",\"\",SUMIF(入力!$W$5:$W$1340,J$3&\"-\"&TRIM($B5),入力!$G$5:$G$1347))","v":0},{"$f":"IF(J5=\"\",\"\",SUMIF(入力!$W$5:$W$1340,K$3&\"-\"&TRIM($B5),入力!$G$5:$G$1347))","v":0},{"$f":"IF(K5=\"\",\"\",SUMIF(入力!$W$5:$W$1340,L$3&\"-\"&TRIM($B5),入力!$G$5:$G$1347))","v":0},{"$f":"IF(L5=\"\",\"\",SUMIF(入力!$W$5:$W$1340,M$3&\"-\"&TRIM($B5),入力!$G$5:$G$1347))","v":0},{"$f":"IF(M5=\"\",\"\",SUMIF(入力!$W$5:$W$1340,N$3&\"-\"&TRIM($B5),入力!$G$5:$G$1347))","v":0},{"$f":"SUM(C5:N5)","v":0}]
[null,"受取利息",{"$f":"IF(B6=\"\",\"\",SUMIF(入力!$W$5:$W$1340,C$3&\"-\"&TRIM($B6),入力!$G$5:$G$1347))","v":0},{"$f":"IF(C6=\"\",\"\",SUMIF(入力!$W$5:$W$1340,D$3&\"-\"&TRIM($B6),入力!$G$5:$G$1347))","v":0},{"$f":"IF(D6=\"\",\"\",SUMIF(入力!$W$5:$W$1340,E$3&\"-\"&TRIM($B6),入力!$G$5:$G$1347))","v":0},{"$f":"IF(E6=\"\",\"\",SUMIF(入力!$W$5:$W$1340,F$3&\"-\"&TRIM($B6),入力!$G$5:$G$1347))","v":0},{"$f":"IF(F6=\"\",\"\",SUMIF(入力!$W$5:$W$1340,G$3&\"-\"&TRIM($B6),入力!$G$5:$G$1347))","v":0},{"$f":"IF(G6=\"\",\"\",SUMIF(入力!$W$5:$W$1340,H$3&\"-\"&TRIM($B6),入力!$G$5:$G$1347))","v":0},{"$f":"IF(H6=\"\",\"\",SUMIF(入力!$W$5:$W$1340,I$3&\"-\"&TRIM($B6),入力!$G$5:$G$1347))","v":0},{"$f":"IF(I6=\"\",\"\",SUMIF(入力!$W$5:$W$1340,J$3&\"-\"&TRIM($B6),入力!$G$5:$G$1347))","v":0},{"$f":"IF(J6=\"\",\"\",SUMIF(入力!$W$5:$W$1340,K$3&\"-\"&TRIM($B6),入力!$G$5:$G$1347))","v":0},{"$f":"IF(K6=\"\",\"\",SUMIF(入力!$W$5:$W$1340,L$3&\"-\"&TRIM($B6),入力!$G$5:$G$1347))","v":0},{"$f":"IF(L6=\"\",\"\",SUMIF(入力!$W$5:$W$1340,M$3&\"-\"&TRIM($B6),入力!$G$5:$G$1347))","v":0},{"$f":"IF(M6=\"\",\"\",SUMIF(入力!$W$5:$W$1340,N$3&\"-\"&TRIM($B6),入力!$G$5:$G$1347))","v":0},0]
[null,"雑収入",{"$f":"IF(B7=\"\",\"\",SUMIF(入力!$W$5:$W$1340,C$3&\"-\"&TRIM($B7),入力!$G$5:$G$1347))","v":0},{"$f":"IF(C7=\"\",\"\",SUMIF(入力!$W$5:$W$1340,D$3&\"-\"&TRIM($B7),入力!$G$5:$G$1347))","v":0},{"$f":"IF(D7=\"\",\"\",SUMIF(入力!$W$5:$W$1340,E$3&\"-\"&TRIM($B7),入力!$G$5:$G$1347))","v":0},{"$f":"IF(E7=\"\",\"\",SUMIF(入力!$W$5:$W$1340,F$3&\"-\"&TRIM($B7),入力!$G$5:$G$1347))","v":0},{"$f":"IF(F7=\"\",\"\",SUMIF(入力!$W$5:$W$1340,G$3&\"-\"&TRIM($B7),入力!$G$5:$G$1347))","v":0},{"$f":"IF(G7=\"\",\"\",SUMIF(入力!$W$5:$W$1340,H$3&\"-\"&TRIM($B7),入力!$G$5:$G$1347))","v":0},{"$f":"IF(H7=\"\",\"\",SUMIF(入力!$W$5:$W$1340,I$3&\"-\"&TRIM($B7),入力!$G$5:$G$1347))","v":0},{"$f":"IF(I7=\"\",\"\",SUMIF(入力!$W$5:$W$1340,J$3&\"-\"&TRIM($B7),入力!$G$5:$G$1347))","v":0},{"$f":"IF(J7=\"\",\"\",SUMIF(入力!$W$5:$W$1340,K$3&\"-\"&TRIM($B7),入力!$G$5:$G$1347))","v":0},{"$f":"IF(K7=\"\",\"\",SUMIF(入力!$W$5:$W$1340,L$3&\"-\"&TRIM($B7),入力!$G$5:$G$1347))","v":0},{"$f":"IF(L7=\"\",\"\",SUMIF(入力!$W$5:$W$1340,M$3&\"-\"&TRIM($B7),入力!$G$5:$G$1347))","v":0},{"$f":"IF(M7=\"\",\"\",SUMIF(入力!$W$5:$W$1340,N$3&\"-\"&TRIM($B7),入力!$G$5:$G$1347))","v":0},0]
[null,"合計",{"$f":"SUM(C4:C7)","v":0},{"$f":"SUM(D4:D7)","v":0},{"$f":"SUM(E3:E7)","v":6},0,0,0,0,0,0,0,0,0,6]
[]
[]
[]
["支出の部"]
[null,"事務費",{"$f":"IF(B13=\"\",\"\",SUMIF(入力!$W$5:$W$1340,C$3&\"-\"&TRIM($B13),入力!$H$5:$H$1347))","v":0},{"$f":"IF(C13=\"\",\"\",SUMIF(入力!$W$5:$W$1340,D$3&\"-\"&TRIM($B13),入力!$H$5:$H$1347))","v":0},{"$f":"IF(D13=\"\",\"\",SUMIF(入力!$W$5:$W$1340,E$3&\"-\"&TRIM($B13),入力!$H$5:$H$1347))","v":0},{"$f":"IF(E13=\"\",\"\",SUMIF(入力!$W$5:$W$1340,F$3&\"-\"&TRIM($B13),入力!$H$5:$H$1347))","v":0},{"$f":"IF(F13=\"\",\"\",SUMIF(入力!$W$5:$W$1340,G$3&\"-\"&TRIM($B13),入力!$H$5:$H$1347))","v":0},{"$f":"IF(G13=\"\",\"\",SUMIF(入力!$W$5:$W$1340,H$3&\"-\"&TRIM($B13),入力!$H$5:$H$1347))","v":0},{"$f":"IF(H13=\"\",\"\",SUMIF(入力!$W$5:$W$1340,I$3&\"-\"&TRIM($B13),入力!$H$5:$H$1347))","v":0},{"$f":"IF(I13=\"\",\"\",SUMIF(入力!$W$5:$W$1340,J$3&\"-\"&TRIM($B13),入力!$H$5:$H$1347))","v":0},{"$f":"IF(J13=\"\",\"\",SUMIF(入力!$W$5:$W$1340,K$3&\"-\"&TRIM($B13),入力!$H$5:$H$1347))","v":0},{"$f":"IF(K13=\"\",\"\",SUMIF(入力!$W$5:$W$1340,L$3&\"-\"&TRIM($B13),入力!$H$5:$H$1347))","v":0},{"$f":"IF(L13=\"\",\"\",SUMIF(入力!$W$5:$W$1340,M$3&\"-\"&TRIM($B13),入力!$H$5:$H$1347))","v":0},{"$f":"IF(M13=\"\",\"\",SUMIF(入力!$W$5:$W$1340,N$3&\"-\"&TRIM($B13),入力!$H$5:$H$1347))","v":0},{"$f":"SUM(C13:N13)","v":0}]
[null,"地代・家賃",null,null,null,null,null,null,null,null,null,null,null,null,{"$f":"SUM(C14:N14)","v":0}]
[null,"　家賃",{"$f":"IF(B15=\"\",\"\",SUMIF(入力!$X$5:$X$1340,C$3&\"-\"&$B$14&TRIM($B15),入力!$H$5:$H$1347))","v":0},{"$f":"IF(C15=\"\",\"\",SUMIF(入力!$X$5:$X$1340,D$3&\"-\"&$B$14&TRIM($B15),入力!$H$5:$H$1347))","v":0},{"$f":"IF(D15=\"\",\"\",SUMIF(入力!$X$5:$X$1340,E$3&\"-\"&$B$14&TRIM($B15),入力!$H$5:$H$1347))","v":0},{"$f":"IF(E15=\"\",\"\",SUMIF(入力!$X$5:$X$1340,F$3&\"-\"&$B$14&TRIM($B15),入力!$H$5:$H$1347))","v":0},{"$f":"IF(F15=\"\",\"\",SUMIF(入力!$X$5:$X$1340,G$3&\"-\"&$B$14&TRIM($B15),入力!$H$5:$H$1347))","v":0},{"$f":"IF(G15=\"\",\"\",SUMIF(入力!$X$5:$X$1340,H$3&\"-\"&$B$14&TRIM($B15),入力!$H$5:$H$1347))","v":0},{"$f":"IF(H15=\"\",\"\",SUMIF(入力!$X$5:$X$1340,I$3&\"-\"&$B$14&TRIM($B15),入力!$H$5:$H$1347))","v":0},{"$f":"IF(I15=\"\",\"\",SUMIF(入力!$X$5:$X$1340,J$3&\"-\"&$B$14&TRIM($B15),入力!$H$5:$H$1347))","v":0},{"$f":"IF(J15=\"\",\"\",SUMIF(入力!$X$5:$X$1340,K$3&\"-\"&$B$14&TRIM($B15),入力!$H$5:$H$1347))","v":0},{"$f":"IF(K15=\"\",\"\",SUMIF(入力!$X$5:$X$1340,L$3&\"-\"&$B$14&TRIM($B15),入力!$H$5:$H$1347))","v":0},{"$f":"IF(L15=\"\",\"\",SUMIF(入力!$X$5:$X$1340,M$3&\"-\"&$B$14&TRIM($B15),入力!$H$5:$H$1347))","v":0},{"$f":"IF(M15=\"\",\"\",SUMIF(入力!$X$5:$X$1340,N$3&\"-\"&$B$14&TRIM($B15),入力!$H$5:$H$1347))","v":0},0]
[null,"　駐車場代",{"$f":"IF(B16=\"\",\"\",SUMIF(入力!$X$5:$X$1340,C$3&\"-\"&$B$14&TRIM($B16),入力!$H$5:$H$1347))","v":0},{"$f":"IF(C16=\"\",\"\",SUMIF(入力!$X$5:$X$1340,D$3&\"-\"&$B$14&TRIM($B16),入力!$H$5:$H$1347))","v":0},{"$f":"IF(D16=\"\",\"\",SUMIF(入力!$X$5:$X$1340,E$3&\"-\"&$B$14&TRIM($B16),入力!$H$5:$H$1347))","v":0},{"$f":"IF(E16=\"\",\"\",SUMIF(入力!$X$5:$X$1340,F$3&\"-\"&$B$14&TRIM($B16),入力!$H$5:$H$1347))","v":0},{"$f":"IF(F16=\"\",\"\",SUMIF(入力!$X$5:$X$1340,G$3&\"-\"&$B$14&TRIM($B16),入力!$H$5:$H$1347))","v":0},{"$f":"IF(G16=\"\",\"\",SUMIF(入力!$X$5:$X$1340,H$3&\"-\"&$B$14&TRIM($B16),入力!$H$5:$H$1347))","v":0},{"$f":"IF(H16=\"\",\"\",SUMIF(入力!$X$5:$X$1340,I$3&\"-\"&$B$14&TRIM($B16),入力!$H$5:$H$1347))","v":0},{"$f":"IF(I16=\"\",\"\",SUMIF(入力!$X$5:$X$1340,J$3&\"-\"&$B$14&TRIM($B16),入力!$H$5:$H$1347))","v":0},{"$f":"IF(J16=\"\",\"\",SUMIF(入力!$X$5:$X$1340,K$3&\"-\"&$B$14&TRIM($B16),入力!$H$5:$H$1347))","v":0},{"$f":"IF(K16=\"\",\"\",SUMIF(入力!$X$5:$X$1340,L$3&\"-\"&$B$14&TRIM($B16),入力!$H$5:$H$1347))","v":0},{"$f":"IF(L16=\"\",\"\",SUMIF(入力!$X$5:$X$1340,M$3&\"-\"&$B$14&TRIM($B16),入力!$H$5:$H$1347))","v":0},{"$f":"IF(M16=\"\",\"\",SUMIF(入力!$X$5:$X$1340,N$3&\"-\"&$B$14&TRIM($B16),入力!$H$5:$H$1347))","v":0},0]
[null,"車両費",null,null,null,null,null,null,null,null,null,null,null,null,0]
[null,"　ガソリン代",{"$f":"IF(B18=\"\",\"\",SUMIF(入力!$X$5:$X$1340,C$3&\"-\"&$B$17&TRIM($B18),入力!$H$5:$H$1347))","v":0},{"$f":"IF(C18=\"\",\"\",SUMIF(入力!$X$5:$X$1340,D$3&\"-\"&$B$17&TRIM($B18),入力!$H$5:$H$1347))","v":0},{"$f":"IF(D18=\"\",\"\",SUMIF(入力!$X$5:$X$1340,E$3&\"-\"&$B$17&TRIM($B18),入力!$H$5:$H$1347))","v":0},{"$f":"IF(E18=\"\",\"\",SUMIF(入力!$X$5:$X$1340,F$3&\"-\"&$B$17&TRIM($B18),入力!$H$5:$H$1347))","v":0},{"$f":"IF(F18=\"\",\"\",SUMIF(入力!$X$5:$X$1340,G$3&\"-\"&$B$17&TRIM($B18),入力!$H$5:$H$1347))","v":0},{"$f":"IF(G18=\"\",\"\",SUMIF(入力!$X$5:$X$1340,H$3&\"-\"&$B$17&TRIM($B18),入力!$H$5:$H$1347))","v":0},{"$f":"IF(H18=\"\",\"\",SUMIF(入力!$X$5:$X$1340,I$3&\"-\"&$B$17&TRIM($B18),入力!$H$5:$H$1347))","v":0},{"$f":"IF(I18=\"\",\"\",SUMIF(入力!$X$5:$X$1340,J$3&\"-\"&$B$17&TRIM($B18),入力!$H$5:$H$1347))","v":0},{"$f":"IF(J18=\"\",\"\",SUMIF(入力!$X$5:$X$1340,K$3&\"-\"&$B$17&TRIM($B18),入力!$H$5:$H$1347))","v":0},{"$f":"IF(K18=\"\",\"\",SUMIF(入力!$X$5:$X$1340,L$3&\"-\"&$B$17&TRIM($B18),入力!$H$5:$H$1347))","v":0},{"$f":"IF(L18=\"\",\"\",SUMIF(入力!$X$5:$X$1340,M$3&\"-\"&$B$17&TRIM($B18),入力!$H$5:$H$1347))","v":0},{"$f":"IF(M18=\"\",\"\",SUMIF(入力!$X$5:$X$1340,N$3&\"-\"&$B$17&TRIM($B18),入力!$H$5:$H$1347))","v":0},0]
[null,"　保険",{"$f":"IF(B19=\"\",\"\",SUMIF(入力!$X$5:$X$1340,C$3&\"-\"&$B$17&TRIM($B19),入力!$H$5:$H$1347))","v":0},{"$f":"IF(C19=\"\",\"\",SUMIF(入力!$X$5:$X$1340,D$3&\"-\"&$B$17&TRIM($B19),入力!$H$5:$H$1347))","v":0},{"$f":"IF(D19=\"\",\"\",SUMIF(入力!$X$5:$X$1340,E$3&\"-\"&$B$17&TRIM($B19),入力!$H$5:$H$1347))","v":0},{"$f":"IF(E19=\"\",\"\",SUMIF(入力!$X$5:$X$1340,F$3&\"-\"&$B$17&TRIM($B19),入力!$H$5:$H$1347))","v":0},{"$f":"IF(F19=\"\",\"\",SUMIF(入力!$X$5:$X$1340,G$3&\"-\"&$B$17&TRIM($B19),入力!$H$5:$H$1347))","v":0},{"$f":"IF(G19=\"\",\"\",SUMIF(入力!$X$5:$X$1340,H$3&\"-\"&$B$17&TRIM($B19),入力!$H$5:$H$1347))","v":0},{"$f":"IF(H19=\"\",\"\",SUMIF(入力!$X$5:$X$1340,I$3&\"-\"&$B$17&TRIM($B19),入力!$H$5:$H$1347))","v":0},{"$f":"IF(I19=\"\",\"\",SUMIF(入力!$X$5:$X$1340,J$3&\"-\"&$B$17&TRIM($B19),入力!$H$5:$H$1347))","v":0},{"$f":"IF(J19=\"\",\"\",SUMIF(入力!$X$5:$X$1340,K$3&\"-\"&$B$17&TRIM($B19),入力!$H$5:$H$1347))","v":0},{"$f":"IF(K19=\"\",\"\",SUMIF(入力!$X$5:$X$1340,L$3&\"-\"&$B$17&TRIM($B19),入力!$H$5:$H$1347))","v":0},{"$f":"IF(L19=\"\",\"\",SUMIF(入力!$X$5:$X$1340,M$3&\"-\"&$B$17&TRIM($B19),入力!$H$5:$H$1347))","v":0},{"$f":"IF(M19=\"\",\"\",SUMIF(入力!$X$5:$X$1340,N$3&\"-\"&$B$17&TRIM($B19),入力!$H$5:$H$1347))","v":0},0]
[null,"　車検費用",{"$f":"IF(B20=\"\",\"\",SUMIF(入力!$X$5:$X$1340,C$3&\"-\"&$B$17&TRIM($B20),入力!$H$5:$H$1347))","v":0},{"$f":"IF(C20=\"\",\"\",SUMIF(入力!$X$5:$X$1340,D$3&\"-\"&$B$17&TRIM($B20),入力!$H$5:$H$1347))","v":0},{"$f":"IF(D20=\"\",\"\",SUMIF(入力!$X$5:$X$1340,E$3&\"-\"&$B$17&TRIM($B20),入力!$H$5:$H$1347))","v":0},{"$f":"IF(E20=\"\",\"\",SUMIF(入力!$X$5:$X$1340,F$3&\"-\"&$B$17&TRIM($B20),入力!$H$5:$H$1347))","v":0},{"$f":"IF(F20=\"\",\"\",SUMIF(入力!$X$5:$X$1340,G$3&\"-\"&$B$17&TRIM($B20),入力!$H$5:$H$1347))","v":0},{"$f":"IF(G20=\"\",\"\",SUMIF(入力!$X$5:$X$1340,H$3&\"-\"&$B$17&TRIM($B20),入力!$H$5:$H$1347))","v":0},{"$f":"IF(H20=\"\",\"\",SUMIF(入力!$X$5:$X$1340,I$3&\"-\"&$B$17&TRIM($B20),入力!$H$5:$H$1347))","v":0},{"$f":"IF(I20=\"\",\"\",SUMIF(入力!$X$5:$X$1340,J$3&\"-\"&$B$17&TRIM($B20),入力!$H$5:$H$1347))","v":0},{"$f":"IF(J20=\"\",\"\",SUMIF(入力!$X$5:$X$1340,K$3&\"-\"&$B$17&TRIM($B20),入力!$H$5:$H$1347))","v":0},{"$f":"IF(K20=\"\",\"\",SUMIF(入力!$X$5:$X$1340,L$3&\"-\"&$B$17&TRIM($B20),入力!$H$5:$H$1347))","v":0},{"$f":"IF(L20=\"\",\"\",SUMIF(入力!$X$5:$X$1340,M$3&\"-\"&$B$17&TRIM($B20),入力!$H$5:$H$1347))","v":0},{"$f":"IF(M20=\"\",\"\",SUMIF(入力!$X$5:$X$1340,N$3&\"-\"&$B$17&TRIM($B20),入力!$H$5:$H$1347))","v":0},0]
[null,"　修理費",{"$f":"IF(B21=\"\",\"\",SUMIF(入力!$X$5:$X$1340,C$3&\"-\"&$B$17&TRIM($B21),入力!$H$5:$H$1347))","v":0},{"$f":"IF(C21=\"\",\"\",SUMIF(入力!$X$5:$X$1340,D$3&\"-\"&$B$17&TRIM($B21),入力!$H$5:$H$1347))","v":0},{"$f":"IF(D21=\"\",\"\",SUMIF(入力!$X$5:$X$1340,E$3&\"-\"&$B$17&TRIM($B21),入力!$H$5:$H$1347))","v":0},{"$f":"IF(E21=\"\",\"\",SUMIF(入力!$X$5:$X$1340,F$3&\"-\"&$B$17&TRIM($B21),入力!$H$5:$H$1347))","v":0},{"$f":"IF(F21=\"\",\"\",SUMIF(入力!$X$5:$X$1340,G$3&\"-\"&$B$17&TRIM($B21),入力!$H$5:$H$1347))","v":0},{"$f":"IF(G21=\"\",\"\",SUMIF(入力!$X$5:$X$1340,H$3&\"-\"&$B$17&TRIM($B21),入力!$H$5:$H$1347))","v":0},{"$f":"IF(H21=\"\",\"\",SUMIF(入力!$X$5:$X$1340,I$3&\"-\"&$B$17&TRIM($B21),入力!$H$5:$H$1347))","v":0},{"$f":"IF(I21=\"\",\"\",SUMIF(入力!$X$5:$X$1340,J$3&\"-\"&$B$17&TRIM($B21),入力!$H$5:$H$1347))","v":0},{"$f":"IF(J21=\"\",\"\",SUMIF(入力!$X$5:$X$1340,K$3&\"-\"&$B$17&TRIM($B21),入力!$H$5:$H$1347))","v":0},{"$f":"IF(K21=\"\",\"\",SUMIF(入力!$X$5:$X$1340,L$3&\"-\"&$B$17&TRIM($B21),入力!$H$5:$H$1347))","v":0},{"$f":"IF(L21=\"\",\"\",SUMIF(入力!$X$5:$X$1340,M$3&\"-\"&$B$17&TRIM($B21),入力!$H$5:$H$1347))","v":0},{"$f":"IF(M21=\"\",\"\",SUMIF(入力!$X$5:$X$1340,N$3&\"-\"&$B$17&TRIM($B21),入力!$H$5:$H$1347))","v":0},0]
[null,"　駐車場代",{"$f":"IF(B22=\"\",\"\",SUMIF(入力!$X$5:$X$1340,C$3&\"-\"&$B$17&TRIM($B22),入力!$H$5:$H$1347))","v":0},{"$f":"IF(C22=\"\",\"\",SUMIF(入力!$X$5:$X$1340,D$3&\"-\"&$B$17&TRIM($B22),入力!$H$5:$H$1347))","v":0},{"$f":"IF(D22=\"\",\"\",SUMIF(入力!$X$5:$X$1340,E$3&\"-\"&$B$17&TRIM($B22),入力!$H$5:$H$1347))","v":0},{"$f":"IF(E22=\"\",\"\",SUMIF(入力!$X$5:$X$1340,F$3&\"-\"&$B$17&TRIM($B22),入力!$H$5:$H$1347))","v":0},{"$f":"IF(F22=\"\",\"\",SUMIF(入力!$X$5:$X$1340,G$3&\"-\"&$B$17&TRIM($B22),入力!$H$5:$H$1347))","v":0},{"$f":"IF(G22=\"\",\"\",SUMIF(入力!$X$5:$X$1340,H$3&\"-\"&$B$17&TRIM($B22),入力!$H$5:$H$1347))","v":0},{"$f":"IF(H22=\"\",\"\",SUMIF(入力!$X$5:$X$1340,I$3&\"-\"&$B$17&TRIM($B22),入力!$H$5:$H$1347))","v":0},{"$f":"IF(I22=\"\",\"\",SUMIF(入力!$X$5:$X$1340,J$3&\"-\"&$B$17&TRIM($B22),入力!$H$5:$H$1347))","v":0},{"$f":"IF(J22=\"\",\"\",SUMIF(入力!$X$5:$X$1340,K$3&\"-\"&$B$17&TRIM($B22),入力!$H$5:$H$1347))","v":0},{"$f":"IF(K22=\"\",\"\",SUMIF(入力!$X$5:$X$1340,L$3&\"-\"&$B$17&TRIM($B22),入力!$H$5:$H$1347))","v":0},{"$f":"IF(L22=\"\",\"\",SUMIF(入力!$X$5:$X$1340,M$3&\"-\"&$B$17&TRIM($B22),入力!$H$5:$H$1347))","v":0},{"$f":"IF(M22=\"\",\"\",SUMIF(入力!$X$5:$X$1340,N$3&\"-\"&$B$17&TRIM($B22),入力!$H$5:$H$1347))","v":0},0]
[null,"人件費",{"$f":"IF(B23=\"\",\"\",SUMIF(入力!$W$5:$W$1340,C$3&\"-\"&TRIM($B23),入力!$H$5:$H$1347))","v":0},{"$f":"IF(C23=\"\",\"\",SUMIF(入力!$W$5:$W$1340,D$3&\"-\"&TRIM($B23),入力!$H$5:$H$1347))","v":0},{"$f":"IF(D23=\"\",\"\",SUMIF(入力!$W$5:$W$1340,E$3&\"-\"&TRIM($B23),入力!$H$5:$H$1347))","v":0},{"$f":"IF(E23=\"\",\"\",SUMIF(入力!$W$5:$W$1340,F$3&\"-\"&TRIM($B23),入力!$H$5:$H$1347))","v":0},{"$f":"IF(F23=\"\",\"\",SUMIF(入力!$W$5:$W$1340,G$3&\"-\"&TRIM($B23),入力!$H$5:$H$1347))","v":0},{"$f":"IF(G23=\"\",\"\",SUMIF(入力!$W$5:$W$1340,H$3&\"-\"&TRIM($B23),入力!$H$5:$H$1347))","v":0},{"$f":"IF(H23=\"\",\"\",SUMIF(入力!$W$5:$W$1340,I$3&\"-\"&TRIM($B23),入力!$H$5:$H$1347))","v":0},{"$f":"IF(I23=\"\",\"\",SUMIF(入力!$W$5:$W$1340,J$3&\"-\"&TRIM($B23),入力!$H$5:$H$1347))","v":0},{"$f":"IF(J23=\"\",\"\",SUMIF(入力!$W$5:$W$1340,K$3&\"-\"&TRIM($B23),入力!$H$5:$H$1347))","v":0},{"$f":"IF(K23=\"\",\"\",SUMIF(入力!$W$5:$W$1340,L$3&\"-\"&TRIM($B23),入力!$H$5:$H$1347))","v":0},{"$f":"IF(L23=\"\",\"\",SUMIF(入力!$W$5:$W$1340,M$3&\"-\"&TRIM($B23),入力!$H$5:$H$1347))","v":0},{"$f":"IF(M23=\"\",\"\",SUMIF(入力!$W$5:$W$1340,N$3&\"-\"&TRIM($B23),入力!$H$5:$H$1347))","v":0},0]
[null,"法定福利費",{"$f":"IF(B24=\"\",\"\",SUMIF(入力!$W$5:$W$1340,C$3&\"-\"&TRIM($B24),入力!$H$5:$H$1347))","v":0},{"$f":"IF(C24=\"\",\"\",SUMIF(入力!$W$5:$W$1340,D$3&\"-\"&TRIM($B24),入力!$H$5:$H$1347))","v":0},{"$f":"IF(D24=\"\",\"\",SUMIF(入力!$W$5:$W$1340,E$3&\"-\"&TRIM($B24),入力!$H$5:$H$1347))","v":0},{"$f":"IF(E24=\"\",\"\",SUMIF(入力!$W$5:$W$1340,F$3&\"-\"&TRIM($B24),入力!$H$5:$H$1347))","v":0},{"$f":"IF(F24=\"\",\"\",SUMIF(入力!$W$5:$W$1340,G$3&\"-\"&TRIM($B24),入力!$H$5:$H$1347))","v":0},{"$f":"IF(G24=\"\",\"\",SUMIF(入力!$W$5:$W$1340,H$3&\"-\"&TRIM($B24),入力!$H$5:$H$1347))","v":0},{"$f":"IF(H24=\"\",\"\",SUMIF(入力!$W$5:$W$1340,I$3&\"-\"&TRIM($B24),入力!$H$5:$H$1347))","v":0},{"$f":"IF(I24=\"\",\"\",SUMIF(入力!$W$5:$W$1340,J$3&\"-\"&TRIM($B24),入力!$H$5:$H$1347))","v":0},{"$f":"IF(J24=\"\",\"\",SUMIF(入力!$W$5:$W$1340,K$3&\"-\"&TRIM($B24),入力!$H$5:$H$1347))","v":0},{"$f":"IF(K24=\"\",\"\",SUMIF(入力!$W$5:$W$1340,L$3&\"-\"&TRIM($B24),入力!$H$5:$H$1347))","v":0},{"$f":"IF(L24=\"\",\"\",SUMIF(入力!$W$5:$W$1340,M$3&\"-\"&TRIM($B24),入力!$H$5:$H$1347))","v":0},{"$f":"IF(M24=\"\",\"\",SUMIF(入力!$W$5:$W$1340,N$3&\"-\"&TRIM($B24),入力!$H$5:$H$1347))","v":0},0]
[null,"水道光熱費",{"$f":"IF(B25=\"\",\"\",SUMIF(入力!$W$5:$W$1340,C$3&\"-\"&TRIM($B25),入力!$H$5:$H$1347))","v":0},{"$f":"IF(C25=\"\",\"\",SUMIF(入力!$W$5:$W$1340,D$3&\"-\"&TRIM($B25),入力!$H$5:$H$1347))","v":0},{"$f":"IF(D25=\"\",\"\",SUMIF(入力!$W$5:$W$1340,E$3&\"-\"&TRIM($B25),入力!$H$5:$H$1347))","v":0},{"$f":"IF(E25=\"\",\"\",SUMIF(入力!$W$5:$W$1340,F$3&\"-\"&TRIM($B25),入力!$H$5:$H$1347))","v":0},{"$f":"IF(F25=\"\",\"\",SUMIF(入力!$W$5:$W$1340,G$3&\"-\"&TRIM($B25),入力!$H$5:$H$1347))","v":0},{"$f":"IF(G25=\"\",\"\",SUMIF(入力!$W$5:$W$1340,H$3&\"-\"&TRIM($B25),入力!$H$5:$H$1347))","v":0},{"$f":"IF(H25=\"\",\"\",SUMIF(入力!$W$5:$W$1340,I$3&\"-\"&TRIM($B25),入力!$H$5:$H$1347))","v":0},{"$f":"IF(I25=\"\",\"\",SUMIF(入力!$W$5:$W$1340,J$3&\"-\"&TRIM($B25),入力!$H$5:$H$1347))","v":0},{"$f":"IF(J25=\"\",\"\",SUMIF(入力!$W$5:$W$1340,K$3&\"-\"&TRIM($B25),入力!$H$5:$H$1347))","v":0},{"$f":"IF(K25=\"\",\"\",SUMIF(入力!$W$5:$W$1340,L$3&\"-\"&TRIM($B25),入力!$H$5:$H$1347))","v":0},{"$f":"IF(L25=\"\",\"\",SUMIF(入力!$W$5:$W$1340,M$3&\"-\"&TRIM($B25),入力!$H$5:$H$1347))","v":0},{"$f":"IF(M25=\"\",\"\",SUMIF(入力!$W$5:$W$1340,N$3&\"-\"&TRIM($B25),入力!$H$5:$H$1347))","v":0},0]
[null,"通信費",{"$f":"IF(B26=\"\",\"\",SUMIF(入力!$W$5:$W$1340,C$3&\"-\"&TRIM($B26),入力!$H$5:$H$1347))","v":0},{"$f":"IF(C26=\"\",\"\",SUMIF(入力!$W$5:$W$1340,D$3&\"-\"&TRIM($B26),入力!$H$5:$H$1347))","v":0},{"$f":"IF(D26=\"\",\"\",SUMIF(入力!$W$5:$W$1340,E$3&\"-\"&TRIM($B26),入力!$H$5:$H$1347))","v":0},{"$f":"IF(E26=\"\",\"\",SUMIF(入力!$W$5:$W$1340,F$3&\"-\"&TRIM($B26),入力!$H$5:$H$1347))","v":0},{"$f":"IF(F26=\"\",\"\",SUMIF(入力!$W$5:$W$1340,G$3&\"-\"&TRIM($B26),入力!$H$5:$H$1347))","v":0},{"$f":"IF(G26=\"\",\"\",SUMIF(入力!$W$5:$W$1340,H$3&\"-\"&TRIM($B26),入力!$H$5:$H$1347))","v":0},{"$f":"IF(H26=\"\",\"\",SUMIF(入力!$W$5:$W$1340,I$3&\"-\"&TRIM($B26),入力!$H$5:$H$1347))","v":0},{"$f":"IF(I26=\"\",\"\",SUMIF(入力!$W$5:$W$1340,J$3&\"-\"&TRIM($B26),入力!$H$5:$H$1347))","v":0},{"$f":"IF(J26=\"\",\"\",SUMIF(入力!$W$5:$W$1340,K$3&\"-\"&TRIM($B26),入力!$H$5:$H$1347))","v":0},{"$f":"IF(K26=\"\",\"\",SUMIF(入力!$W$5:$W$1340,L$3&\"-\"&TRIM($B26),入力!$H$5:$H$1347))","v":0},{"$f":"IF(L26=\"\",\"\",SUMIF(入力!$W$5:$W$1340,M$3&\"-\"&TRIM($B26),入力!$H$5:$H$1347))","v":0},{"$f":"IF(M26=\"\",\"\",SUMIF(入力!$W$5:$W$1340,N$3&\"-\"&TRIM($B26),入力!$H$5:$H$1347))","v":0},0]
[null,"器具備品費",{"$f":"IF(B27=\"\",\"\",SUMIF(入力!$W$5:$W$1340,C$3&\"-\"&TRIM($B27),入力!$H$5:$H$1347))","v":0},{"$f":"IF(C27=\"\",\"\",SUMIF(入力!$W$5:$W$1340,D$3&\"-\"&TRIM($B27),入力!$H$5:$H$1347))","v":0},{"$f":"IF(D27=\"\",\"\",SUMIF(入力!$W$5:$W$1340,E$3&\"-\"&TRIM($B27),入力!$H$5:$H$1347))","v":0},{"$f":"IF(E27=\"\",\"\",SUMIF(入力!$W$5:$W$1340,F$3&\"-\"&TRIM($B27),入力!$H$5:$H$1347))","v":0},{"$f":"IF(F27=\"\",\"\",SUMIF(入力!$W$5:$W$1340,G$3&\"-\"&TRIM($B27),入力!$H$5:$H$1347))","v":0},{"$f":"IF(G27=\"\",\"\",SUMIF(入力!$W$5:$W$1340,H$3&\"-\"&TRIM($B27),入力!$H$5:$H$1347))","v":0},{"$f":"IF(H27=\"\",\"\",SUMIF(入力!$W$5:$W$1340,I$3&\"-\"&TRIM($B27),入力!$H$5:$H$1347))","v":0},{"$f":"IF(I27=\"\",\"\",SUMIF(入力!$W$5:$W$1340,J$3&\"-\"&TRIM($B27),入力!$H$5:$H$1347))","v":0},{"$f":"IF(J27=\"\",\"\",SUMIF(入力!$W$5:$W$1340,K$3&\"-\"&TRIM($B27),入力!$H$5:$H$1347))","v":0},{"$f":"IF(K27=\"\",\"\",SUMIF(入力!$W$5:$W$1340,L$3&\"-\"&TRIM($B27),入力!$H$5:$H$1347))","v":0},{"$f":"IF(L27=\"\",\"\",SUMIF(入力!$W$5:$W$1340,M$3&\"-\"&TRIM($B27),入力!$H$5:$H$1347))","v":0},{"$f":"IF(M27=\"\",\"\",SUMIF(入力!$W$5:$W$1340,N$3&\"-\"&TRIM($B27),入力!$H$5:$H$1347))","v":0},0]
[null,"消耗品費",{"$f":"IF(B28=\"\",\"\",SUMIF(入力!$W$5:$W$1340,C$3&\"-\"&TRIM($B28),入力!$H$5:$H$1347))","v":0},{"$f":"IF(C28=\"\",\"\",SUMIF(入力!$W$5:$W$1340,D$3&\"-\"&TRIM($B28),入力!$H$5:$H$1347))","v":0},{"$f":"IF(D28=\"\",\"\",SUMIF(入力!$W$5:$W$1340,E$3&\"-\"&TRIM($B28),入力!$H$5:$H$1347))","v":0},{"$f":"IF(E28=\"\",\"\",SUMIF(入力!$W$5:$W$1340,F$3&\"-\"&TRIM($B28),入力!$H$5:$H$1347))","v":0},{"$f":"IF(F28=\"\",\"\",SUMIF(入力!$W$5:$W$1340,G$3&\"-\"&TRIM($B28),入力!$H$5:$H$1347))","v":0},{"$f":"IF(G28=\"\",\"\",SUMIF(入力!$W$5:$W$1340,H$3&\"-\"&TRIM($B28),入力!$H$5:$H$1347))","v":0},{"$f":"IF(H28=\"\",\"\",SUMIF(入力!$W$5:$W$1340,I$3&\"-\"&TRIM($B28),入力!$H$5:$H$1347))","v":0},{"$f":"IF(I28=\"\",\"\",SUMIF(入力!$W$5:$W$1340,J$3&\"-\"&TRIM($B28),入力!$H$5:$H$1347))","v":0},{"$f":"IF(J28=\"\",\"\",SUMIF(入力!$W$5:$W$1340,K$3&\"-\"&TRIM($B28),入力!$H$5:$H$1347))","v":0},{"$f":"IF(K28=\"\",\"\",SUMIF(入力!$W$5:$W$1340,L$3&\"-\"&TRIM($B28),入力!$H$5:$H$1347))","v":0},{"$f":"IF(L28=\"\",\"\",SUMIF(入力!$W$5:$W$1340,M$3&\"-\"&TRIM($B28),入力!$H$5:$H$1347))","v":0},{"$f":"IF(M28=\"\",\"\",SUMIF(入力!$W$5:$W$1340,N$3&\"-\"&TRIM($B28),入力!$H$5:$H$1347))","v":0},0]
[null,"印刷費",{"$f":"IF(B29=\"\",\"\",SUMIF(入力!$W$5:$W$1340,C$3&\"-\"&TRIM($B29),入力!$H$5:$H$1347))","v":0},{"$f":"IF(C29=\"\",\"\",SUMIF(入力!$W$5:$W$1340,D$3&\"-\"&TRIM($B29),入力!$H$5:$H$1347))","v":0},{"$f":"IF(D29=\"\",\"\",SUMIF(入力!$W$5:$W$1340,E$3&\"-\"&TRIM($B29),入力!$H$5:$H$1347))","v":0},{"$f":"IF(E29=\"\",\"\",SUMIF(入力!$W$5:$W$1340,F$3&\"-\"&TRIM($B29),入力!$H$5:$H$1347))","v":0},{"$f":"IF(F29=\"\",\"\",SUMIF(入力!$W$5:$W$1340,G$3&\"-\"&TRIM($B29),入力!$H$5:$H$1347))","v":0},{"$f":"IF(G29=\"\",\"\",SUMIF(入力!$W$5:$W$1340,H$3&\"-\"&TRIM($B29),入力!$H$5:$H$1347))","v":0},{"$f":"IF(H29=\"\",\"\",SUMIF(入力!$W$5:$W$1340,I$3&\"-\"&TRIM($B29),入力!$H$5:$H$1347))","v":0},{"$f":"IF(I29=\"\",\"\",SUMIF(入力!$W$5:$W$1340,J$3&\"-\"&TRIM($B29),入力!$H$5:$H$1347))","v":0},{"$f":"IF(J29=\"\",\"\",SUMIF(入力!$W$5:$W$1340,K$3&\"-\"&TRIM($B29),入力!$H$5:$H$1347))","v":0},{"$f":"IF(K29=\"\",\"\",SUMIF(入力!$W$5:$W$1340,L$3&\"-\"&TRIM($B29),入力!$H$5:$H$1347))","v":0},{"$f":"IF(L29=\"\",\"\",SUMIF(入力!$W$5:$W$1340,M$3&\"-\"&TRIM($B29),入力!$H$5:$H$1347))","v":0},{"$f":"IF(M29=\"\",\"\",SUMIF(入力!$W$5:$W$1340,N$3&\"-\"&TRIM($B29),入力!$H$5:$H$1347))","v":0},0]
[null,"会議費",{"$f":"IF(B30=\"\",\"\",SUMIF(入力!$W$5:$W$1340,C$3&\"-\"&TRIM($B30),入力!$H$5:$H$1347))","v":0},{"$f":"IF(C30=\"\",\"\",SUMIF(入力!$W$5:$W$1340,D$3&\"-\"&TRIM($B30),入力!$H$5:$H$1347))","v":0},{"$f":"IF(D30=\"\",\"\",SUMIF(入力!$W$5:$W$1340,E$3&\"-\"&TRIM($B30),入力!$H$5:$H$1347))","v":0},{"$f":"IF(E30=\"\",\"\",SUMIF(入力!$W$5:$W$1340,F$3&\"-\"&TRIM($B30),入力!$H$5:$H$1347))","v":0},{"$f":"IF(F30=\"\",\"\",SUMIF(入力!$W$5:$W$1340,G$3&\"-\"&TRIM($B30),入力!$H$5:$H$1347))","v":0},{"$f":"IF(G30=\"\",\"\",SUMIF(入力!$W$5:$W$1340,H$3&\"-\"&TRIM($B30),入力!$H$5:$H$1347))","v":0},{"$f":"IF(H30=\"\",\"\",SUMIF(入力!$W$5:$W$1340,I$3&\"-\"&TRIM($B30),入力!$H$5:$H$1347))","v":0},{"$f":"IF(I30=\"\",\"\",SUMIF(入力!$W$5:$W$1340,J$3&\"-\"&TRIM($B30),入力!$H$5:$H$1347))","v":0},{"$f":"IF(J30=\"\",\"\",SUMIF(入力!$W$5:$W$1340,K$3&\"-\"&TRIM($B30),入力!$H$5:$H$1347))","v":0},{"$f":"IF(K30=\"\",\"\",SUMIF(入力!$W$5:$W$1340,L$3&\"-\"&TRIM($B30),入力!$H$5:$H$1347))","v":0},{"$f":"IF(L30=\"\",\"\",SUMIF(入力!$W$5:$W$1340,M$3&\"-\"&TRIM($B30),入力!$H$5:$H$1347))","v":0},{"$f":"IF(M30=\"\",\"\",SUMIF(入力!$W$5:$W$1340,N$3&\"-\"&TRIM($B30),入力!$H$5:$H$1347))","v":0},0]
[null,"修繕費",{"$f":"IF(B31=\"\",\"\",SUMIF(入力!$W$5:$W$1340,C$3&\"-\"&TRIM($B31),入力!$H$5:$H$1347))","v":0},{"$f":"IF(C31=\"\",\"\",SUMIF(入力!$W$5:$W$1340,D$3&\"-\"&TRIM($B31),入力!$H$5:$H$1347))","v":0},{"$f":"IF(D31=\"\",\"\",SUMIF(入力!$W$5:$W$1340,E$3&\"-\"&TRIM($B31),入力!$H$5:$H$1347))","v":0},{"$f":"IF(E31=\"\",\"\",SUMIF(入力!$W$5:$W$1340,F$3&\"-\"&TRIM($B31),入力!$H$5:$H$1347))","v":0},{"$f":"IF(F31=\"\",\"\",SUMIF(入力!$W$5:$W$1340,G$3&\"-\"&TRIM($B31),入力!$H$5:$H$1347))","v":0},{"$f":"IF(G31=\"\",\"\",SUMIF(入力!$W$5:$W$1340,H$3&\"-\"&TRIM($B31),入力!$H$5:$H$1347))","v":0},{"$f":"IF(H31=\"\",\"\",SUMIF(入力!$W$5:$W$1340,I$3&\"-\"&TRIM($B31),入力!$H$5:$H$1347))","v":0},{"$f":"IF(I31=\"\",\"\",SUMIF(入力!$W$5:$W$1340,J$3&\"-\"&TRIM($B31),入力!$H$5:$H$1347))","v":0},{"$f":"IF(J31=\"\",\"\",SUMIF(入力!$W$5:$W$1340,K$3&\"-\"&TRIM($B31),入力!$H$5:$H$1347))","v":0},{"$f":"IF(K31=\"\",\"\",SUMIF(入力!$W$5:$W$1340,L$3&\"-\"&TRIM($B31),入力!$H$5:$H$1347))","v":0},{"$f":"IF(L31=\"\",\"\",SUMIF(入力!$W$5:$W$1340,M$3&\"-\"&TRIM($B31),入力!$H$5:$H$1347))","v":0},{"$f":"IF(M31=\"\",\"\",SUMIF(入力!$W$5:$W$1340,N$3&\"-\"&TRIM($B31),入力!$H$5:$H$1347))","v":0},0]
[null,"旅費交通費",{"$f":"IF(B32=\"\",\"\",SUMIF(入力!$W$5:$W$1340,C$3&\"-\"&TRIM($B32),入力!$H$5:$H$1347))","v":0},{"$f":"IF(C32=\"\",\"\",SUMIF(入力!$W$5:$W$1340,D$3&\"-\"&TRIM($B32),入力!$H$5:$H$1347))","v":0},{"$f":"IF(D32=\"\",\"\",SUMIF(入力!$W$5:$W$1340,E$3&\"-\"&TRIM($B32),入力!$H$5:$H$1347))","v":0},{"$f":"IF(E32=\"\",\"\",SUMIF(入力!$W$5:$W$1340,F$3&\"-\"&TRIM($B32),入力!$H$5:$H$1347))","v":0},{"$f":"IF(F32=\"\",\"\",SUMIF(入力!$W$5:$W$1340,G$3&\"-\"&TRIM($B32),入力!$H$5:$H$1347))","v":0},{"$f":"IF(G32=\"\",\"\",SUMIF(入力!$W$5:$W$1340,H$3&\"-\"&TRIM($B32),入力!$H$5:$H$1347))","v":0},{"$f":"IF(H32=\"\",\"\",SUMIF(入力!$W$5:$W$1340,I$3&\"-\"&TRIM($B32),入力!$H$5:$H$1347))","v":0},{"$f":"IF(I32=\"\",\"\",SUMIF(入力!$W$5:$W$1340,J$3&\"-\"&TRIM($B32),入力!$H$5:$H$1347))","v":0},{"$f":"IF(J32=\"\",\"\",SUMIF(入力!$W$5:$W$1340,K$3&\"-\"&TRIM($B32),入力!$H$5:$H$1347))","v":0},{"$f":"IF(K32=\"\",\"\",SUMIF(入力!$W$5:$W$1340,L$3&\"-\"&TRIM($B32),入力!$H$5:$H$1347))","v":0},{"$f":"IF(L32=\"\",\"\",SUMIF(入力!$W$5:$W$1340,M$3&\"-\"&TRIM($B32),入力!$H$5:$H$1347))","v":0},{"$f":"IF(M32=\"\",\"\",SUMIF(入力!$W$5:$W$1340,N$3&\"-\"&TRIM($B32),入力!$H$5:$H$1347))","v":0},0]
[null,"支援費",null,null,null,null,null,null,null,null,null,null,null,null,0]
[null,"　支援用物資購入",{"$f":"IF(B34=\"\",\"\",SUMIF(入力!$X$5:$X$1340,C$3&\"-\"&$B$33&TRIM($B34),入力!$H$5:$H$1347))","v":0},{"$f":"IF(C34=\"\",\"\",SUMIF(入力!$X$5:$X$1340,D$3&\"-\"&$B$33&TRIM($B34),入力!$H$5:$H$1347))","v":0},{"$f":"IF(D34=\"\",\"\",SUMIF(入力!$X$5:$X$1340,E$3&\"-\"&$B$33&TRIM($B34),入力!$H$5:$H$1347))","v":0},{"$f":"IF(E34=\"\",\"\",SUMIF(入力!$X$5:$X$1340,F$3&\"-\"&$B$33&TRIM($B34),入力!$H$5:$H$1347))","v":0},{"$f":"IF(F34=\"\",\"\",SUMIF(入力!$X$5:$X$1340,G$3&\"-\"&$B$33&TRIM($B34),入力!$H$5:$H$1347))","v":0},{"$f":"IF(G34=\"\",\"\",SUMIF(入力!$X$5:$X$1340,H$3&\"-\"&$B$33&TRIM($B34),入力!$H$5:$H$1347))","v":0},{"$f":"IF(H34=\"\",\"\",SUMIF(入力!$X$5:$X$1340,I$3&\"-\"&$B$33&TRIM($B34),入力!$H$5:$H$1347))","v":0},{"$f":"IF(I34=\"\",\"\",SUMIF(入力!$X$5:$X$1340,J$3&\"-\"&$B$33&TRIM($B34),入力!$H$5:$H$1347))","v":0},{"$f":"IF(J34=\"\",\"\",SUMIF(入力!$X$5:$X$1340,K$3&\"-\"&$B$33&TRIM($B34),入力!$H$5:$H$1347))","v":0},{"$f":"IF(K34=\"\",\"\",SUMIF(入力!$X$5:$X$1340,L$3&\"-\"&$B$33&TRIM($B34),入力!$H$5:$H$1347))","v":0},{"$f":"IF(L34=\"\",\"\",SUMIF(入力!$X$5:$X$1340,M$3&\"-\"&$B$33&TRIM($B34),入力!$H$5:$H$1347))","v":0},{"$f":"IF(M34=\"\",\"\",SUMIF(入力!$X$5:$X$1340,N$3&\"-\"&$B$33&TRIM($B34),入力!$H$5:$H$1347))","v":0},0]
[null,"　支援費支給",{"$f":"IF(B35=\"\",\"\",SUMIF(入力!$X$5:$X$1340,C$3&\"-\"&$B$33&TRIM($B35),入力!$H$5:$H$1347))","v":0},{"$f":"IF(C35=\"\",\"\",SUMIF(入力!$X$5:$X$1340,D$3&\"-\"&$B$33&TRIM($B35),入力!$H$5:$H$1347))","v":0},{"$f":"IF(D35=\"\",\"\",SUMIF(入力!$X$5:$X$1340,E$3&\"-\"&$B$33&TRIM($B35),入力!$H$5:$H$1347))","v":0},{"$f":"IF(E35=\"\",\"\",SUMIF(入力!$X$5:$X$1340,F$3&\"-\"&$B$33&TRIM($B35),入力!$H$5:$H$1347))","v":0},{"$f":"IF(F35=\"\",\"\",SUMIF(入力!$X$5:$X$1340,G$3&\"-\"&$B$33&TRIM($B35),入力!$H$5:$H$1347))","v":0},{"$f":"IF(G35=\"\",\"\",SUMIF(入力!$X$5:$X$1340,H$3&\"-\"&$B$33&TRIM($B35),入力!$H$5:$H$1347))","v":0},{"$f":"IF(H35=\"\",\"\",SUMIF(入力!$X$5:$X$1340,I$3&\"-\"&$B$33&TRIM($B35),入力!$H$5:$H$1347))","v":0},{"$f":"IF(I35=\"\",\"\",SUMIF(入力!$X$5:$X$1340,J$3&\"-\"&$B$33&TRIM($B35),入力!$H$5:$H$1347))","v":0},{"$f":"IF(J35=\"\",\"\",SUMIF(入力!$X$5:$X$1340,K$3&\"-\"&$B$33&TRIM($B35),入力!$H$5:$H$1347))","v":0},{"$f":"IF(K35=\"\",\"\",SUMIF(入力!$X$5:$X$1340,L$3&\"-\"&$B$33&TRIM($B35),入力!$H$5:$H$1347))","v":0},{"$f":"IF(L35=\"\",\"\",SUMIF(入力!$X$5:$X$1340,M$3&\"-\"&$B$33&TRIM($B35),入力!$H$5:$H$1347))","v":0},{"$f":"IF(M35=\"\",\"\",SUMIF(入力!$X$5:$X$1340,N$3&\"-\"&$B$33&TRIM($B35),入力!$H$5:$H$1347))","v":0},0]
[null,"　食糧費",{"$f":"IF(B36=\"\",\"\",SUMIF(入力!$X$5:$X$1340,C$3&\"-\"&$B$33&TRIM($B36),入力!$H$5:$H$1347))","v":0},{"$f":"IF(C36=\"\",\"\",SUMIF(入力!$X$5:$X$1340,D$3&\"-\"&$B$33&TRIM($B36),入力!$H$5:$H$1347))","v":0},{"$f":"IF(D36=\"\",\"\",SUMIF(入力!$X$5:$X$1340,E$3&\"-\"&$B$33&TRIM($B36),入力!$H$5:$H$1347))","v":0},{"$f":"IF(E36=\"\",\"\",SUMIF(入力!$X$5:$X$1340,F$3&\"-\"&$B$33&TRIM($B36),入力!$H$5:$H$1347))","v":0},{"$f":"IF(F36=\"\",\"\",SUMIF(入力!$X$5:$X$1340,G$3&\"-\"&$B$33&TRIM($B36),入力!$H$5:$H$1347))","v":0},{"$f":"IF(G36=\"\",\"\",SUMIF(入力!$X$5:$X$1340,H$3&\"-\"&$B$33&TRIM($B36),入力!$H$5:$H$1347))","v":0},{"$f":"IF(H36=\"\",\"\",SUMIF(入力!$X$5:$X$1340,I$3&\"-\"&$B$33&TRIM($B36),入力!$H$5:$H$1347))","v":0},{"$f":"IF(I36=\"\",\"\",SUMIF(入力!$X$5:$X$1340,J$3&\"-\"&$B$33&TRIM($B36),入力!$H$5:$H$1347))","v":0},{"$f":"IF(J36=\"\",\"\",SUMIF(入力!$X$5:$X$1340,K$3&\"-\"&$B$33&TRIM($B36),入力!$H$5:$H$1347))","v":0},{"$f":"IF(K36=\"\",\"\",SUMIF(入力!$X$5:$X$1340,L$3&\"-\"&$B$33&TRIM($B36),入力!$H$5:$H$1347))","v":0},{"$f":"IF(L36=\"\",\"\",SUMIF(入力!$X$5:$X$1340,M$3&\"-\"&$B$33&TRIM($B36),入力!$H$5:$H$1347))","v":0},{"$f":"IF(M36=\"\",\"\",SUMIF(入力!$X$5:$X$1340,N$3&\"-\"&$B$33&TRIM($B36),入力!$H$5:$H$1347))","v":0},0]
[null,"雑費",{"$f":"IF(B37=\"\",\"\",SUMIF(入力!$W$5:$W$1340,C$3&\"-\"&TRIM($B37),入力!$H$5:$H$1347))","v":0},{"$f":"IF(C37=\"\",\"\",SUMIF(入力!$W$5:$W$1340,D$3&\"-\"&TRIM($B37),入力!$H$5:$H$1347))","v":0},{"$f":"IF(D37=\"\",\"\",SUMIF(入力!$W$5:$W$1340,E$3&\"-\"&TRIM($B37),入力!$H$5:$H$1347))","v":0},{"$f":"IF(E37=\"\",\"\",SUMIF(入力!$W$5:$W$1340,F$3&\"-\"&TRIM($B37),入力!$H$5:$H$1347))","v":0},{"$f":"IF(F37=\"\",\"\",SUMIF(入力!$W$5:$W$1340,G$3&\"-\"&TRIM($B37),入力!$H$5:$H$1347))","v":0},{"$f":"IF(G37=\"\",\"\",SUMIF(入力!$W$5:$W$1340,H$3&\"-\"&TRIM($B37),入力!$H$5:$H$1347))","v":0},{"$f":"IF(H37=\"\",\"\",SUMIF(入力!$W$5:$W$1340,I$3&\"-\"&TRIM($B37),入力!$H$5:$H$1347))","v":0},{"$f":"IF(I37=\"\",\"\",SUMIF(入力!$W$5:$W$1340,J$3&\"-\"&TRIM($B37),入力!$H$5:$H$1347))","v":0},{"$f":"IF(J37=\"\",\"\",SUMIF(入力!$W$5:$W$1340,K$3&\"-\"&TRIM($B37),入力!$H$5:$H$1347))","v":0},{"$f":"IF(K37=\"\",\"\",SUMIF(入力!$W$5:$W$1340,L$3&\"-\"&TRIM($B37),入力!$H$5:$H$1347))","v":0},{"$f":"IF(L37=\"\",\"\",SUMIF(入力!$W$5:$W$1340,M$3&\"-\"&TRIM($B37),入力!$H$5:$H$1347))","v":0},{"$f":"IF(M37=\"\",\"\",SUMIF(入力!$W$5:$W$1340,N$3&\"-\"&TRIM($B37),入力!$H$5:$H$1347))","v":0},0]
[null,"合計",{"$f":"SUM(C13:C37)","v":0},{"$f":"SUM(D13:D37)","v":0},0,0,0,0,0,0,0,0,0,0,0]
[null,"不明金",null,null,null,null,null,null,null,null,null,null,null,null,0]
[null,"差引き合計",{"$f":"C8-C38","v":0},{"$f":"D8-D39-D38","v":0},{"$f":"E8-E39-E38","v":6},0,0,0,0,0,0,0,0,0,6]
[]
[null,"立替金",{"$f":"IF(B42=\"\",\"\",SUMIF(入力!$W$5:$W$1340,C$3&\"-\"&TRIM($B42),入力!$H$5:$H$1347))","v":0},{"$f":"IF(C42=\"\",\"\",SUMIF(入力!$W$5:$W$1340,D$3&\"-\"&TRIM($B42),入力!$H$5:$H$1347))","v":0},{"$f":"IF(D42=\"\",\"\",SUMIF(入力!$W$5:$W$1340,E$3&\"-\"&TRIM($B42),入力!$H$5:$H$1347))","v":0},{"$f":"IF(E42=\"\",\"\",SUMIF(入力!$W$5:$W$1340,F$3&\"-\"&TRIM($B42),入力!$H$5:$H$1347))","v":0},{"$f":"IF(F42=\"\",\"\",SUMIF(入力!$W$5:$W$1340,G$3&\"-\"&TRIM($B42),入力!$H$5:$H$1347))","v":0},{"$f":"IF(G42=\"\",\"\",SUMIF(入力!$W$5:$W$1340,H$3&\"-\"&TRIM($B42),入力!$H$5:$H$1347))","v":0},{"$f":"IF(H42=\"\",\"\",SUMIF(入力!$W$5:$W$1340,I$3&\"-\"&TRIM($B42),入力!$H$5:$H$1347))","v":0},{"$f":"IF(I42=\"\",\"\",SUMIF(入力!$W$5:$W$1340,J$3&\"-\"&TRIM($B42),入力!$H$5:$H$1347))","v":0},{"$f":"IF(J42=\"\",\"\",SUMIF(入力!$W$5:$W$1340,K$3&\"-\"&TRIM($B42),入力!$H$5:$H$1347))","v":0},{"$f":"IF(K42=\"\",\"\",SUMIF(入力!$W$5:$W$1340,L$3&\"-\"&TRIM($B42),入力!$H$5:$H$1347))","v":0},{"$f":"IF(L42=\"\",\"\",SUMIF(入力!$W$5:$W$1340,M$3&\"-\"&TRIM($B42),入力!$H$5:$H$1347))","v":0},{"$f":"IF(M42=\"\",\"\",SUMIF(入力!$W$5:$W$1340,N$3&\"-\"&TRIM($B42),入力!$H$5:$H$1347))","v":0},{"$f":"SUM(C42:N42)","v":0}]
[]
[null,null,null,null,null,null,null,null,null,null,null,null,null,null,{"$f":"O40-O42","v":6}]